Workbook

Sheet Jan-ET 1
I3: WOCAT Indicators-based Reporting Checklist
C7: S/N | D7: Logframe Result | E7: Responsible Consortium Partner | F7: Questions on reporting requirements | K7: Response | L7: If Yes, consider filling the form who link is provided below | M7: Reporting status/ recommendation | N7: Colleague who Reported/ to whom reporting is delegated (Name & e-mail)
C8: 1 | D8: Impact | E8: All ET & Secretariat | F8: During the reporting period, have you become aware of a project or programme that is using WOCAT tools, methods and SLM evidence? | L8: Form 1
C9: 2 | D9: Outcome 2 | E9: All ET & Secretariat | F9: During the reporting period, have you become aware of policies or strategies that were developed using WOCAT tools, methods and knowledge | L9: Form 2
C10: 3 | D10: Output 1.2 | E10: Executive team | F10: Did you receive requests for capacity development during the reporting period? | L10: Form 3
G11: While you conduct the capacity development, consider using this register to ease reporting in Form 4 at a later time | L11: Event Register
C12: 4 | D12: Output 1.2 | E12: Executive team | F12: Did you conduct capacity development events (trainings) during the reporting period? | L12: Form 4
C13: 5 | D13: Output 2.1 | E13: ICARDA CDE | F13: During the reporting period, did you become aware of any mention of WOCAT in media (documents or platforms) of key stakeholder institutions? | L13: Form 5
C14: 6 | D14: Output 2.1 | E14: ICARDA CDE | F14: Are you aware of any publications in which WOCAT has been mentioned during the reporting period? | L14: Form 6
C15: 7 | D15: Output 2.1 | E15: ICARDA CDE | F15: Did your institution deliver presentations at UNCCD, UNFCCC and CBD events during the reporting period? | L15: Form 7
C16: 8 | D16: Output 2.2 | E16: CDE | F16: Did your institution conduct any capacity development/training event for UNCCD parties and other partners? | L16: Form 8
C17: 9 | D17: Output 2.2 | E17: CDE | F17: Has your institution supported any SLM/LDN project during the reporting period? | L17: Form 9
C18: 10 | D18: Output 2.4 | E18: CDE | F18: Did a member of your institution contribute to a global report or assessment? | L18: Form 10
C19: 11 | D19: Output 2.4 | E19: CDE | F19: Did your institution conduct a joint activity with the Rio conventions? | L19: Form 11
F21: Higher-level result whose responsibility should be cross-cutting
F22: Responsibility in POWB shown as ET, rather than consortium partner
M24: I have reported in the form
K25: Yes | M25: Already reported in the form by colleague
K26: No | M26: Delegate reporting

Sheet Jan-ET 2
I3: WOCAT Indicators-based Reporting Checklist
C7: S/N | D7: Logframe Result | E7: Responsible Consortium Partner | F7: Questions on reporting requirements | K7: Response | L7: If Yes, consider filling the form who link is provided below | M7: Reporting status/ recommendation | N7: Colleague who Reported/ to whom reporting is delegated (Name & e-mail)
C8: 1 | D8: Impact | E8: All ET & Secretariat | F8: During the reporting period, have you become aware of a project or programme that is using WOCAT tools, methods and SLM evidence? | L8: Form 1
C9: 2 | D9: Outcome 2 | E9: All ET & Secretariat | F9: During the reporting period, have you become aware of policies or strategies that were developed using WOCAT tools, methods and knowledge | L9: Form 2
C10: 3 | D10: Output 1.2 | E10: Executive team | F10: Did you receive requests for capacity development during the reporting period? | L10: Form 3
G11: While you conduct the capacity development, consider using this register to ease reporting in Form 4 at a later time | L11: Event Register
C12: 4 | D12: Output 1.2 | E12: Executive team | F12: Did you conduct capacity development events (trainings) during the reporting period? | L12: Form 4
C13: 5 | D13: Output 2.1 | E13: ICARDA CDE | F13: During the reporting period, did you become aware of any mention of WOCAT in media (documents or platforms) of key stakeholder institutions? | L13: Form 5
C14: 6 | D14: Output 2.1 | E14: ICARDA CDE | F14: Are you aware of any publications in which WOCAT has been mentioned during the reporting period? | L14: Form 6
C15: 7 | D15: Output 2.1 | E15: ICARDA CDE | F15: Did your institution deliver presentations at UNCCD, UNFCCC and CBD events during the reporting period? | L15: Form 7
C16: 8 | D16: Output 2.2 | E16: CDE | F16: Did your institution conduct any capacity development/training event for UNCCD parties and other partners? | L16: Form 8
C17: 9 | D17: Output 2.2 | E17: CDE | F17: Has your institution supported any SLM/LDN project during the reporting period? | L17: Form 9
C18: 10 | D18: Output 2.4 | E18: CDE | F18: Did a member of your institution contribute to a global report or assessment? | L18: Form 10
C19: 11 | D19: Output 2.4 | E19: CDE | F19: Did your institution conduct a joint activity with the Rio conventions? | L19: Form 11
F21: Higher-level result whose responsibility should be cross-cutting
F22: Responsibility in POWB shown as ET, rather than consortium partner
M24: I have reported in the form
K25: Yes | M25: Already reported in the form by colleague
K26: No | M26: Delegate reporting

Sheet Feb ET 1
I3: WOCAT Indicators-based Reporting Checklist
C7: S/N | D7: Logframe Result | E7: Responsible Consortium Partner | F7: Questions on reporting requirements | K7: Response | L7: If Yes, consider filling the form who link is provided below | M7: Reporting status/ recommendation | N7: Colleague who Reported/ to whom reporting is delegated (Name & e-mail)
C8: 1 | D8: Impact | E8: All ET & Secretariat | F8: During the reporting period, have you become aware of a project or programme that is using WOCAT tools, methods and SLM evidence? | L8: Form 1
C9: 2 | D9: Outcome 2 | E9: All ET & Secretariat | F9: During the reporting period, have you become aware of policies or strategies that were developed using WOCAT tools, methods and knowledge | L9: Form 2
C10: 3 | D10: Output 1.2 | E10: Executive team | F10: Did you receive requests for capacity development during the reporting period? | L10: Form 3
G11: While you conduct the capacity development, consider using this register to ease reporting in Form 4 at a later time | L11: Event Register
C12: 4 | D12: Output 1.2 | E12: Executive team | F12: Did you conduct capacity development events (trainings) during the reporting period? | L12: Form 4
C13: 5 | D13: Output 2.1 | E13: ICARDA CDE | F13: During the reporting period, did you become aware of any mention of WOCAT in media (documents or platforms) of key stakeholder institutions? | L13: Form 5
C14: 6 | D14: Output 2.1 | E14: ICARDA CDE | F14: Are you aware of any publications in which WOCAT has been mentioned during the reporting period? | L14: Form 6
C15: 7 | D15: Output 2.1 | E15: ICARDA CDE | F15: Did your institution deliver presentations at UNCCD, UNFCCC and CBD events during the reporting period? | L15: Form 7
C16: 8 | D16: Output 2.2 | E16: CDE | F16: Did your institution conduct any capacity development/training event for UNCCD parties and other partners? | L16: Form 8
C17: 9 | D17: Output 2.2 | E17: CDE | F17: Has your institution supported any SLM/LDN project during the reporting period? | L17: Form 9
C18: 10 | D18: Output 2.4 | E18: CDE | F18: Did a member of your institution contribute to a global report or assessment? | L18: Form 10
C19: 11 | D19: Output 2.4 | E19: CDE | F19: Did your institution conduct a joint activity with the Rio conventions? | L19: Form 11
F21: Higher-level result whose responsibility should be cross-cutting
F22: Responsibility in POWB shown as ET, rather than consortium partner
M24: I have reported in the form
K25: Yes | M25: Already reported in the form by colleague
K26: No | M26: Delegate reporting

Sheet Feb ET 2
I3: WOCAT Indicators-based Reporting Checklist
C7: S/N | D7: Logframe Result | E7: Responsible Consortium Partner | F7: Questions on reporting requirements | K7: Response | L7: If Yes, consider filling the form who link is provided below | M7: Reporting status/ recommendation | N7: Colleague who Reported/ to whom reporting is delegated (Name & e-mail)
C8: 1 | D8: Impact | E8: All ET & Secretariat | F8: During the reporting period, have you become aware of a project or programme that is using WOCAT tools, methods and SLM evidence? | L8: Form 1
C9: 2 | D9: Outcome 2 | E9: All ET & Secretariat | F9: During the reporting period, have you become aware of policies or strategies that were developed using WOCAT tools, methods and knowledge | L9: Form 2
C10: 3 | D10: Output 1.2 | E10: Executive team | F10: Did you receive requests for capacity development during the reporting period? | L10: Form 3
G11: While you conduct the capacity development, consider using this register to ease reporting in Form 4 at a later time | L11: Event Register
C12: 4 | D12: Output 1.2 | E12: Executive team | F12: Did you conduct capacity development events (trainings) during the reporting period? | L12: Form 4
C13: 5 | D13: Output 2.1 | E13: ICARDA CDE | F13: During the reporting period, did you become aware of any mention of WOCAT in media (documents or platforms) of key stakeholder institutions? | L13: Form 5
C14: 6 | D14: Output 2.1 | E14: ICARDA CDE | F14: Are you aware of any publications in which WOCAT has been mentioned during the reporting period? | L14: Form 6
C15: 7 | D15: Output 2.1 | E15: ICARDA CDE | F15: Did your institution deliver presentations at UNCCD, UNFCCC and CBD events during the reporting period? | L15: Form 7
C16: 8 | D16: Output 2.2 | E16: CDE | F16: Did your institution conduct any capacity development/training event for UNCCD parties and other partners? | L16: Form 8
C17: 9 | D17: Output 2.2 | E17: CDE | F17: Has your institution supported any SLM/LDN project during the reporting period? | L17: Form 9
C18: 10 | D18: Output 2.4 | E18: CDE | F18: Did a member of your institution contribute to a global report or assessment? | L18: Form 10
C19: 11 | D19: Output 2.4 | E19: CDE | F19: Did your institution conduct a joint activity with the Rio conventions? | L19: Form 11
F21: Higher-level result whose responsibility should be cross-cutting
F22: Responsibility in POWB shown as ET, rather than consortium partner
M24: I have reported in the form
K25: Yes | M25: Already reported in the form by colleague
K26: No | M26: Delegate reporting

Sheet Mar ET 1
I3: WOCAT Indicators-based Reporting Checklist
C7: S/N | D7: Logframe Result | E7: Responsible Consortium Partner | F7: Questions on reporting requirements | K7: Response | L7: If Yes, consider filling the form who link is provided below | M7: Reporting status/ recommendation | N7: Colleague who Reported/ to whom reporting is delegated (Name & e-mail)
C8: 1 | D8: Impact | E8: All ET & Secretariat | F8: During the reporting period, have you become aware of a project or programme that is using WOCAT tools, methods and SLM evidence? | L8: Form 1
C9: 2 | D9: Outcome 2 | E9: All ET & Secretariat | F9: During the reporting period, have you become aware of policies or strategies that were developed using WOCAT tools, methods and knowledge | L9: Form 2
C10: 3 | D10: Output 1.2 | E10: Executive team | F10: Did you receive requests for capacity development during the reporting period? | L10: Form 3
G11: While you conduct the capacity development, consider using this register to ease reporting in Form 4 at a later time | L11: Event Register
C12: 4 | D12: Output 1.2 | E12: Executive team | F12: Did you conduct capacity development events (trainings) during the reporting period? | L12: Form 4
C13: 5 | D13: Output 2.1 | E13: ICARDA CDE | F13: During the reporting period, did you become aware of any mention of WOCAT in media (documents or platforms) of key stakeholder institutions? | L13: Form 5
C14: 6 | D14: Output 2.1 | E14: ICARDA CDE | F14: Are you aware of any publications in which WOCAT has been mentioned during the reporting period? | L14: Form 6
C15: 7 | D15: Output 2.1 | E15: ICARDA CDE | F15: Did your institution deliver presentations at UNCCD, UNFCCC and CBD events during the reporting period? | L15: Form 7
C16: 8 | D16: Output 2.2 | E16: CDE | F16: Did your institution conduct any capacity development/training event for UNCCD parties and other partners? | L16: Form 8
C17: 9 | D17: Output 2.2 | E17: CDE | F17: Has your institution supported any SLM/LDN project during the reporting period? | L17: Form 9
C18: 10 | D18: Output 2.4 | E18: CDE | F18: Did a member of your institution contribute to a global report or assessment? | L18: Form 10
C19: 11 | D19: Output 2.4 | E19: CDE | F19: Did your institution conduct a joint activity with the Rio conventions? | L19: Form 11
F21: Higher-level result whose responsibility should be cross-cutting
F22: Responsibility in POWB shown as ET, rather than consortium partner
M24: I have reported in the form
K25: Yes | M25: Already reported in the form by colleague
K26: No | M26: Delegate reporting

Sheet Mar ET 2
I3: WOCAT Indicators-based Reporting Checklist
C7: S/N | D7: Logframe Result | E7: Responsible Consortium Partner | F7: Questions on reporting requirements | K7: Response | L7: If Yes, consider filling the form who link is provided below | M7: Reporting status/ recommendation | N7: Colleague who Reported/ to whom reporting is delegated (Name & e-mail)
C8: 1 | D8: Impact | E8: All ET & Secretariat | F8: During the reporting period, have you become aware of a project or programme that is using WOCAT tools, methods and SLM evidence? | L8: Form 1
C9: 2 | D9: Outcome 2 | E9: All ET & Secretariat | F9: During the reporting period, have you become aware of policies or strategies that were developed using WOCAT tools, methods and knowledge | L9: Form 2
C10: 3 | D10: Output 1.2 | E10: Executive team | F10: Did you receive requests for capacity development during the reporting period? | L10: Form 3
G11: While you conduct the capacity development, consider using this register to ease reporting in Form 4 at a later time | L11: Event Register
C12: 4 | D12: Output 1.2 | E12: Executive team | F12: Did you conduct capacity development events (trainings) during the reporting period? | L12: Form 4
C13: 5 | D13: Output 2.1 | E13: ICARDA CDE | F13: During the reporting period, did you become aware of any mention of WOCAT in media (documents or platforms) of key stakeholder institutions? | L13: Form 5
C14: 6 | D14: Output 2.1 | E14: ICARDA CDE | F14: Are you aware of any publications in which WOCAT has been mentioned during the reporting period? | L14: Form 6
C15: 7 | D15: Output 2.1 | E15: ICARDA CDE | F15: Did your institution deliver presentations at UNCCD, UNFCCC and CBD events during the reporting period? | L15: Form 7
C16: 8 | D16: Output 2.2 | E16: CDE | F16: Did your institution conduct any capacity development/training event for UNCCD parties and other partners? | L16: Form 8
C17: 9 | D17: Output 2.2 | E17: CDE | F17: Has your institution supported any SLM/LDN project during the reporting period? | L17: Form 9
C18: 10 | D18: Output 2.4 | E18: CDE | F18: Did a member of your institution contribute to a global report or assessment? | L18: Form 10
C19: 11 | D19: Output 2.4 | E19: CDE | F19: Did your institution conduct a joint activity with the Rio conventions? | L19: Form 11
F21: Higher-level result whose responsibility should be cross-cutting
F22: Responsibility in POWB shown as ET, rather than consortium partner
M24: I have reported in the form
K25: Yes | M25: Already reported in the form by colleague
K26: No | M26: Delegate reporting

Sheet Apr ET 1
I3: WOCAT Indicators-based Reporting Checklist
C7: S/N | D7: Logframe Result | E7: Responsible Consortium Partner | F7: Questions on reporting requirements | K7: Response | L7: If Yes, consider filling the form who link is provided below | M7: Reporting status/ recommendation | N7: Colleague who Reported/ to whom reporting is delegated (Name & e-mail)
C8: 1 | D8: Impact | E8: All ET & Secretariat | F8: During the reporting period, have you become aware of a project or programme that is using WOCAT tools, methods and SLM evidence? | L8: Form 1
C9: 2 | D9: Outcome 2 | E9: All ET & Secretariat | F9: During the reporting period, have you become aware of policies or strategies that were developed using WOCAT tools, methods and knowledge | L9: Form 2
C10: 3 | D10: Output 1.2 | E10: Executive team | F10: Did you receive requests for capacity development during the reporting period? | L10: Form 3
G11: While you conduct the capacity development, consider using this register to ease reporting in Form 4 at a later time | L11: Event Register
C12: 4 | D12: Output 1.2 | E12: Executive team | F12: Did you conduct capacity development events (trainings) during the reporting period? | L12: Form 4
C13: 5 | D13: Output 2.1 | E13: ICARDA CDE | F13: During the reporting period, did you become aware of any mention of WOCAT in media (documents or platforms) of key stakeholder institutions? | L13: Form 5
C14: 6 | D14: Output 2.1 | E14: ICARDA CDE | F14: Are you aware of any publications in which WOCAT has been mentioned during the reporting period? | L14: Form 6
C15: 7 | D15: Output 2.1 | E15: ICARDA CDE | F15: Did your institution deliver presentations at UNCCD, UNFCCC and CBD events during the reporting period? | L15: Form 7
C16: 8 | D16: Output 2.2 | E16: CDE | F16: Did your institution conduct any capacity development/training event for UNCCD parties and other partners? | L16: Form 8
C17: 9 | D17: Output 2.2 | E17: CDE | F17: Has your institution supported any SLM/LDN project during the reporting period? | L17: Form 9
C18: 10 | D18: Output 2.4 | E18: CDE | F18: Did a member of your institution contribute to a global report or assessment? | L18: Form 10
C19: 11 | D19: Output 2.4 | E19: CDE | F19: Did your institution conduct a joint activity with the Rio conventions? | L19: Form 11
F21: Higher-level result whose responsibility should be cross-cutting
F22: Responsibility in POWB shown as ET, rather than consortium partner
M24: I have reported in the form
K25: Yes | M25: Already reported in the form by colleague
K26: No | M26: Delegate reporting

Sheet Apr ET 2
I3: WOCAT Indicators-based Reporting Checklist
C7: S/N | D7: Logframe Result | E7: Responsible Consortium Partner | F7: Questions on reporting requirements | K7: Response | L7: If Yes, consider filling the form who link is provided below | M7: Reporting status/ recommendation | N7: Colleague who Reported/ to whom reporting is delegated (Name & e-mail)
C8: 1 | D8: Impact | E8: All ET & Secretariat | F8: During the reporting period, have you become aware of a project or programme that is using WOCAT tools, methods and SLM evidence? | L8: Form 1
C9: 2 | D9: Outcome 2 | E9: All ET & Secretariat | F9: During the reporting period, have you become aware of policies or strategies that were developed using WOCAT tools, methods and knowledge | L9: Form 2
C10: 3 | D10: Output 1.2 | E10: Executive team | F10: Did you receive requests for capacity development during the reporting period? | L10: Form 3
G11: While you conduct the capacity development, consider using this register to ease reporting in Form 4 at a later time | L11: Event Register
C12: 4 | D12: Output 1.2 | E12: Executive team | F12: Did you conduct capacity development events (trainings) during the reporting period? | L12: Form 4
C13: 5 | D13: Output 2.1 | E13: ICARDA CDE | F13: During the reporting period, did you become aware of any mention of WOCAT in media (documents or platforms) of key stakeholder institutions? | L13: Form 5
C14: 6 | D14: Output 2.1 | E14: ICARDA CDE | F14: Are you aware of any publications in which WOCAT has been mentioned during the reporting period? | L14: Form 6
C15: 7 | D15: Output 2.1 | E15: ICARDA CDE | F15: Did your institution deliver presentations at UNCCD, UNFCCC and CBD events during the reporting period? | L15: Form 7
C16: 8 | D16: Output 2.2 | E16: CDE | F16: Did your institution conduct any capacity development/training event for UNCCD parties and other partners? | L16: Form 8
C17: 9 | D17: Output 2.2 | E17: CDE | F17: Has your institution supported any SLM/LDN project during the reporting period? | L17: Form 9
C18: 10 | D18: Output 2.4 | E18: CDE | F18: Did a member of your institution contribute to a global report or assessment? | L18: Form 10
C19: 11 | D19: Output 2.4 | E19: CDE | F19: Did your institution conduct a joint activity with the Rio conventions? | L19: Form 11
F21: Higher-level result whose responsibility should be cross-cutting
F22: Responsibility in POWB shown as ET, rather than consortium partner
M24: I have reported in the form
K25: Yes | M25: Already reported in the form by colleague
K26: No | M26: Delegate reporting

Sheet May ET 1
I3: WOCAT Indicators-based Reporting Checklist
C7: S/N | D7: Logframe Result | E7: Responsible Consortium Partner | F7: Questions on reporting requirements | K7: Response | L7: If Yes, consider filling the form who link is provided below | M7: Reporting status/ recommendation | N7: Colleague who Reported/ to whom reporting is delegated (Name & e-mail)
C8: 1 | D8: Impact | E8: All ET & Secretariat | F8: During the reporting period, have you become aware of a project or programme that is using WOCAT tools, methods and SLM evidence? | L8: Form 1
C9: 2 | D9: Outcome 2 | E9: All ET & Secretariat | F9: During the reporting period, have you become aware of policies or strategies that were developed using WOCAT tools, methods and knowledge | L9: Form 2
C10: 3 | D10: Output 1.2 | E10: Executive team | F10: Did you receive requests for capacity development during the reporting period? | L10: Form 3
G11: While you conduct the capacity development, consider using this register to ease reporting in Form 4 at a later time | L11: Event Register
C12: 4 | D12: Output 1.2 | E12: Executive team | F12: Did you conduct capacity development events (trainings) during the reporting period? | L12: Form 4
C13: 5 | D13: Output 2.1 | E13: ICARDA CDE | F13: During the reporting period, did you become aware of any mention of WOCAT in media (documents or platforms) of key stakeholder institutions? | L13: Form 5
C14: 6 | D14: Output 2.1 | E14: ICARDA CDE | F14: Are you aware of any publications in which WOCAT has been mentioned during the reporting period? | L14: Form 6
C15: 7 | D15: Output 2.1 | E15: ICARDA CDE | F15: Did your institution deliver presentations at UNCCD, UNFCCC and CBD events during the reporting period? | L15: Form 7
C16: 8 | D16: Output 2.2 | E16: CDE | F16: Did your institution conduct any capacity development/training event for UNCCD parties and other partners? | L16: Form 8
C17: 9 | D17: Output 2.2 | E17: CDE | F17: Has your institution supported any SLM/LDN project during the reporting period? | L17: Form 9
C18: 10 | D18: Output 2.4 | E18: CDE | F18: Did a member of your institution contribute to a global report or assessment? | L18: Form 10
C19: 11 | D19: Output 2.4 | E19: CDE | F19: Did your institution conduct a joint activity with the Rio conventions? | L19: Form 11
F21: Higher-level result whose responsibility should be cross-cutting
F22: Responsibility in POWB shown as ET, rather than consortium partner
M24: I have reported in the form
K25: Yes | M25: Already reported in the form by colleague
K26: No | M26: Delegate reporting

Sheet May ET 2
I3: WOCAT Indicators-based Reporting Checklist
C7: S/N | D7: Logframe Result | E7: Responsible Consortium Partner | F7: Questions on reporting requirements | K7: Response | L7: If Yes, consider filling the form who link is provided below | M7: Reporting status/ recommendation | N7: Colleague who Reported/ to whom reporting is delegated (Name & e-mail)
C8: 1 | D8: Impact | E8: All ET & Secretariat | F8: During the reporting period, have you become aware of a project or programme that is using WOCAT tools, methods and SLM evidence? | L8: Form 1
C9: 2 | D9: Outcome 2 | E9: All ET & Secretariat | F9: During the reporting period, have you become aware of policies or strategies that were developed using WOCAT tools, methods and knowledge | L9: Form 2
C10: 3 | D10: Output 1.2 | E10: Executive team | F10: Did you receive requests for capacity development during the reporting period? | L10: Form 3
G11: While you conduct the capacity development, consider using this register to ease reporting in Form 4 at a later time | L11: Event Register
C12: 4 | D12: Output 1.2 | E12: Executive team | F12: Did you conduct capacity development events (trainings) during the reporting period? | L12: Form 4
C13: 5 | D13: Output 2.1 | E13: ICARDA CDE | F13: During the reporting period, did you become aware of any mention of WOCAT in media (documents or platforms) of key stakeholder institutions? | L13: Form 5
C14: 6 | D14: Output 2.1 | E14: ICARDA CDE | F14: Are you aware of any publications in which WOCAT has been mentioned during the reporting period? | L14: Form 6
C15: 7 | D15: Output 2.1 | E15: ICARDA CDE | F15: Did your institution deliver presentations at UNCCD, UNFCCC and CBD events during the reporting period? | L15: Form 7
C16: 8 | D16: Output 2.2 | E16: CDE | F16: Did your institution conduct any capacity development/training event for UNCCD parties and other partners? | L16: Form 8
C17: 9 | D17: Output 2.2 | E17: CDE | F17: Has your institution supported any SLM/LDN project during the reporting period? | L17: Form 9
C18: 10 | D18: Output 2.4 | E18: CDE | F18: Did a member of your institution contribute to a global report or assessment? | L18: Form 10
C19: 11 | D19: Output 2.4 | E19: CDE | F19: Did your institution conduct a joint activity with the Rio conventions? | L19: Form 11
F21: Higher-level result whose responsibility should be cross-cutting
F22: Responsibility in POWB shown as ET, rather than consortium partner
M24: I have reported in the form
K25: Yes | M25: Already reported in the form by colleague
K26: No | M26: Delegate reporting

Sheet Jun ET 1
I3: WOCAT Indicators-based Reporting Checklist
C7: S/N | D7: Logframe Result | E7: Responsible Consortium Partner | F7: Questions on reporting requirements | K7: Response | L7: If Yes, consider filling the form who link is provided below | M7: Reporting status/ recommendation | N7: Colleague who Reported/ to whom reporting is delegated (Name & e-mail)
C8: 1 | D8: Impact | E8: All ET & Secretariat | F8: During the reporting period, have you become aware of a project or programme that is using WOCAT tools, methods and SLM evidence? | L8: Form 1
C9: 2 | D9: Outcome 2 | E9: All ET & Secretariat | F9: During the reporting period, have you become aware of policies or strategies that were developed using WOCAT tools, methods and knowledge | L9: Form 2
C10: 3 | D10: Output 1.2 | E10: Executive team | F10: Did you receive requests for capacity development during the reporting period? | L10: Form 3
G11: While you conduct the capacity development, consider using this register to ease reporting in Form 4 at a later time | L11: Event Register
C12: 4 | D12: Output 1.2 | E12: Executive team | F12: Did you conduct capacity development events (trainings) during the reporting period? | L12: Form 4
C13: 5 | D13: Output 2.1 | E13: ICARDA CDE | F13: During the reporting period, did you become aware of any mention of WOCAT in media (documents or platforms) of key stakeholder institutions? | L13: Form 5
C14: 6 | D14: Output 2.1 | E14: ICARDA CDE | F14: Are you aware of any publications in which WOCAT has been mentioned during the reporting period? | L14: Form 6
C15: 7 | D15: Output 2.1 | E15: ICARDA CDE | F15: Did your institution deliver presentations at UNCCD, UNFCCC and CBD events during the reporting period? | L15: Form 7
C16: 8 | D16: Output 2.2 | E16: CDE | F16: Did your institution conduct any capacity development/training event for UNCCD parties and other partners? | L16: Form 8
C17: 9 | D17: Output 2.2 | E17: CDE | F17: Has your institution supported any SLM/LDN project during the reporting period? | L17: Form 9
C18: 10 | D18: Output 2.4 | E18: CDE | F18: Did a member of your institution contribute to a global report or assessment? | L18: Form 10
C19: 11 | D19: Output 2.4 | E19: CDE | F19: Did your institution conduct a joint activity with the Rio conventions? | L19: Form 11
F21: Higher-level result whose responsibility should be cross-cutting
F22: Responsibility in POWB shown as ET, rather than consortium partner
M24: I have reported in the form
K25: Yes | M25: Already reported in the form by colleague
K26: No | M26: Delegate reporting

Sheet Jun ET 2
I3: WOCAT Indicators-based Reporting Checklist
C7: S/N | D7: Logframe Result | E7: Responsible Consortium Partner | F7: Questions on reporting requirements | K7: Response | L7: If Yes, consider filling the form who link is provided below | M7: Reporting status/ recommendation | N7: Colleague who Reported/ to whom reporting is delegated (Name & e-mail)
C8: 1 | D8: Impact | E8: All ET & Secretariat | F8: During the reporting period, have you become aware of a project or programme that is using WOCAT tools, methods and SLM evidence? | L8: Form 1
C9: 2 | D9: Outcome 2 | E9: All ET & Secretariat | F9: During the reporting period, have you become aware of policies or strategies that were developed using WOCAT tools, methods and knowledge | L9: Form 2
C10: 3 | D10: Output 1.2 | E10: Executive team | F10: Did you receive requests for capacity development during the reporting period? | L10: Form 3
G11: While you conduct the capacity development, consider using this register to ease reporting in Form 4 at a later time | L11: Event Register
C12: 4 | D12: Output 1.2 | E12: Executive team | F12: Did you conduct capacity development events (trainings) during the reporting period? | L12: Form 4
C13: 5 | D13: Output 2.1 | E13: ICARDA CDE | F13: During the reporting period, did you become aware of any mention of WOCAT in media (documents or platforms) of key stakeholder institutions? | L13: Form 5
C14: 6 | D14: Output 2.1 | E14: ICARDA CDE | F14: Are you aware of any publications in which WOCAT has been mentioned during the reporting period? | L14: Form 6
C15: 7 | D15: Output 2.1 | E15: ICARDA CDE | F15: Did your institution deliver presentations at UNCCD, UNFCCC and CBD events during the reporting period? | L15: Form 7
C16: 8 | D16: Output 2.2 | E16: CDE | F16: Did your institution conduct any capacity development/training event for UNCCD parties and other partners? | L16: Form 8
C17: 9 | D17: Output 2.2 | E17: CDE | F17: Has your institution supported any SLM/LDN project during the reporting period? | L17: Form 9
C18: 10 | D18: Output 2.4 | E18: CDE | F18: Did a member of your institution contribute to a global report or assessment? | L18: Form 10
C19: 11 | D19: Output 2.4 | E19: CDE | F19: Did your institution conduct a joint activity with the Rio conventions? | L19: Form 11
F21: Higher-level result whose responsibility should be cross-cutting
F22: Responsibility in POWB shown as ET, rather than consortium partner
M24: I have reported in the form
K25: Yes | M25: Already reported in the form by colleague
K26: No | M26: Delegate reporting

Sheet Jul ET 1
I3: WOCAT Indicators-based Reporting Checklist
C7: S/N | D7: Logframe Result | E7: Responsible Consortium Partner | F7: Questions on reporting requirements | K7: Response | L7: If Yes, consider filling the form who link is provided below | M7: Reporting status/ recommendation | N7: Colleague who Reported/ to whom reporting is delegated (Name & e-mail)
C8: 1 | D8: Impact | E8: All ET & Secretariat | F8: During the reporting period, have you become aware of a project or programme that is using WOCAT tools, methods and SLM evidence? | L8: Form 1
C9: 2 | D9: Outcome 2 | E9: All ET & Secretariat | F9: During the reporting period, have you become aware of policies or strategies that were developed using WOCAT tools, methods and knowledge | L9: Form 2
C10: 3 | D10: Output 1.2 | E10: Executive team | F10: Did you receive requests for capacity development during the reporting period? | L10: Form 3
G11: While you conduct the capacity development, consider using this register to ease reporting in Form 4 at a later time | L11: Event Register
C12: 4 | D12: Output 1.2 | E12: Executive team | F12: Did you conduct capacity development events (trainings) during the reporting period? | L12: Form 4
C13: 5 | D13: Output 2.1 | E13: ICARDA CDE | F13: During the reporting period, did you become aware of any mention of WOCAT in media (documents or platforms) of key stakeholder institutions? | L13: Form 5
C14: 6 | D14: Output 2.1 | E14: ICARDA CDE | F14: Are you aware of any publications in which WOCAT has been mentioned during the reporting period? | L14: Form 6
C15: 7 | D15: Output 2.1 | E15: ICARDA CDE | F15: Did your institution deliver presentations at UNCCD, UNFCCC and CBD events during the reporting period? | L15: Form 7
C16: 8 | D16: Output 2.2 | E16: CDE | F16: Did your institution conduct any capacity development/training event for UNCCD parties and other partners? | L16: Form 8
C17: 9 | D17: Output 2.2 | E17: CDE | F17: Has your institution supported any SLM/LDN project during the reporting period? | L17: Form 9
C18: 10 | D18: Output 2.4 | E18: CDE | F18: Did a member of your institution contribute to a global report or assessment? | L18: Form 10
C19: 11 | D19: Output 2.4 | E19: CDE | F19: Did your institution conduct a joint activity with the Rio conventions? | L19: Form 11
F21: Higher-level result whose responsibility should be cross-cutting
F22: Responsibility in POWB shown as ET, rather than consortium partner
M24: I have reported in the form
K25: Yes | M25: Already reported in the form by colleague
K26: No | M26: Delegate reporting

Sheet Jul ET 2
I3: WOCAT Indicators-based Reporting Checklist
C7: S/N | D7: Logframe Result | E7: Responsible Consortium Partner | F7: Questions on reporting requirements | K7: Response | L7: If Yes, consider filling the form who link is provided below | M7: Reporting status/ recommendation | N7: Colleague who Reported/ to whom reporting is delegated (Name & e-mail)
C8: 1 | D8: Impact | E8: All ET & Secretariat | F8: During the reporting period, have you become aware of a project or programme that is using WOCAT tools, methods and SLM evidence? | L8: Form 1
C9: 2 | D9: Outcome 2 | E9: All ET & Secretariat | F9: During the reporting period, have you become aware of policies or strategies that were developed using WOCAT tools, methods and knowledge | L9: Form 2
C10: 3 | D10: Output 1.2 | E10: Executive team | F10: Did you receive requests for capacity development during the reporting period? | L10: Form 3
G11: While you conduct the capacity development, consider using this register to ease reporting in Form 4 at a later time | L11: Event Register
C12: 4 | D12: Output 1.2 | E12: Executive team | F12: Did you conduct capacity development events (trainings) during the reporting period? | L12: Form 4
C13: 5 | D13: Output 2.1 | E13: ICARDA CDE | F13: During the reporting period, did you become aware of any mention of WOCAT in media (documents or platforms) of key stakeholder institutions? | L13: Form 5
C14: 6 | D14: Output 2.1 | E14: ICARDA CDE | F14: Are you aware of any publications in which WOCAT has been mentioned during the reporting period? | L14: Form 6
C15: 7 | D15: Output 2.1 | E15: ICARDA CDE | F15: Did your institution deliver presentations at UNCCD, UNFCCC and CBD events during the reporting period? | L15: Form 7
C16: 8 | D16: Output 2.2 | E16: CDE | F16: Did your institution conduct any capacity development/training event for UNCCD parties and other partners? | L16: Form 8
C17: 9 | D17: Output 2.2 | E17: CDE | F17: Has your institution supported any SLM/LDN project during the reporting period? | L17: Form 9
C18: 10 | D18: Output 2.4 | E18: CDE | F18: Did a member of your institution contribute to a global report or assessment? | L18: Form 10
C19: 11 | D19: Output 2.4 | E19: CDE | F19: Did your institution conduct a joint activity with the Rio conventions? | L19: Form 11
F21: Higher-level result whose responsibility should be cross-cutting
F22: Responsibility in POWB shown as ET, rather than consortium partner
M24: I have reported in the form
K25: Yes | M25: Already reported in the form by colleague
K26: No | M26: Delegate reporting

Sheet Aug ET 1
I3: WOCAT Indicators-based Reporting Checklist
C7: S/N | D7: Logframe Result | E7: Responsible Consortium Partner | F7: Questions on reporting requirements | K7: Response | L7: If Yes, consider filling the form who link is provided below | M7: Reporting status/ recommendation | N7: Colleague who Reported/ to whom reporting is delegated (Name & e-mail)
C8: 1 | D8: Impact | E8: All ET & Secretariat | F8: During the reporting period, have you become aware of a project or programme that is using WOCAT tools, methods and SLM evidence? | L8: Form 1
C9: 2 | D9: Outcome 2 | E9: All ET & Secretariat | F9: During the reporting period, have you become aware of policies or strategies that were developed using WOCAT tools, methods and knowledge | L9: Form 2
C10: 3 | D10: Output 1.2 | E10: Executive team | F10: Did you receive requests for capacity development during the reporting period? | L10: Form 3
G11: While you conduct the capacity development, consider using this register to ease reporting in Form 4 at a later time | L11: Event Register
C12: 4 | D12: Output 1.2 | E12: Executive team | F12: Did you conduct capacity development events (trainings) during the reporting period? | L12: Form 4
C13: 5 | D13: Output 2.1 | E13: ICARDA CDE | F13: During the reporting period, did you become aware of any mention of WOCAT in media (documents or platforms) of key stakeholder institutions? | L13: Form 5
C14: 6 | D14: Output 2.1 | E14: ICARDA CDE | F14: Are you aware of any publications in which WOCAT has been mentioned during the reporting period? | L14: Form 6
C15: 7 | D15: Output 2.1 | E15: ICARDA CDE | F15: Did your institution deliver presentations at UNCCD, UNFCCC and CBD events during the reporting period? | L15: Form 7
C16: 8 | D16: Output 2.2 | E16: CDE | F16: Did your institution conduct any capacity development/training event for UNCCD parties and other partners? | L16: Form 8
C17: 9 | D17: Output 2.2 | E17: CDE | F17: Has your institution supported any SLM/LDN project during the reporting period? | L17: Form 9
C18: 10 | D18: Output 2.4 | E18: CDE | F18: Did a member of your institution contribute to a global report or assessment? | L18: Form 10
C19: 11 | D19: Output 2.4 | E19: CDE | F19: Did your institution conduct a joint activity with the Rio conventions? | L19: Form 11
F21: Higher-level result whose responsibility should be cross-cutting
F22: Responsibility in POWB shown as ET, rather than consortium partner
M24: I have reported in the form
K25: Yes | M25: Already reported in the form by colleague
K26: No | M26: Delegate reporting

Sheet Aug ET 2
I3: WOCAT Indicators-based Reporting Checklist
C7: S/N | D7: Logframe Result | E7: Responsible Consortium Partner | F7: Questions on reporting requirements | K7: Response | L7: If Yes, consider filling the form who link is provided below | M7: Reporting status/ recommendation | N7: Colleague who Reported/ to whom reporting is delegated (Name & e-mail)
C8: 1 | D8: Impact | E8: All ET & Secretariat | F8: During the reporting period, have you become aware of a project or programme that is using WOCAT tools, methods and SLM evidence? | L8: Form 1
C9: 2 | D9: Outcome 2 | E9: All ET & Secretariat | F9: During the reporting period, have you become aware of policies or strategies that were developed using WOCAT tools, methods and knowledge | L9: Form 2
C10: 3 | D10: Output 1.2 | E10: Executive team | F10: Did you receive requests for capacity development during the reporting period? | L10: Form 3
G11: While you conduct the capacity development, consider using this register to ease reporting in Form 4 at a later time | L11: Event Register
C12: 4 | D12: Output 1.2 | E12: Executive team | F12: Did you conduct capacity development events (trainings) during the reporting period? | L12: Form 4
C13: 5 | D13: Output 2.1 | E13: ICARDA CDE | F13: During the reporting period, did you become aware of any mention of WOCAT in media (documents or platforms) of key stakeholder institutions? | L13: Form 5
C14: 6 | D14: Output 2.1 | E14: ICARDA CDE | F14: Are you aware of any publications in which WOCAT has been mentioned during the reporting period? | L14: Form 6
C15: 7 | D15: Output 2.1 | E15: ICARDA CDE | F15: Did your institution deliver presentations at UNCCD, UNFCCC and CBD events during the reporting period? | L15: Form 7
C16: 8 | D16: Output 2.2 | E16: CDE | F16: Did your institution conduct any capacity development/training event for UNCCD parties and other partners? | L16: Form 8
C17: 9 | D17: Output 2.2 | E17: CDE | F17: Has your institution supported any SLM/LDN project during the reporting period? | L17: Form 9
C18: 10 | D18: Output 2.4 | E18: CDE | F18: Did a member of your institution contribute to a global report or assessment? | L18: Form 10
C19: 11 | D19: Output 2.4 | E19: CDE | F19: Did your institution conduct a joint activity with the Rio conventions? | L19: Form 11
F21: Higher-level result whose responsibility should be cross-cutting
F22: Responsibility in POWB shown as ET, rather than consortium partner
M24: I have reported in the form
K25: Yes | M25: Already reported in the form by colleague
K26: No | M26: Delegate reporting

Sheet Sept ET 1
I3: WOCAT Indicators-based Reporting Checklist
C7: S/N | D7: Logframe Result | E7: Responsible Consortium Partner | F7: Questions on reporting requirements | K7: Response | L7: If Yes, consider filling the form who link is provided below | M7: Reporting status/ recommendation | N7: Colleague who Reported/ to whom reporting is delegated (Name & e-mail)
C8: 1 | D8: Impact | E8: All ET & Secretariat | F8: During the reporting period, have you become aware of a project or programme that is using WOCAT tools, methods and SLM evidence? | L8: Form 1
C9: 2 | D9: Outcome 2 | E9: All ET & Secretariat | F9: During the reporting period, have you become aware of policies or strategies that were developed using WOCAT tools, methods and knowledge | L9: Form 2
C10: 3 | D10: Output 1.2 | E10: Executive team | F10: Did you receive requests for capacity development during the reporting period? | L10: Form 3
G11: While you conduct the capacity development, consider using this register to ease reporting in Form 4 at a later time | L11: Event Register
C12: 4 | D12: Output 1.2 | E12: Executive team | F12: Did you conduct capacity development events (trainings) during the reporting period? | L12: Form 4
C13: 5 | D13: Output 2.1 | E13: ICARDA CDE | F13: During the reporting period, did you become aware of any mention of WOCAT in media (documents or platforms) of key stakeholder institutions? | L13: Form 5
C14: 6 | D14: Output 2.1 | E14: ICARDA CDE | F14: Are you aware of any publications in which WOCAT has been mentioned during the reporting period? | L14: Form 6
C15: 7 | D15: Output 2.1 | E15: ICARDA CDE | F15: Did your institution deliver presentations at UNCCD, UNFCCC and CBD events during the reporting period? | L15: Form 7
C16: 8 | D16: Output 2.2 | E16: CDE | F16: Did your institution conduct any capacity development/training event for UNCCD parties and other partners? | L16: Form 8
C17: 9 | D17: Output 2.2 | E17: CDE | F17: Has your institution supported any SLM/LDN project during the reporting period? | L17: Form 9
C18: 10 | D18: Output 2.4 | E18: CDE | F18: Did a member of your institution contribute to a global report or assessment? | L18: Form 10
C19: 11 | D19: Output 2.4 | E19: CDE | F19: Did your institution conduct a joint activity with the Rio conventions? | L19: Form 11
F21: Higher-level result whose responsibility should be cross-cutting
F22: Responsibility in POWB shown as ET, rather than consortium partner
M24: I have reported in the form
K25: Yes | M25: Already reported in the form by colleague
K26: No | M26: Delegate reporting

Sheet Sept ET 2
I3: WOCAT Indicators-based Reporting Checklist
C7: S/N | D7: Logframe Result | E7: Responsible Consortium Partner | F7: Questions on reporting requirements | K7: Response | L7: If Yes, consider filling the form who link is provided below | M7: Reporting status/ recommendation | N7: Colleague who Reported/ to whom reporting is delegated (Name & e-mail)
C8: 1 | D8: Impact | E8: All ET & Secretariat | F8: During the reporting period, have you become aware of a project or programme that is using WOCAT tools, methods and SLM evidence? | L8: Form 1
C9: 2 | D9: Outcome 2 | E9: All ET & Secretariat | F9: During the reporting period, have you become aware of policies or strategies that were developed using WOCAT tools, methods and knowledge | L9: Form 2
C10: 3 | D10: Output 1.2 | E10: Executive team | F10: Did you receive requests for capacity development during the reporting period? | L10: Form 3
G11: While you conduct the capacity development, consider using this register to ease reporting in Form 4 at a later time | L11: Event Register
C12: 4 | D12: Output 1.2 | E12: Executive team | F12: Did you conduct capacity development events (trainings) during the reporting period? | L12: Form 4
C13: 5 | D13: Output 2.1 | E13: ICARDA CDE | F13: During the reporting period, did you become aware of any mention of WOCAT in media (documents or platforms) of key stakeholder institutions? | L13: Form 5
C14: 6 | D14: Output 2.1 | E14: ICARDA CDE | F14: Are you aware of any publications in which WOCAT has been mentioned during the reporting period? | L14: Form 6
C15: 7 | D15: Output 2.1 | E15: ICARDA CDE | F15: Did your institution deliver presentations at UNCCD, UNFCCC and CBD events during the reporting period? | L15: Form 7
C16: 8 | D16: Output 2.2 | E16: CDE | F16: Did your institution conduct any capacity development/training event for UNCCD parties and other partners? | L16: Form 8
C17: 9 | D17: Output 2.2 | E17: CDE | F17: Has your institution supported any SLM/LDN project during the reporting period? | L17: Form 9
C18: 10 | D18: Output 2.4 | E18: CDE | F18: Did a member of your institution contribute to a global report or assessment? | L18: Form 10
C19: 11 | D19: Output 2.4 | E19: CDE | F19: Did your institution conduct a joint activity with the Rio conventions? | L19: Form 11
F21: Higher-level result whose responsibility should be cross-cutting
F22: Responsibility in POWB shown as ET, rather than consortium partner
M24: I have reported in the form
K25: Yes | M25: Already reported in the form by colleague
K26: No | M26: Delegate reporting

Sheet Oct ET 1
I3: WOCAT Indicators-based Reporting Checklist
C7: S/N | D7: Logframe Result | E7: Responsible Consortium Partner | F7: Questions on reporting requirements | K7: Response | L7: If Yes, consider filling the form who link is provided below | M7: Reporting status/ recommendation | N7: Colleague who Reported/ to whom reporting is delegated (Name & e-mail)
C8: 1 | D8: Impact | E8: All ET & Secretariat | F8: During the reporting period, have you become aware of a project or programme that is using WOCAT tools, methods and SLM evidence? | L8: Form 1
C9: 2 | D9: Outcome 2 | E9: All ET & Secretariat | F9: During the reporting period, have you become aware of policies or strategies that were developed using WOCAT tools, methods and knowledge | L9: Form 2
C10: 3 | D10: Output 1.2 | E10: Executive team | F10: Did you receive requests for capacity development during the reporting period? | L10: Form 3
G11: While you conduct the capacity development, consider using this register to ease reporting in Form 4 at a later time | L11: Event Register
C12: 4 | D12: Output 1.2 | E12: Executive team | F12: Did you conduct capacity development events (trainings) during the reporting period? | L12: Form 4
C13: 5 | D13: Output 2.1 | E13: ICARDA CDE | F13: During the reporting period, did you become aware of any mention of WOCAT in media (documents or platforms) of key stakeholder institutions? | L13: Form 5
C14: 6 | D14: Output 2.1 | E14: ICARDA CDE | F14: Are you aware of any publications in which WOCAT has been mentioned during the reporting period? | L14: Form 6
C15: 7 | D15: Output 2.1 | E15: ICARDA CDE | F15: Did your institution deliver presentations at UNCCD, UNFCCC and CBD events during the reporting period? | L15: Form 7
C16: 8 | D16: Output 2.2 | E16: CDE | F16: Did your institution conduct any capacity development/training event for UNCCD parties and other partners? | L16: Form 8
C17: 9 | D17: Output 2.2 | E17: CDE | F17: Has your institution supported any SLM/LDN project during the reporting period? | L17: Form 9
C18: 10 | D18: Output 2.4 | E18: CDE | F18: Did a member of your institution contribute to a global report or assessment? | L18: Form 10
C19: 11 | D19: Output 2.4 | E19: CDE | F19: Did your institution conduct a joint activity with the Rio conventions? | L19: Form 11
F21: Higher-level result whose responsibility should be cross-cutting
F22: Responsibility in POWB shown as ET, rather than consortium partner
M24: I have reported in the form
K25: Yes | M25: Already reported in the form by colleague
K26: No | M26: Delegate reporting

Sheet Oct ET 2
I3: WOCAT Indicators-based Reporting Checklist
C7: S/N | D7: Logframe Result | E7: Responsible Consortium Partner | F7: Questions on reporting requirements | K7: Response | L7: If Yes, consider filling the form who link is provided below | M7: Reporting status/ recommendation | N7: Colleague who Reported/ to whom reporting is delegated (Name & e-mail)
C8: 1 | D8: Impact | E8: All ET & Secretariat | F8: During the reporting period, have you become aware of a project or programme that is using WOCAT tools, methods and SLM evidence? | L8: Form 1
C9: 2 | D9: Outcome 2 | E9: All ET & Secretariat | F9: During the reporting period, have you become aware of policies or strategies that were developed using WOCAT tools, methods and knowledge | L9: Form 2
C10: 3 | D10: Output 1.2 | E10: Executive team | F10: Did you receive requests for capacity development during the reporting period? | L10: Form 3
G11: While you conduct the capacity development, consider using this register to ease reporting in Form 4 at a later time | L11: Event Register
C12: 4 | D12: Output 1.2 | E12: Executive team | F12: Did you conduct capacity development events (trainings) during the reporting period? | L12: Form 4
C13: 5 | D13: Output 2.1 | E13: ICARDA CDE | F13: During the reporting period, did you become aware of any mention of WOCAT in media (documents or platforms) of key stakeholder institutions? | L13: Form 5
C14: 6 | D14: Output 2.1 | E14: ICARDA CDE | F14: Are you aware of any publications in which WOCAT has been mentioned during the reporting period? | L14: Form 6
C15: 7 | D15: Output 2.1 | E15: ICARDA CDE | F15: Did your institution deliver presentations at UNCCD, UNFCCC and CBD events during the reporting period? | L15: Form 7
C16: 8 | D16: Output 2.2 | E16: CDE | F16: Did your institution conduct any capacity development/training event for UNCCD parties and other partners? | L16: Form 8
C17: 9 | D17: Output 2.2 | E17: CDE | F17: Has your institution supported any SLM/LDN project during the reporting period? | L17: Form 9
C18: 10 | D18: Output 2.4 | E18: CDE | F18: Did a member of your institution contribute to a global report or assessment? | L18: Form 10
C19: 11 | D19: Output 2.4 | E19: CDE | F19: Did your institution conduct a joint activity with the Rio conventions? | L19: Form 11
F21: Higher-level result whose responsibility should be cross-cutting
F22: Responsibility in POWB shown as ET, rather than consortium partner
M24: I have reported in the form
K25: Yes | M25: Already reported in the form by colleague
K26: No | M26: Delegate reporting

Sheet ET- 10 Nov
I3: WOCAT Indicators-based Reporting Checklist
C7: S/N | D7: Logframe Result | E7: Responsible Consortium Partner | F7: Questions on reporting requirements | K7: Response | L7: If Yes, consider filling the form who link is provided below | M7: Reporting status/ recommendation | N7: Colleague who Reported/ to whom reporting is delegated (Name & e-mail)
C8: 1 | D8: Impact | E8: All ET & Secretariat | F8: During the reporting period, have you become aware of a project or programme that is using WOCAT tools, methods and SLM evidence? | L8: Form 1
C9: 2 | D9: Outcome 2 | E9: All ET & Secretariat | F9: During the reporting period, have you become aware of policies or strategies that were developed using WOCAT tools, methods and knowledge | L9: Form 2
C10: 3 | D10: Output 1.2 | E10: Executive team | F10: Did you receive requests for capacity development during the reporting period? | L10: Form 3
G11: While you conduct the capacity development, consider using this register to ease reporting in Form 4 at a later time | L11: Event Register
C12: 4 | D12: Output 1.2 | E12: Executive team | F12: Did you conduct capacity development events (trainings) during the reporting period? | L12: Form 4
C13: 5 | D13: Output 2.1 | E13: ICARDA CDE | F13: During the reporting period, did you become aware of any mention of WOCAT in media (documents or platforms) of key stakeholder institutions? | L13: Form 5
C14: 6 | D14: Output 2.1 | E14: ICARDA CDE | F14: Are you aware of any publications in which WOCAT has been mentioned during the reporting period? | L14: Form 6
C15: 7 | D15: Output 2.1 | E15: ICARDA CDE | F15: Did your institution deliver presentations at UNCCD, UNFCCC and CBD events during the reporting period? | L15: Form 7
C16: 8 | D16: Output 2.2 | E16: CDE | F16: Did your institution conduct any capacity development/training event for UNCCD parties and other partners? | L16: Form 8
C17: 9 | D17: Output 2.2 | E17: CDE | F17: Has your institution supported any SLM/LDN project during the reporting period? | L17: Form 9
C18: 10 | D18: Output 2.4 | E18: CDE | F18: Did a member of your institution contribute to a global report or assessment? | L18: Form 10
C19: 11 | D19: Output 2.4 | E19: CDE | F19: Did your institution conduct a joint activity with the Rio conventions? | L19: Form 11
F21: Higher-level result whose responsibility should be cross-cutting
F22: Responsibility in POWB shown as ET, rather than consortium partner
M24: I have reported in the form
M25: Already reported in the form by colleague
M26: Delegate reporting
K31: Yes
K32: No

Sheet Nov ET 2
I3: WOCAT Indicators-based Reporting Checklist
C7: S/N | D7: Logframe Result | E7: Responsible Consortium Partner | F7: Questions on reporting requirements | K7: Response | L7: If Yes, consider filling the form who link is provided below | M7: Reporting status/ recommendation | N7: Colleague who Reported/ to whom reporting is delegated (Name & e-mail)
C8: 1 | D8: Impact | E8: All ET & Secretariat | F8: During the reporting period, have you become aware of a project or programme that is using WOCAT tools, methods and SLM evidence? | L8: Form 1
C9: 2 | D9: Outcome 2 | E9: All ET & Secretariat | F9: During the reporting period, have you become aware of policies or strategies that were developed using WOCAT tools, methods and knowledge | L9: Form 2
C10: 3 | D10: Output 1.2 | E10: Executive team | F10: Did you receive requests for capacity development during the reporting period? | L10: Form 3
G11: While you conduct the capacity development, consider using this register to ease reporting in Form 4 at a later time | L11: Event Register
C12: 4 | D12: Output 1.2 | E12: Executive team | F12: Did you conduct capacity development events (trainings) during the reporting period? | L12: Form 4
C13: 5 | D13: Output 2.1 | E13: ICARDA CDE | F13: During the reporting period, did you become aware of any mention of WOCAT in media (documents or platforms) of key stakeholder institutions? | L13: Form 5
C14: 6 | D14: Output 2.1 | E14: ICARDA CDE | F14: Are you aware of any publications in which WOCAT has been mentioned during the reporting period? | L14: Form 6
C15: 7 | D15: Output 2.1 | E15: ICARDA CDE | F15: Did your institution deliver presentations at UNCCD, UNFCCC and CBD events during the reporting period? | L15: Form 7
C16: 8 | D16: Output 2.2 | E16: CDE | F16: Did your institution conduct any capacity development/training event for UNCCD parties and other partners? | L16: Form 8
C17: 9 | D17: Output 2.2 | E17: CDE | F17: Has your institution supported any SLM/LDN project during the reporting period? | L17: Form 9
C18: 10 | D18: Output 2.4 | E18: CDE | F18: Did a member of your institution contribute to a global report or assessment? | L18: Form 10
C19: 11 | D19: Output 2.4 | E19: CDE | F19: Did your institution conduct a joint activity with the Rio conventions? | L19: Form 11
F21: Higher-level result whose responsibility should be cross-cutting
F22: Responsibility in POWB shown as ET, rather than consortium partner
M24: I have reported in the form
K25: Yes | M25: Already reported in the form by colleague
K26: No | M26: Delegate reporting

Sheet Dec ET 1
I3: WOCAT Indicators-based Reporting Checklist
C7: S/N | D7: Logframe Result | E7: Responsible Consortium Partner | F7: Questions on reporting requirements | K7: Response | L7: If Yes, consider filling the form who link is provided below | M7: Reporting status/ recommendation | N7: Colleague who Reported/ to whom reporting is delegated (Name & e-mail)
C8: 1 | D8: Impact | E8: All ET & Secretariat | F8: During the reporting period, have you become aware of a project or programme that is using WOCAT tools, methods and SLM evidence? | L8: Form 1
C9: 2 | D9: Outcome 2 | E9: All ET & Secretariat | F9: During the reporting period, have you become aware of policies or strategies that were developed using WOCAT tools, methods and knowledge | L9: Form 2
C10: 3 | D10: Output 1.2 | E10: Executive team | F10: Did you receive requests for capacity development during the reporting period? | L10: Form 3
G11: While you conduct the capacity development, consider using this register to ease reporting in Form 4 at a later time | L11: Event Register
C12: 4 | D12: Output 1.2 | E12: Executive team | F12: Did you conduct capacity development events (trainings) during the reporting period? | L12: Form 4
C13: 5 | D13: Output 2.1 | E13: ICARDA CDE | F13: During the reporting period, did you become aware of any mention of WOCAT in media (documents or platforms) of key stakeholder institutions? | L13: Form 5
C14: 6 | D14: Output 2.1 | E14: ICARDA CDE | F14: Are you aware of any publications in which WOCAT has been mentioned during the reporting period? | L14: Form 6
C15: 7 | D15: Output 2.1 | E15: ICARDA CDE | F15: Did your institution deliver presentations at UNCCD, UNFCCC and CBD events during the reporting period? | L15: Form 7
C16: 8 | D16: Output 2.2 | E16: CDE | F16: Did your institution conduct any capacity development/training event for UNCCD parties and other partners? | L16: Form 8
C17: 9 | D17: Output 2.2 | E17: CDE | F17: Has your institution supported any SLM/LDN project during the reporting period? | L17: Form 9
C18: 10 | D18: Output 2.4 | E18: CDE | F18: Did a member of your institution contribute to a global report or assessment? | L18: Form 10
C19: 11 | D19: Output 2.4 | E19: CDE | F19: Did your institution conduct a joint activity with the Rio conventions? | L19: Form 11
F21: Higher-level result whose responsibility should be cross-cutting
F22: Responsibility in POWB shown as ET, rather than consortium partner
M24: I have reported in the form
K25: Yes | M25: Already reported in the form by colleague
K26: No | M26: Delegate reporting

Sheet Dec ET 2
I3: WOCAT Indicators-based Reporting Checklist
C7: S/N | D7: Logframe Result | E7: Responsible Consortium Partner | F7: Questions on reporting requirements | K7: Response | L7: If Yes, consider filling the form who link is provided below | M7: Reporting status/ recommendation | N7: Colleague who Reported/ to whom reporting is delegated (Name & e-mail)
C8: 1 | D8: Impact | E8: All ET & Secretariat | F8: During the reporting period, have you become aware of a project or programme that is using WOCAT tools, methods and SLM evidence? | L8: Form 1
C9: 2 | D9: Outcome 2 | E9: All ET & Secretariat | F9: During the reporting period, have you become aware of policies or strategies that were developed using WOCAT tools, methods and knowledge | L9: Form 2
C10: 3 | D10: Output 1.2 | E10: Executive team | F10: Did you receive requests for capacity development during the reporting period? | L10: Form 3
G11: While you conduct the capacity development, consider using this register to ease reporting in Form 4 at a later time | L11: Event Register
C12: 4 | D12: Output 1.2 | E12: Executive team | F12: Did you conduct capacity development events (trainings) during the reporting period? | L12: Form 4
C13: 5 | D13: Output 2.1 | E13: ICARDA CDE | F13: During the reporting period, did you become aware of any mention of WOCAT in media (documents or platforms) of key stakeholder institutions? | L13: Form 5
C14: 6 | D14: Output 2.1 | E14: ICARDA CDE | F14: Are you aware of any publications in which WOCAT has been mentioned during the reporting period? | L14: Form 6
C15: 7 | D15: Output 2.1 | E15: ICARDA CDE | F15: Did your institution deliver presentations at UNCCD, UNFCCC and CBD events during the reporting period? | L15: Form 7
C16: 8 | D16: Output 2.2 | E16: CDE | F16: Did your institution conduct any capacity development/training event for UNCCD parties and other partners? | L16: Form 8
C17: 9 | D17: Output 2.2 | E17: CDE | F17: Has your institution supported any SLM/LDN project during the reporting period? | L17: Form 9
C18: 10 | D18: Output 2.4 | E18: CDE | F18: Did a member of your institution contribute to a global report or assessment? | L18: Form 10
C19: 11 | D19: Output 2.4 | E19: CDE | F19: Did your institution conduct a joint activity with the Rio conventions? | L19: Form 11
F21: Higher-level result whose responsibility should be cross-cutting
F22: Responsibility in POWB shown as ET, rather than consortium partner
M24: I have reported in the form
K25: Yes | M25: Already reported in the form by colleague
K26: No | M26: Delegate reporting

Sheet Reporting Summary
G3: WOCAT Indicators-based Reporting Summary
I7: Jan ET 1 | K7: Jan ET 2 | M7: Feb ET 1 | O7: Feb ET 2 | Q7: Mar ET 1 | S7: Mar ET 2 | U7: Apr ET 1 | W7: Apr ET 2 | Y7: May ET 1 | AA7: May ET 2 | AC7: Jun ET 1 | AE7: Jun ET 2 | AG7: Jul ET 1 | AI7: Jul ET 2 | AK7: Aug ET 1 | AM7: Aug ET 2 | AO7: Sep ET 1 | AQ7: Sep ET 2 | AS7: Oct ET 1 | AU7: Oct ET 2 | AW7: Nov ET 1 | AY7: Nov ET 2 | BA7: Dec ET 1 | BC7: Dec ET 2
C8: S/N | D8: Questions on reporting requirements | I8: Checklist Response | J8: Confirmation of Form Entries (By MEL Specialist) | K8: Checklist Response | L8: Confirmation of Form Entries (By MEL Specialist) | M8: Checklist Response | N8: Confirmation of Form Entries (By MEL Specialist) | O8: Checklist Response | P8: Confirmation of Form Entries (By MEL Specialist) | Q8: Checklist Response | R8: Confirmation of Form Entries (By MEL Specialist) | S8: Checklist Response | T8: Confirmation of Form Entries (By MEL Specialist) | U8: Checklist Response | V8: Confirmation of Form Entries (By MEL Specialist) | W8: Checklist Response | X8: Confirmation of Form Entries (By MEL Specialist) | Y8: Checklist Response | Z8: Confirmation of Form Entries (By MEL Specialist) | AA8: Checklist Response | AB8: Confirmation of Form Entries (By MEL Specialist) | AC8: Checklist Response | AD8: Confirmation of Form Entries (By MEL Specialist) | AE8: Checklist Response | AF8: Confirmation of Form Entries (By MEL Specialist) | AG8: Checklist Response | AH8: Confirmation of Form Entries (By MEL Specialist) | AI8: Checklist Response | AJ8: Confirmation of Form Entries (By MEL Specialist) | AK8: Checklist Response | AL8: Confirmation of Form Entries (By MEL Specialist) | AM8: Checklist Response | AN8: Confirmation of Form Entries (By MEL Specialist) | AO8: Checklist Response | AP8: Confirmation of Form Entries (By MEL Specialist) | AQ8: Checklist Response | AR8: Confirmation of Form Entries (By MEL Specialist) | AS8: Checklist Response | AT8: Confirmation of Form Entries (By MEL Specialist) | AU8: Checklist Response | AV8: Confirmation of Form Entries (By MEL Specialist) | AW8: Checklist Response | AX8: Confirmation of Form Entries (By MEL Specialist) | AY8: Checklist Response | AZ8: Confirmation of Form Entries (By MEL Specialist) | BA8: Checklist Response | BB8: Confirmation of Form Entries (By MEL Specialist) | BC8: Checklist Response | BD8: Confirmation of Form Entries (By MEL Specialist)
C9: 1 | D9: During the reporting period, have you become aware of a project or programme that is using WOCAT tools, methods and SLM evidence? | I9: ='Jan-ET 1'!K8 -> 0 | K9: ='Jan-ET 2'!K8 -> 0 | M9: ='Feb ET 1'!K8 -> 0 | O9: ='Feb ET 2'!K8 -> 0 | Q9: ='Mar ET 1'!K8 -> 0 | S9: ='Mar ET 2'!K8 -> 0 | U9: ='Apr ET 1'!K8 -> 0 | W9: ='Apr ET 2'!K8 -> 0 | Y9: ='May ET 1'!K8 -> 0 | AA9: ='May ET 2'!K8 -> 0 | AC9: ='Jun ET 1'!K8 -> 0 | AE9: ='Jun ET 2'!K8 -> 0 | AG9: ='Jul ET 1'!K8 -> 0 | AI9: ='Jul ET 2'!K8 -> 0 | AK9: ='Aug ET 1'!K8 -> 0 | AM9: ='Aug ET 2'!K8 -> 0 | AO9: ='Sept ET 1'!K8 -> 0 | AQ9: ='Sept ET 2'!K8 -> 0 | AS9: ='Oct ET 1'!K8 -> 0 | AU9: ='Oct ET 2'!K8 -> 0 | AW9: ='ET- 10 Nov'!K8 -> 0 | AY9: ='Nov ET 2'!K8 -> 0 | BA9: ='Dec ET 1'!K8 -> 0 | BC9: ='Dec ET 2'!K8 -> 0
C10: 2 | D10: During the reporting period, have you become aware of policies or strategies that were developed using WOCAT tools, methods and knowledge | I10: ='Jan-ET 1'!K9 -> 0 | K10: ='Jan-ET 2'!K9 -> 0 | M10: ='Feb ET 1'!K9 -> 0 | O10: ='Feb ET 2'!K9 -> 0 | Q10: ='Mar ET 1'!K9 -> 0 | S10: ='Mar ET 2'!K9 -> 0 | U10: ='Apr ET 1'!K9 -> 0 | W10: ='Apr ET 2'!K9 -> 0 | Y10: ='May ET 1'!K9 -> 0 | AA10: ='May ET 2'!K9 -> 0 | AC10: ='Jun ET 1'!K9 -> 0 | AE10: ='Jun ET 2'!K9 -> 0 | AG10: ='Jul ET 1'!K9 -> 0 | AI10: ='Jul ET 2'!K9 -> 0 | AK10: ='Aug ET 1'!K9 -> 0 | AM10: ='Aug ET 2'!K9 -> 0 | AO10: ='Sept ET 1'!K9 -> 0 | AQ10: ='Sept ET 2'!K9 -> 0 | AS10: ='Oct ET 1'!K9 -> 0 | AU10: ='Oct ET 2'!K9 -> 0 | AW10: ='ET- 10 Nov'!K9 -> 0 | AY10: ='Nov ET 2'!K9 -> 0 | BA10: ='Dec ET 1'!K9 -> 0 | BC10: ='Dec ET 2'!K9 -> 0
C11: 3 | D11: Did you receive requests for capacity development during the reporting period? | I11: ='Jan-ET 1'!K10 -> 0 | K11: ='Jan-ET 2'!K10 -> 0 | M11: ='Feb ET 1'!K10 -> 0 | O11: ='Feb ET 2'!K10 -> 0 | Q11: ='Mar ET 1'!K10 -> 0 | S11: ='Mar ET 2'!K10 -> 0 | U11: ='Apr ET 1'!K10 -> 0 | W11: ='Apr ET 2'!K10 -> 0 | Y11: ='May ET 1'!K10 -> 0 | AA11: ='May ET 2'!K10 -> 0 | AC11: ='Jun ET 1'!K10 -> 0 | AE11: ='Jun ET 2'!K10 -> 0 | AG11: ='Jul ET 1'!K10 -> 0 | AI11: ='Jul ET 2'!K10 -> 0 | AK11: ='Aug ET 1'!K10 -> 0 | AM11: ='Aug ET 2'!K10 -> 0 | AO11: ='Sept ET 1'!K10 -> 0 | AQ11: ='Sept ET 2'!K10 -> 0 | AS11: ='Oct ET 1'!K10 -> 0 | AU11: ='Oct ET 2'!K10 -> 0 | AW11: ='ET- 10 Nov'!K10 -> 0 | AY11: ='Nov ET 2'!K10 -> 0 | BA11: ='Dec ET 1'!K10 -> 0 | BC11: ='Dec ET 2'!K10 -> 0
E12: While you conduct the capacity development, consider using this register to ease reporting in Form 4 at a later time | I12: ='Jan-ET 1'!K11 -> 0 | K12: ='Jan-ET 2'!K11 -> 0 | M12: ='Feb ET 1'!K11 -> 0 | O12: ='Feb ET 2'!K11 -> 0 | Q12: ='Mar ET 1'!K11 -> 0 | S12: ='Mar ET 2'!K11 -> 0 | U12: ='Apr ET 1'!K11 -> 0 | W12: ='Apr ET 2'!K11 -> 0 | Y12: ='May ET 1'!K11 -> 0 | AA12: ='May ET 2'!K11 -> 0 | AC12: ='Jun ET 1'!K11 -> 0 | AE12: ='Jun ET 2'!K11 -> 0 | AG12: ='Jul ET 1'!K11 -> 0 | AI12: ='Jul ET 2'!K11 -> 0 | AK12: ='Aug ET 1'!K11 -> 0 | AM12: ='Aug ET 2'!K11 -> 0 | AO12: ='Sept ET 1'!K11 -> 0 | AQ12: ='Sept ET 2'!K11 -> 0 | AS12: ='Oct ET 1'!K11 -> 0 | AU12: ='Oct ET 2'!K11 -> 0 | AW12: ='ET- 10 Nov'!K11 -> 0 | AY12: ='Nov ET 2'!K11 -> 0 | BA12: ='Dec ET 1'!K11 -> 0 | BC12: ='Dec ET 2'!K11 -> 0
C13: 4 | D13: Did you conduct capacity development events (trainings) during the reporting period? | I13: ='Jan-ET 1'!K12 -> 0 | K13: ='Jan-ET 2'!K12 -> 0 | M13: ='Feb ET 1'!K12 -> 0 | O13: ='Feb ET 2'!K12 -> 0 | Q13: ='Mar ET 1'!K12 -> 0 | S13: ='Mar ET 2'!K12 -> 0 | U13: ='Apr ET 1'!K12 -> 0 | W13: ='Apr ET 2'!K12 -> 0 | Y13: ='May ET 1'!K12 -> 0 | AA13: ='May ET 2'!K12 -> 0 | AC13: ='Jun ET 1'!K12 -> 0 | AE13: ='Jun ET 2'!K12 -> 0 | AG13: ='Jul ET 1'!K12 -> 0 | AI13: ='Jul ET 2'!K12 -> 0 | AK13: ='Aug ET 1'!K12 -> 0 | AM13: ='Aug ET 2'!K12 -> 0 | AO13: ='Sept ET 1'!K12 -> 0 | AQ13: ='Sept ET 2'!K12 -> 0 | AS13: ='Oct ET 1'!K12 -> 0 | AU13: ='Oct ET 2'!K12 -> 0 | AW13: ='ET- 10 Nov'!K12 -> 0 | AY13: ='Nov ET 2'!K12 -> 0 | BA13: ='Dec ET 1'!K12 -> 0 | BC13: ='Dec ET 2'!K12 -> 0
C14: 5 | D14: During the reporting period, did you become aware of any mention of WOCAT in media (documents or platforms) of key stakeholder institutions? | I14: ='Jan-ET 1'!K13 -> 0 | K14: ='Jan-ET 2'!K13 -> 0 | M14: ='Feb ET 1'!K13 -> 0 | O14: ='Feb ET 2'!K13 -> 0 | Q14: ='Mar ET 1'!K13 -> 0 | S14: ='Mar ET 2'!K13 -> 0 | U14: ='Apr ET 1'!K13 -> 0 | W14: ='Apr ET 2'!K13 -> 0 | Y14: ='May ET 1'!K13 -> 0 | AA14: ='May ET 2'!K13 -> 0 | AC14: ='Jun ET 1'!K13 -> 0 | AE14: ='Jun ET 2'!K13 -> 0 | AG14: ='Jul ET 1'!K13 -> 0 | AI14: ='Jul ET 2'!K13 -> 0 | AK14: ='Aug ET 1'!K13 -> 0 | AM14: ='Aug ET 2'!K13 -> 0 | AO14: ='Sept ET 1'!K13 -> 0 | AQ14: ='Sept ET 2'!K13 -> 0 | AS14: ='Oct ET 1'!K13 -> 0 | AU14: ='Oct ET 2'!K13 -> 0 | AW14: ='ET- 10 Nov'!K13 -> 0 | AY14: ='Nov ET 2'!K13 -> 0 | BA14: ='Dec ET 1'!K13 -> 0 | BC14: ='Dec ET 2'!K13 -> 0
C15: 6 | D15: Are you aware of any publications in which WOCAT has been mentioned during the reporting period? | I15: ='Jan-ET 1'!K14 -> 0 | K15: ='Jan-ET 2'!K14 -> 0 | M15: ='Feb ET 1'!K14 -> 0 | O15: ='Feb ET 2'!K14 -> 0 | Q15: ='Mar ET 1'!K14 -> 0 | S15: ='Mar ET 2'!K14 -> 0 | U15: ='Apr ET 1'!K14 -> 0 | W15: ='Apr ET 2'!K14 -> 0 | Y15: ='May ET 1'!K14 -> 0 | AA15: ='May ET 2'!K14 -> 0 | AC15: ='Jun ET 1'!K14 -> 0 | AE15: ='Jun ET 2'!K14 -> 0 | AG15: ='Jul ET 1'!K14 -> 0 | AI15: ='Jul ET 2'!K14 -> 0 | AK15: ='Aug ET 1'!K14 -> 0 | AM15: ='Aug ET 2'!K14 -> 0 | AO15: ='Sept ET 1'!K14 -> 0 | AQ15: ='Sept ET 2'!K14 -> 0 | AS15: ='Oct ET 1'!K14 -> 0 | AU15: ='Oct ET 2'!K14 -> 0 | AW15: ='ET- 10 Nov'!K14 -> 0 | AY15: ='Nov ET 2'!K14 -> 0 | BA15: ='Dec ET 1'!K14 -> 0 | BC15: ='Dec ET 2'!K14 -> 0
C16: 7 | D16: Did your institution deliver presentations at UNCCD, UNFCCC and CBD events during the reporting period? | I16: ='Jan-ET 1'!K15 -> 0 | K16: ='Jan-ET 2'!K15 -> 0 | M16: ='Feb ET 1'!K15 -> 0 | O16: ='Feb ET 2'!K15 -> 0 | Q16: ='Mar ET 1'!K15 -> 0 | S16: ='Mar ET 2'!K15 -> 0 | U16: ='Apr ET 1'!K15 -> 0 | W16: ='Apr ET 2'!K15 -> 0 | Y16: ='May ET 1'!K15 -> 0 | AA16: ='May ET 2'!K15 -> 0 | AC16: ='Jun ET 1'!K15 -> 0 | AE16: ='Jun ET 2'!K15 -> 0 | AG16: ='Jul ET 1'!K15 -> 0 | AI16: ='Jul ET 2'!K15 -> 0 | AK16: ='Aug ET 1'!K15 -> 0 | AM16: ='Aug ET 2'!K15 -> 0 | AO16: ='Sept ET 1'!K15 -> 0 | AQ16: ='Sept ET 2'!K15 -> 0 | AS16: ='Oct ET 1'!K15 -> 0 | AU16: ='Oct ET 2'!K15 -> 0 | AW16: ='ET- 10 Nov'!K15 -> 0 | AY16: ='Nov ET 2'!K15 -> 0 | BA16: ='Dec ET 1'!K15 -> 0 | BC16: ='Dec ET 2'!K15 -> 0
C17: 8 | D17: Did your institution conduct any capacity development/training event for UNCCD parties and other partners? | I17: ='Jan-ET 1'!K16 -> 0 | K17: ='Jan-ET 2'!K16 -> 0 | M17: ='Feb ET 1'!K16 -> 0 | O17: ='Feb ET 2'!K16 -> 0 | Q17: ='Mar ET 1'!K16 -> 0 | S17: ='Mar ET 2'!K16 -> 0 | U17: ='Apr ET 1'!K16 -> 0 | W17: ='Apr ET 2'!K16 -> 0 | Y17: ='May ET 1'!K16 -> 0 | AA17: ='May ET 2'!K16 -> 0 | AC17: ='Jun ET 1'!K16 -> 0 | AE17: ='Jun ET 2'!K16 -> 0 | AG17: ='Jul ET 1'!K16 -> 0 | AI17: ='Jul ET 2'!K16 -> 0 | AK17: ='Aug ET 1'!K16 -> 0 | AM17: ='Aug ET 2'!K16 -> 0 | AO17: ='Sept ET 1'!K16 -> 0 | AQ17: ='Sept ET 2'!K16 -> 0 | AS17: ='Oct ET 1'!K16 -> 0 | AU17: ='Oct ET 2'!K16 -> 0 | AW17: ='ET- 10 Nov'!K16 -> 0 | AY17: ='Nov ET 2'!K16 -> 0 | BA17: ='Dec ET 1'!K16 -> 0 | BC17: ='Dec ET 2'!K16 -> 0
C18: 9 | D18: Has your institution supported any SLM/LDN project during the reporting period? | I18: ='Jan-ET 1'!K17 -> 0 | K18: ='Jan-ET 2'!K17 -> 0 | M18: ='Feb ET 1'!K17 -> 0 | O18: ='Feb ET 2'!K17 -> 0 | Q18: ='Mar ET 1'!K17 -> 0 | S18: ='Mar ET 2'!K17 -> 0 | U18: ='Apr ET 1'!K17 -> 0 | W18: ='Apr ET 2'!K17 -> 0 | Y18: ='May ET 1'!K17 -> 0 | AA18: ='May ET 2'!K17 -> 0 | AC18: ='Jun ET 1'!K17 -> 0 | AE18: ='Jun ET 2'!K17 -> 0 | AG18: ='Jul ET 1'!K17 -> 0 | AI18: ='Jul ET 2'!K17 -> 0 | AK18: ='Aug ET 1'!K17 -> 0 | AM18: ='Aug ET 2'!K17 -> 0 | AO18: ='Sept ET 1'!K17 -> 0 | AQ18: ='Sept ET 2'!K17 -> 0 | AS18: ='Oct ET 1'!K17 -> 0 | AU18: ='Oct ET 2'!K17 -> 0 | AW18: ='ET- 10 Nov'!K17 -> 0 | AY18: ='Nov ET 2'!K17 -> 0 | BA18: ='Dec ET 1'!K17 -> 0 | BC18: ='Dec ET 2'!K17 -> 0
C19: 10 | D19: Did a member of your institution contribute to a global report or assessment? | I19: ='Jan-ET 1'!K18 -> 0 | K19: ='Jan-ET 2'!K18 -> 0 | M19: ='Feb ET 1'!K18 -> 0 | O19: ='Feb ET 2'!K18 -> 0 | Q19: ='Mar ET 1'!K18 -> 0 | S19: ='Mar ET 2'!K18 -> 0 | U19: ='Apr ET 1'!K18 -> 0 | W19: ='Apr ET 2'!K18 -> 0 | Y19: ='May ET 1'!K18 -> 0 | AA19: ='May ET 2'!K18 -> 0 | AC19: ='Jun ET 1'!K18 -> 0 | AE19: ='Jun ET 2'!K18 -> 0 | AG19: ='Jul ET 1'!K18 -> 0 | AI19: ='Jul ET 2'!K18 -> 0 | AK19: ='Aug ET 1'!K18 -> 0 | AM19: ='Aug ET 2'!K18 -> 0 | AO19: ='Sept ET 1'!K18 -> 0 | AQ19: ='Sept ET 2'!K18 -> 0 | AS19: ='Oct ET 1'!K18 -> 0 | AU19: ='Oct ET 2'!K18 -> 0 | AW19: ='ET- 10 Nov'!K18 -> 0 | AY19: ='Nov ET 2'!K18 -> 0 | BA19: ='Dec ET 1'!K18 -> 0 | BC19: ='Dec ET 2'!K18 -> 0
C20: 11 | D20: Did your institution conduct a joint activity with the Rio conventions? | I20: ='Jan-ET 1'!K19 -> 0 | K20: ='Jan-ET 2'!K19 -> 0 | M20: ='Feb ET 1'!K19 -> 0 | O20: ='Feb ET 2'!K19 -> 0 | Q20: ='Mar ET 1'!K19 -> 0 | S20: ='Mar ET 2'!K19 -> 0 | U20: ='Apr ET 1'!K19 -> 0 | W20: ='Apr ET 2'!K19 -> 0 | Y20: ='May ET 1'!K19 -> 0 | AA20: ='May ET 2'!K19 -> 0 | AC20: ='Jun ET 1'!K19 -> 0 | AE20: ='Jun ET 2'!K19 -> 0 | AG20: ='Jul ET 1'!K19 -> 0 | AI20: ='Jul ET 2'!K19 -> 0 | AK20: ='Aug ET 1'!K19 -> 0 | AM20: ='Aug ET 2'!K19 -> 0 | AO20: ='Sept ET 1'!K19 -> 0 | AQ20: ='Sept ET 2'!K19 -> 0 | AS20: ='Oct ET 1'!K19 -> 0 | AU20: ='Oct ET 2'!K19 -> 0 | AW20: ='ET- 10 Nov'!K19 -> 0 | AY20: ='Nov ET 2'!K19 -> 0 | BA20: ='Dec ET 1'!K19 -> 0 | BC20: ='Dec ET 2'!K19 -> 0
J23: Yes
J24: No
J25: N/A
I28: Yes | J28: Yes
I29: No | J29: No
