Workbook

Sheet Jan-ET 1
I3: WOCAT Indicators-based Reporting Checklist
C7: S/N | D7: Logframe Result | E7: Responsible Consortium Partner | F7: Questions on reporting requirements | K7: Response | L7: If Yes, consider filling the form who link is provided below | M7: Reporting status/ recommendation | N7: Colleague who Reported/ to whom reporting is delegated (Name & e-mail)
C8: 1 | D8: Impact | E8: All ET & Secretariat | F8: During the reporting period, have you become aware of a project or programme that is using WOCAT tools, methods and SLM evidence? | L8: Form 1
C9: 2 | D9: Outcome 2 | E9: All ET & Secretariat | F9: During the reporting period, have you become aware of policies or strategies that were developed using WOCAT tools, methods and knowledge | L9: Form 2
C10: 3 | D10: Output 1.2 | E10: Executive team | F10: Did you receive requests for capacity development during the reporting period? | L10: Form 3
G11: While you conduct the capacity development, consider using this register to ease reporting in Form 4 at a later time | L11: Event Register
C12: 4 | D12: Output 1.2 | E12: Executive team | F12: Did you conduct capacity development events (trainings) during the reporting period? | L12: Form 4
C13: 5 | D13: Output 2.1 | E13: ICARDA CDE | F13: During the reporting period, did you become aware of any mention of WOCAT in media (documents or platforms) of key stakeholder institutions? | L13: Form 5
C14: 6 | D14: Output 2.1 | E14: ICARDA CDE | F14: Are you aware of any publications in which WOCAT has been mentioned during the reporting period? | L14: Form 6
C15: 7 | D15: Output 2.1 | E15: ICARDA CDE | F15: Did your institution deliver presentations at UNCCD, UNFCCC and CBD events during the reporting period? | L15: Form 7
C16: 8 | D16: Output 2.2 | E16: CDE | F16: Did your institution conduct any capacity development/training event for UNCCD parties and other partners? | L16: Form 8
C17: 9 | D17: Output 2.2 | E17: CDE | F17: Has your institution supported any SLM/LDN project during the reporting period? | L17: Form 9
C18: 10 | D18: Output 2.4 | E18: CDE | F18: Did a member of your institution contribute to a global report or assessment? | L18: Form 10
C19: 11 | D19: Output 2.4 | E19: CDE | F19: Did your institution conduct a joint activity with the Rio conventions? | L19: Form 11
F21: Higher-level result whose responsibility should be cross-cutting
F22: Responsibility in POWB shown as ET, rather than consortium partner
M24: I have reported in the form
K25: Yes | M25: Already reported in the form by colleague
K26: No | M26: Delegate reporting

Sheet Jan-ET 2
I3: WOCAT Indicators-based Reporting Checklist
C7: S/N | D7: Logframe Result | E7: Responsible Consortium Partner | F7: Questions on reporting requirements | K7: Response | L7: If Yes, consider filling the form who link is provided below | M7: Reporting status/ recommendation | N7: Colleague who Reported/ to whom reporting is delegated (Name & e-mail)
C8: 1 | D8: Impact | E8: All ET & Secretariat | F8: During the reporting period, have you become aware of a project or programme that is using WOCAT tools, methods and SLM evidence? | L8: Form 1
C9: 2 | D9: Outcome 2 | E9: All ET & Secretariat | F9: During the reporting period, have you become aware of policies or strategies that were developed using WOCAT tools, methods and knowledge | L9: Form 2
C10: 3 | D10: Output 1.2 | E10: Executive team | F10: Did you receive requests for capacity development during the reporting period? | L10: Form 3
G11: While you conduct the capacity development, consider using this register to ease reporting in Form 4 at a later time | L11: Event Register
C12: 4 | D12: Output 1.2 | E12: Executive team | F12: Did you conduct capacity development events (trainings) during the reporting period? | L12: Form 4
C13: 5 | D13: Output 2.1 | E13: ICARDA CDE | F13: During the reporting period, did you become aware of any mention of WOCAT in media (documents or platforms) of key stakeholder institutions? | L13: Form 5
C14: 6 | D14: Output 2.1 | E14: ICARDA CDE | F14: Are you aware of any publications in which WOCAT has been mentioned during the reporting period? | L14: Form 6
C15: 7 | D15: Output 2.1 | E15: ICARDA CDE | F15: Did your institution deliver presentations at UNCCD, UNFCCC and CBD events during the reporting period? | L15: Form 7
C16: 8 | D16: Output 2.2 | E16: CDE | F16: Did your institution conduct any capacity development/training event for UNCCD parties and other partners? | L16: Form 8
C17: 9 | D17: Output 2.2 | E17: CDE | F17: Has your institution supported any SLM/LDN project during the reporting period? | L17: Form 9
C18: 10 | D18: Output 2.4 | E18: CDE | F18: Did a member of your institution contribute to a global report or assessment? | L18: Form 10
C19: 11 | D19: Output 2.4 | E19: CDE | F19: Did your institution conduct a joint activity with the Rio conventions? | L19: Form 11
F21: Higher-level result whose responsibility should be cross-cutting
F22: Responsibility in POWB shown as ET, rather than consortium partner
M24: I have reported in the form
K25: Yes | M25: Already reported in the form by colleague
K26: No | M26: Delegate reporting

Sheet Feb ET 1
I3: WOCAT Indicators-based Reporting Checklist
C7: S/N | D7: Logframe Result | E7: Responsible Consortium Partner | F7: Questions on reporting requirements | K7: Response | L7: If Yes, consider filling the form who link is provided below | M7: Reporting status/ recommendation | N7: Colleague who Reported/ to whom reporting is delegated (Name & e-mail)
C8: 1 | D8: Impact | E8: All ET & Secretariat | F8: During the reporting period, have you become aware of a project or programme that is using WOCAT tools, methods and SLM evidence? | L8: Form 1
C9: 2 | D9: Outcome 2 | E9: All ET & Secretariat | F9: During the reporting period, have you become aware of policies or strategies that were developed using WOCAT tools, methods and knowledge | L9: Form 2
C10: 3 | D10: Output 1.2 | E10: Executive team | F10: Did you receive requests for capacity development during the reporting period? | L10: Form 3
G11: While you conduct the capacity development, consider using this register to ease reporting in Form 4 at a later time | L11: Event Register
C12: 4 | D12: Output 1.2 | E12: Executive team | F12: Did you conduct capacity development events (trainings) during the reporting period? | L12: Form 4
C13: 5 | D13: Output 2.1 | E13: ICARDA CDE | F13: During the reporting period, did you become aware of any mention of WOCAT in media (documents or platforms) of key stakeholder institutions? | L13: Form 5
C14: 6 | D14: Output 2.1 | E14: ICARDA CDE | F14: Are you aware of any publications in which WOCAT has been mentioned during the reporting period? | L14: Form 6
C15: 7 | D15: Output 2.1 | E15: ICARDA CDE | F15: Did your institution deliver presentations at UNCCD, UNFCCC and CBD events during the reporting period? | L15: Form 7
C16: 8 | D16: Output 2.2 | E16: CDE | F16: Did your institution conduct any capacity development/training event for UNCCD parties and other partners? | L16: Form 8
C17: 9 | D17: Output 2.2 | E17: CDE | F17: Has your institution supported any SLM/LDN project during the reporting period? | L17: Form 9
C18: 10 | D18: Output 2.4 | E18: CDE | F18: Did a member of your institution contribute to a global report or assessment? | L18: Form 10
C19: 11 | D19: Output 2.4 | E19: CDE | F19: Did your institution conduct a joint activity with the Rio conventions? | L19: Form 11
F21: Higher-level result whose responsibility should be cross-cutting
F22: Responsibility in POWB shown as ET, rather than consortium partner
M24: I have reported in the form
K25: Yes | M25: Already reported in the form by colleague
K26: No | M26: Delegate reporting

Sheet Feb ET 2
I3: WOCAT Indicators-based Reporting Checklist
C7: S/N | D7: Logframe Result | E7: Responsible Consortium Partner | F7: Questions on reporting requirements | K7: Response | L7: If Yes, consider filling the form who link is provided below | M7: Reporting status/ recommendation | N7: Colleague who Reported/ to whom reporting is delegated (Name & e-mail)
C8: 1 | D8: Impact | E8: All ET & Secretariat | F8: During the reporting period, have you become aware of a project or programme that is using WOCAT tools, methods and SLM evidence? | L8: Form 1
C9: 2 | D9: Outcome 2 | E9: All ET & Secretariat | F9: During the reporting period, have you become aware of policies or strategies that were developed using WOCAT tools, methods and knowledge | L9: Form 2
C10: 3 | D10: Output 1.2 | E10: Executive team | F10: Did you receive requests for capacity development during the reporting period? | L10: Form 3
G11: While you conduct the capacity development, consider using this register to ease reporting in Form 4 at a later time | L11: Event Register
C12: 4 | D12: Output 1.2 | E12: Executive team | F12: Did you conduct capacity development events (trainings) during the reporting period? | L12: Form 4
C13: 5 | D13: Output 2.1 | E13: ICARDA CDE | F13: During the reporting period, did you become aware of any mention of WOCAT in media (documents or platforms) of key stakeholder institutions? | L13: Form 5
C14: 6 | D14: Output 2.1 | E14: ICARDA CDE | F14: Are you aware of any publications in which WOCAT has been mentioned during the reporting period? | L14: Form 6
C15: 7 | D15: Output 2.1 | E15: ICARDA CDE | F15: Did your institution deliver presentations at UNCCD, UNFCCC and CBD events during the reporting period? | L15: Form 7
C16: 8 | D16: Output 2.2 | E16: CDE | F16: Did your institution conduct any capacity development/training event for UNCCD parties and other partners? | L16: Form 8
C17: 9 | D17: Output 2.2 | E17: CDE | F17: Has your institution supported any SLM/LDN project during the reporting period? | L17: Form 9
C18: 10 | D18: Output 2.4 | E18: CDE | F18: Did a member of your institution contribute to a global report or assessment? | L18: Form 10
C19: 11 | D19: Output 2.4 | E19: CDE | F19: Did your institution conduct a joint activity with the Rio conventions? | L19: Form 11
F21: Higher-level result whose responsibility should be cross-cutting
F22: Responsibility in POWB shown as ET, rather than consortium partner
M24: I have reported in the form
K25: Yes | M25: Already reported in the form by colleague
K26: No | M26: Delegate reporting

Sheet Mar ET 1
I3: WOCAT Indicators-based Reporting Checklist
C7: S/N | D7: Logframe Result | E7: Responsible Consortium Partner | F7: Questions on reporting requirements | K7: Response | L7: If Yes, consider filling the form who link is provided below | M7: Reporting status/ recommendation | N7: Colleague who Reported/ to whom reporting is delegated (Name & e-mail)
C8: 1 | D8: Impact | E8: All ET & Secretariat | F8: During the reporting period, have you become aware of a project or programme that is using WOCAT tools, methods and SLM evidence? | L8: Form 1
C9: 2 | D9: Outcome 2 | E9: All ET & Secretariat | F9: During the reporting period, have you become aware of policies or strategies that were developed using WOCAT tools, methods and knowledge | L9: Form 2
C10: 3 | D10: Output 1.2 | E10: Executive team | F10: Did you receive requests for capacity development during the reporting period? | L10: Form 3
G11: While you conduct the capacity development, consider using this register to ease reporting in Form 4 at a later time | L11: Event Register
C12: 4 | D12: Output 1.2 | E12: Executive team | F12: Did you conduct capacity development events (trainings) during the reporting period? | L12: Form 4
C13: 5 | D13: Output 2.1 | E13: ICARDA CDE | F13: During the reporting period, did you become aware of any mention of WOCAT in media (documents or platforms) of key stakeholder institutions? | L13: Form 5
C14: 6 | D14: Output 2.1 | E14: ICARDA CDE | F14: Are you aware of any publications in which WOCAT has been mentioned during the reporting period? | L14: Form 6
C15: 7 | D15: Output 2.1 | E15: ICARDA CDE | F15: Did your institution deliver presentations at UNCCD, UNFCCC and CBD events during the reporting period? | L15: Form 7
C16: 8 | D16: Output 2.2 | E16: CDE | F16: Did your institution conduct any capacity development/training event for UNCCD parties and other partners? | L16: Form 8
C17: 9 | D17: Output 2.2 | E17: CDE | F17: Has your institution supported any SLM/LDN project during the reporting period? | L17: Form 9
C18: 10 | D18: Output 2.4 | E18: CDE | F18: Did a member of your institution contribute to a global report or assessment? | L18: Form 10
C19: 11 | D19: Output 2.4 | E19: CDE | F19: Did your institution conduct a joint activity with the Rio conventions? | L19: Form 11
F21: Higher-level result whose responsibility should be cross-cutting
F22: Responsibility in POWB shown as ET, rather than consortium partner
M24: I have reported in the form
K25: Yes | M25: Already reported in the form by colleague
K26: No | M26: Delegate reporting

Sheet Mar ET 2
I3: WOCAT Indicators-based Reporting Checklist
C7: S/N | D7: Logframe Result | E7: Responsible Consortium Partner | F7: Questions on reporting requirements | K7: Response | L7: If Yes, consider filling the form who link is provided below | M7: Reporting status/ recommendation | N7: Colleague who Reported/ to whom reporting is delegated (Name & e-mail)
C8: 1 | D8: Impact | E8: All ET & Secretariat | F8: During the reporting period, have you become aware of a project or programme that is using WOCAT tools, methods and SLM evidence? | L8: Form 1
C9: 2 | D9: Outcome 2 | E9: All ET & Secretariat | F9: During the reporting period, have you become aware of policies or strategies that were developed using WOCAT tools, methods and knowledge | L9: Form 2
C10: 3 | D10: Output 1.2 | E10: Executive team | F10: Did you receive requests for capacity development during the reporting period? | L10: Form 3
G11: While you conduct the capacity development, consider using this register to ease reporting in Form 4 at a later time | L11: Event Register
C12: 4 | D12: Output 1.2 | E12: Executive team | F12: Did you conduct capacity development events (trainings) during the reporting period? | L12: Form 4
C13: 5 | D13: Output 2.1 | E13: ICARDA CDE | F13: During the reporting period, did you become aware of any mention of WOCAT in media (documents or platforms) of key stakeholder institutions? | L13: Form 5
C14: 6 | D14: Output 2.1 | E14: ICARDA CDE | F14: Are you aware of any publications in which WOCAT has been mentioned during the reporting period? | L14: Form 6
C15: 7 | D15: Output 2.1 | E15: ICARDA CDE | F15: Did your institution deliver presentations at UNCCD, UNFCCC and CBD events during the reporting period? | L15: Form 7
C16: 8 | D16: Output 2.2 | E16: CDE | F16: Did your institution conduct any capacity development/training event for UNCCD parties and other partners? | L16: Form 8
C17: 9 | D17: Output 2.2 | E17: CDE | F17: Has your institution supported any SLM/LDN project during the reporting period? | L17: Form 9
C18: 10 | D18: Output 2.4 | E18: CDE | F18: Did a member of your institution contribute to a global report or assessment? | L18: Form 10
C19: 11 | D19: Output 2.4 | E19: CDE | F19: Did your institution conduct a joint activity with the Rio conventions? | L19: Form 11
F21: Higher-level result whose responsibility should be cross-cutting
F22: Responsibility in POWB shown as ET, rather than consortium partner
M24: I have reported in the form
K25: Yes | M25: Already reported in the form by colleague
K26: No | M26: Delegate reporting

Sheet Apr ET 1
I3: WOCAT Indicators-based Reporting Checklist
C7: S/N | D7: Logframe Result | E7: Responsible Consortium Partner | F7: Questions on reporting requirements | K7: Response | L7: If Yes, consider filling the form who link is provided below | M7: Reporting status/ recommendation | N7: Colleague who Reported/ to whom reporting is delegated (Name & e-mail)
C8: 1 | D8: Impact | E8: All ET & Secretariat | F8: During the reporting period, have you become aware of a project or programme that is using WOCAT tools, methods and SLM evidence? | L8: Form 1
C9: 2 | D9: Outcome 2 | E9: All ET & Secretariat | F9: During the reporting period, have you become aware of policies or strategies that were developed using WOCAT tools, methods and knowledge | L9: Form 2
C10: 3 | D10: Output 1.2 | E10: Executive team | F10: Did you receive requests for capacity development during the reporting period? | L10: Form 3
G11: While you conduct the capacity development, consider using this register to ease reporting in Form 4 at a later time | L11: Event Register
C12: 4 | D12: Output 1.2 | E12: Executive team | F12: Did you conduct capacity development events (trainings) during the reporting period? | L12: Form 4
C13: 5 | D13: Output 2.1 | E13: ICARDA CDE | F13: During the reporting period, did you become aware of any mention of WOCAT in media (documents or platforms) of key stakeholder institutions? | L13: Form 5
C14: 6 | D14: Output 2.1 | E14: ICARDA CDE | F14: Are you aware of any publications in which WOCAT has been mentioned during the reporting period? | L14: Form 6
C15: 7 | D15: Output 2.1 | E15: ICARDA CDE | F15: Did your institution deliver presentations at UNCCD, UNFCCC and CBD events during the reporting period? | L15: Form 7
C16: 8 | D16: Output 2.2 | E16: CDE | F16: Did your institution conduct any capacity development/training event for UNCCD parties and other partners? | L16: Form 8
C17: 9 | D17: Output 2.2 | E17: CDE | F17: Has your institution supported any SLM/LDN project during the reporting period? | L17: Form 9
C18: 10 | D18: Output 2.4 | E18: CDE | F18: Did a member of your institution contribute to a global report or assessment? | L18: Form 10
C19: 11 | D19: Output 2.4 | E19: CDE | F19: Did your institution conduct a joint activity with the Rio conventions? | L19: Form 11
F21: Higher-level result whose responsibility should be cross-cutting
F22: Responsibility in POWB shown as ET, rather than consortium partner
M24: I have reported in the form
K25: Yes | M25: Already reported in the form by colleague
K26: No | M26: Delegate reporting

Sheet Apr ET 2
I3: WOCAT Indicators-based Reporting Checklist
C7: S/N | D7: Logframe Result | E7: Responsible Consortium Partner | F7: Questions on reporting requirements | K7: Response | L7: If Yes, consider filling the form who link is provided below | M7: Reporting status/ recommendation | N7: Colleague who Reported/ to whom reporting is delegated (Name & e-mail)
C8: 1 | D8: Impact | E8: All ET & Secretariat | F8: During the reporting period, have you become aware of a project or programme that is using WOCAT tools, methods and SLM evidence? | L8: Form 1
C9: 2 | D9: Outcome 2 | E9: All ET & Secretariat | F9: During the reporting period, have you become aware of policies or strategies that were developed using WOCAT tools, methods and knowledge | L9: Form 2
C10: 3 | D10: Output 1.2 | E10: Executive team | F10: Did you receive requests for capacity development during the reporting period? | L10: Form 3
G11: While you conduct the capacity development, consider using this register to ease reporting in Form 4 at a later time | L11: Event Register
C12: 4 | D12: Output 1.2 | E12: Executive team | F12: Did you conduct capacity development events (trainings) during the reporting period? | L12: Form 4
C13: 5 | D13: Output 2.1 | E13: ICARDA CDE | F13: During the reporting period, did you become aware of any mention of WOCAT in media (documents or platforms) of key stakeholder institutions? | L13: Form 5
C14: 6 | D14: Output 2.1 | E14: ICARDA CDE | F14: Are you aware of any publications in which WOCAT has been mentioned during the reporting period? | L14: Form 6
C15: 7 | D15: Output 2.1 | E15: ICARDA CDE | F15: Did your institution deliver presentations at UNCCD, UNFCCC and CBD events during the reporting period? | L15: Form 7
C16: 8 | D16: Output 2.2 | E16: CDE | F16: Did your institution conduct any capacity development/training event for UNCCD parties and other partners? | L16: Form 8
C17: 9 | D17: Output 2.2 | E17: CDE | F17: Has your institution supported any SLM/LDN project during the reporting period? | L17: Form 9
C18: 10 | D18: Output 2.4 | E18: CDE | F18: Did a member of your institution contribute to a global report or assessment? | L18: Form 10
C19: 11 | D19: Output 2.4 | E19: CDE | F19: Did your institution conduct a joint activity with the Rio conventions? | L19: Form 11
F21: Higher-level result whose responsibility should be cross-cutting
F22: Responsibility in POWB shown as ET, rather than consortium partner
M24: I have reported in the form
K25: Yes | M25: Already reported in the form by colleague
K26: No | M26: Delegate reporting

Sheet May ET 1
I3: WOCAT Indicators-based Reporting Checklist
C7: S/N | D7: Logframe Result | E7: Responsible Consortium Partner | F7: Questions on reporting requirements | K7: Response | L7: If Yes, consider filling the form who link is provided below | M7: Reporting status/ recommendation | N7: Colleague who Reported/ to whom reporting is delegated (Name & e-mail)
C8: 1 | D8: Impact | E8: All ET & Secretariat | F8: During the reporting period, have you become aware of a project or programme that is using WOCAT tools, methods and SLM evidence? | L8: Form 1
C9: 2 | D9: Outcome 2 | E9: All ET & Secretariat | F9: During the reporting period, have you become aware of policies or strategies that were developed using WOCAT tools, methods and knowledge | L9: Form 2
C10: 3 | D10: Output 1.2 | E10: Executive team | F10: Did you receive requests for capacity development during the reporting period? | L10: Form 3
G11: While you conduct the capacity development, consider using this register to ease reporting in Form 4 at a later time | L11: Event Register
C12: 4 | D12: Output 1.2 | E12: Executive team | F12: Did you conduct capacity development events (trainings) during the reporting period? | L12: Form 4
C13: 5 | D13: Output 2.1 | E13: ICARDA CDE | F13: During the reporting period, did you become aware of any mention of WOCAT in media (documents or platforms) of key stakeholder institutions? | L13: Form 5
C14: 6 | D14: Output 2.1 | E14: ICARDA CDE | F14: Are you aware of any publications in which WOCAT has been mentioned during the reporting period? | L14: Form 6
C15: 7 | D15: Output 2.1 | E15: ICARDA CDE | F15: Did your institution deliver presentations at UNCCD, UNFCCC and CBD events during the reporting period? | L15: Form 7
C16: 8 | D16: Output 2.2 | E16: CDE | F16: Did your institution conduct any capacity development/training event for UNCCD parties and other partners? | L16: Form 8
C17: 9 | D17: Output 2.2 | E17: CDE | F17: Has your institution supported any SLM/LDN project during the reporting period? | L17: Form 9
C18: 10 | D18: Output 2.4 | E18: CDE | F18: Did a member of your institution contribute to a global report or assessment? | L18: Form 10
C19: 11 | D19: Output 2.4 | E19: CDE | F19: Did your institution conduct a joint activity with the Rio conventions? | L19: Form 11
F21: Higher-level result whose responsibility should be cross-cutting
F22: Responsibility in POWB shown as ET, rather than consortium partner
M24: I have reported in the form
K25: Yes | M25: Already reported in the form by colleague
K26: No | M26: Delegate reporting

Sheet May ET 2
I3: WOCAT Indicators-based Reporting Checklist
C7: S/N | D7: Logframe Result | E7: Responsible Consortium Partner | F7: Questions on reporting requirements | K7: Response | L7: If Yes, consider filling the form who link is provided below | M7: Reporting status/ recommendation | N7: Colleague who Reported/ to whom reporting is delegated (Name & e-mail)
C8: 1 | D8: Impact | E8: All ET & Secretariat | F8: During the reporting period, have you become aware of a project or programme that is using WOCAT tools, methods and SLM evidence? | L8: Form 1
C9: 2 | D9: Outcome 2 | E9: All ET & Secretariat | F9: During the reporting period, have you become aware of policies or strategies that were developed using WOCAT tools, methods and knowledge | L9: Form 2
C10: 3 | D10: Output 1.2 | E10: Executive team | F10: Did you receive requests for capacity development during the reporting period? | L10: Form 3
G11: While you conduct the capacity development, consider using this register to ease reporting in Form 4 at a later time | L11: Event Register
C12: 4 | D12: Output 1.2 | E12: Executive team | F12: Did you conduct capacity development events (trainings) during the reporting period? | L12: Form 4
C13: 5 | D13: Output 2.1 | E13: ICARDA CDE | F13: During the reporting period, did you become aware of any mention of WOCAT in media (documents or platforms) of key stakeholder institutions? | L13: Form 5
C14: 6 | D14: Output 2.1 | E14: ICARDA CDE | F14: Are you aware of any publications in which WOCAT has been mentioned during the reporting period? | L14: Form 6
C15: 7 | D15: Output 2.1 | E15: ICARDA CDE | F15: Did your institution deliver presentations at UNCCD, UNFCCC and CBD events during the reporting period? | L15: Form 7
C16: 8 | D16: Output 2.2 | E16: CDE | F16: Did your institution conduct any capacity development/training event for UNCCD parties and other partners? | L16: Form 8
C17: 9 | D17: Output 2.2 | E17: CDE | F17: Has your institution supported any SLM/LDN project during the reporting period? | L17: Form 9
C18: 10 | D18: Output 2.4 | E18: CDE | F18: Did a member of your institution contribute to a global report or assessment? | L18: Form 10
C19: 11 | D19: Output 2.4 | E19: CDE | F19: Did your institution conduct a joint activity with the Rio conventions? | L19: Form 11
F21: Higher-level result whose responsibility should be cross-cutting
F22: Responsibility in POWB shown as ET, rather than consortium partner
M24: I have reported in the form
K25: Yes | M25: Already reported in the form by colleague
K26: No | M26: Delegate reporting

Sheet Jun ET 1
I3: WOCAT Indicators-based Reporting Checklist
C7: S/N | D7: Logframe Result | E7: Responsible Consortium Partner | F7: Questions on reporting requirements | K7: Response | L7: If Yes, consider filling the form who link is provided below | M7: Reporting status/ recommendation | N7: Colleague who Reported/ to whom reporting is delegated (Name & e-mail)
C8: 1 | D8: Impact | E8: All ET & Secretariat | F8: During the reporting period, have you become aware of a project or programme that is using WOCAT tools, methods and SLM evidence? | L8: Form 1
C9: 2 | D9: Outcome 2 | E9: All ET & Secretariat | F9: During the reporting period, have you become aware of policies or strategies that were developed using WOCAT tools, methods and knowledge | L9: Form 2
C10: 3 | D10: Output 1.2 | E10: Executive team | F10: Did you receive requests for capacity development during the reporting period? | L10: Form 3
G11: While you conduct the capacity development, consider using this register to ease reporting in Form 4 at a later time | L11: Event Register
C12: 4 | D12: Output 1.2 | E12: Executive team | F12: Did you conduct capacity development events (trainings) during the reporting period? | L12: Form 4
C13: 5 | D13: Output 2.1 | E13: ICARDA CDE | F13: During the reporting period, did you become aware of any mention of WOCAT in media (documents or platforms) of key stakeholder institutions? | L13: Form 5
C14: 6 | D14: Output 2.1 | E14: ICARDA CDE | F14: Are you aware of any publications in which WOCAT has been mentioned during the reporting period? | L14: Form 6
C15: 7 | D15: Output 2.1 | E15: ICARDA CDE | F15: Did your institution deliver presentations at UNCCD, UNFCCC and CBD events during the reporting period? | L15: Form 7
C16: 8 | D16: Output 2.2 | E16: CDE | F16: Did your institution conduct any capacity development/training event for UNCCD parties and other partners? | L16: Form 8
C17: 9 | D17: Output 2.2 | E17: CDE | F17: Has your institution supported any SLM/LDN project during the reporting period? | L17: Form 9
C18: 10 | D18: Output 2.4 | E18: CDE | F18: Did a member of your institution contribute to a global report or assessment? | L18: Form 10
C19: 11 | D19: Output 2.4 | E19: CDE | F19: Did your institution conduct a joint activity with the Rio conventions? | L19: Form 11
F21: Higher-level result whose responsibility should be cross-cutting
F22: Responsibility in POWB shown as ET, rather than consortium partner
M24: I have reported in the form
K25: Yes | M25: Already reported in the form by colleague
K26: No | M26: Delegate reporting

Sheet Jun ET 2
I3: WOCAT Indicators-based Reporting Checklist
C7: S/N | D7: Logframe Result | E7: Responsible Consortium Partner | F7: Questions on reporting requirements | K7: Response | L7: If Yes, consider filling the form who link is provided below | M7: Reporting status/ recommendation | N7: Colleague who Reported/ to whom reporting is delegated (Name & e-mail)
C8: 1 | D8: Impact | E8: All ET & Secretariat | F8: During the reporting period, have you become aware of a project or programme that is using WOCAT tools, methods and SLM evidence? | L8: Form 1
C9: 2 | D9: Outcome 2 | E9: All ET & Secretariat | F9: During the reporting period, have you become aware of policies or strategies that were developed using WOCAT tools, methods and knowledge | L9: Form 2
C10: 3 | D10: Output 1.2 | E10: Executive team | F10: Did you receive requests for capacity development during the reporting period? | L10: Form 3
G11: While you conduct the capacity development, consider using this register to ease reporting in Form 4 at a later time | L11: Event Register
C12: 4 | D12: Output 1.2 | E12: Executive team | F12: Did you conduct capacity development events (trainings) during the reporting period? | L12: Form 4
C13: 5 | D13: Output 2.1 | E13: ICARDA CDE | F13: During the reporting period, did you become aware of any mention of WOCAT in media (documents or platforms) of key stakeholder institutions? | L13: Form 5
C14: 6 | D14: Output 2.1 | E14: ICARDA CDE | F14: Are you aware of any publications in which WOCAT has been mentioned during the reporting period? | L14: Form 6
C15: 7 | D15: Output 2.1 | E15: ICARDA CDE | F15: Did your institution deliver presentations at UNCCD, UNFCCC and CBD events during the reporting period? | L15: Form 7
C16: 8 | D16: Output 2.2 | E16: CDE | F16: Did your institution conduct any capacity development/training event for UNCCD parties and other partners? | L16: Form 8
C17: 9 | D17: Output 2.2 | E17: CDE | F17: Has your institution supported any SLM/LDN project during the reporting period? | L17: Form 9
C18: 10 | D18: Output 2.4 | E18: CDE | F18: Did a member of your institution contribute to a global report or assessment? | L18: Form 10
C19: 11 | D19: Output 2.4 | E19: CDE | F19: Did your institution conduct a joint activity with the Rio conventions? | L19: Form 11
F21: Higher-level result whose responsibility should be cross-cutting
F22: Responsibility in POWB shown as ET, rather than consortium partner
M24: I have reported in the form
K25: Yes | M25: Already reported in the form by colleague
K26: No | M26: Delegate reporting

Sheet Jul ET 1
I3: WOCAT Indicators-based Reporting Checklist
C7: S/N | D7: Logframe Result | E7: Responsible Consortium Partner | F7: Questions on reporting requirements | K7: Response | L7: If Yes, consider filling the form who link is provided below | M7: Reporting status/ recommendation | N7: Colleague who Reported/ to whom reporting is delegated (Name & e-mail)
C8: 1 | D8: Impact | E8: All ET & Secretariat | F8: During the reporting period, have you become aware of a project or programme that is using WOCAT tools, methods and SLM evidence? | L8: Form 1
C9: 2 | D9: Outcome 2 | E9: All ET & Secretariat | F9: During the reporting period, have you become aware of policies or strategies that were developed using WOCAT tools, methods and knowledge | L9: Form 2
C10: 3 | D10: Output 1.2 | E10: Executive team | F10: Did you receive requests for capacity development during the reporting period? | L10: Form 3
G11: While you conduct the capacity development, consider using this register to ease reporting in Form 4 at a later time | L11: Event Register
C12: 4 | D12: Output 1.2 | E12: Executive team | F12: Did you conduct capacity development events (trainings) during the reporting period? | L12: Form 4
C13: 5 | D13: Output 2.1 | E13: ICARDA CDE | F13: During the reporting period, did you become aware of any mention of WOCAT in media (documents or platforms) of key stakeholder institutions? | L13: Form 5
C14: 6 | D14: Output 2.1 | E14: ICARDA CDE | F14: Are you aware of any publications in which WOCAT has been mentioned during the reporting period? | L14: Form 6
C15: 7 | D15: Output 2.1 | E15: ICARDA CDE | F15: Did your institution deliver presentations at UNCCD, UNFCCC and CBD events during the reporting period? | L15: Form 7
C16: 8 | D16: Output 2.2 | E16: CDE | F16: Did your institution conduct any capacity development/training event for UNCCD parties and other partners? | L16: Form 8
C17: 9 | D17: Output 2.2 | E17: CDE | F17: Has your institution supported any SLM/LDN project during the reporting period? | L17: Form 9
C18: 10 | D18: Output 2.4 | E18: CDE | F18: Did a member of your institution contribute to a global report or assessment? | L18: Form 10
C19: 11 | D19: Output 2.4 | E19: CDE | F19: Did your institution conduct a joint activity with the Rio conventions? | L19: Form 11
F21: Higher-level result whose responsibility should be cross-cutting
F22: Responsibility in POWB shown as ET, rather than consortium partner
M24: I have reported in the form
K25: Yes | M25: Already reported in the form by colleague
K26: No | M26: Delegate reporting

Sheet Jul ET 2
I3: WOCAT Indicators-based Reporting Checklist
C7: S/N | D7: Logframe Result | E7: Responsible Consortium Partner | F7: Questions on reporting requirements | K7: Response | L7: If Yes, consider filling the form who link is provided below | M7: Reporting status/ recommendation | N7: Colleague who Reported/ to whom reporting is delegated (Name & e-mail)
C8: 1 | D8: Impact | E8: All ET & Secretariat | F8: During the reporting period, have you become aware of a project or programme that is using WOCAT tools, methods and SLM evidence? | L8: Form 1
C9: 2 | D9: Outcome 2 | E9: All ET & Secretariat | F9: During the reporting period, have you become aware of policies or strategies that were developed using WOCAT tools, methods and knowledge | L9: Form 2
C10: 3 | D10: Output 1.2 | E10: Executive team | F10: Did you receive requests for capacity development during the reporting period? | L10: Form 3
G11: While you conduct the capacity development, consider using this register to ease reporting in Form 4 at a later time | L11: Event Register
C12: 4 | D12: Output 1.2 | E12: Executive team | F12: Did you conduct capacity development events (trainings) during the reporting period? | L12: Form 4
C13: 5 | D13: Output 2.1 | E13: ICARDA CDE | F13: During the reporting period, did you become aware of any mention of WOCAT in media (documents or platforms) of key stakeholder institutions? | L13: Form 5
C14: 6 | D14: Output 2.1 | E14: ICARDA CDE | F14: Are you aware of any publications in which WOCAT has been mentioned during the reporting period? | L14: Form 6
C15: 7 | D15: Output 2.1 | E15: ICARDA CDE | F15: Did your institution deliver presentations at UNCCD, UNFCCC and CBD events during the reporting period? | L15: Form 7
C16: 8 | D16: Output 2.2 | E16: CDE | F16: Did your institution conduct any capacity development/training event for UNCCD parties and other partners? | L16: Form 8
C17: 9 | D17: Output 2.2 | E17: CDE | F17: Has your institution supported any SLM/LDN project during the reporting period? | L17: Form 9
C18: 10 | D18: Output 2.4 | E18: CDE | F18: Did a member of your institution contribute to a global report or assessment? | L18: Form 10
C19: 11 | D19: Output 2.4 | E19: CDE | F19: Did your institution conduct a joint activity with the Rio conventions? | L19: Form 11
F21: Higher-level result whose responsibility should be cross-cutting
F22: Responsibility in POWB shown as ET, rather than consortium partner
M24: I have reported in the form
K25: Yes | M25: Already reported in the form by colleague
K26: No | M26: Delegate reporting

Sheet Aug ET 1
I3: WOCAT Indicators-based Reporting Checklist
C7: S/N | D7: Logframe Result | E7: Responsible Consortium Partner | F7: Questions on reporting requirements | K7: Response | L7: If Yes, consider filling the form who link is provided below | M7: Reporting status/ recommendation | N7: Colleague who Reported/ to whom reporting is delegated (Name & e-mail)
C8: 1 | D8: Impact | E8: All ET & Secretariat | F8: During the reporting period, have you become aware of a project or programme that is using WOCAT tools, methods and SLM evidence? | L8: Form 1
C9: 2 | D9: Outcome 2 | E9: All ET & Secretariat | F9: During the reporting period, have you become aware of policies or strategies that were developed using WOCAT tools, methods and knowledge | L9: Form 2
C10: 3 | D10: Output 1.2 | E10: Executive team | F10: Did you receive requests for capacity development during the reporting period? | L10: Form 3
G11: While you conduct the capacity development, consider using this register to ease reporting in Form 4 at a later time | L11: Event Register
C12: 4 | D12: Output 1.2 | E12: Executive team | F12: Did you conduct capacity development events (trainings) during the reporting period? | L12: Form 4
C13: 5 | D13: Output 2.1 | E13: ICARDA CDE | F13: During the reporting period, did you become aware of any mention of WOCAT in media (documents or platforms) of key stakeholder institutions? | L13: Form 5
C14: 6 | D14: Output 2.1 | E14: ICARDA CDE | F14: Are you aware of any publications in which WOCAT has been mentioned during the reporting period? | L14: Form 6
C15: 7 | D15: Output 2.1 | E15: ICARDA CDE | F15: Did your institution deliver presentations at UNCCD, UNFCCC and CBD events during the reporting period? | L15: Form 7
C16: 8 | D16: Output 2.2 | E16: CDE | F16: Did your institution conduct any capacity development/training event for UNCCD parties and other partners? | L16: Form 8
C17: 9 | D17: Output 2.2 | E17: CDE | F17: Has your institution supported any SLM/LDN project during the reporting period? | L17: Form 9
C18: 10 | D18: Output 2.4 | E18: CDE | F18: Did a member of your institution contribute to a global report or assessment? | L18: Form 10
C19: 11 | D19: Output 2.4 | E19: CDE | F19: Did your institution conduct a joint activity with the Rio conventions? | L19: Form 11
F21: Higher-level result whose responsibility should be cross-cutting
F22: Responsibility in POWB shown as ET, rather than consortium partner
M24: I have reported in the form
K25: Yes | M25: Already reported in the form by colleague
K26: No | M26: Delegate reporting

Sheet Aug ET 2
I3: WOCAT Indicators-based Reporting Checklist
C7: S/N | D7: Logframe Result | E7: Responsible Consortium Partner | F7: Questions on reporting requirements | K7: Response | L7: If Yes, consider filling the form who link is provided below | M7: Reporting status/ recommendation | N7: Colleague who Reported/ to whom reporting is delegated (Name & e-mail)
C8: 1 | D8: Impact | E8: All ET & Secretariat | F8: During the reporting period, have you become aware of a project or programme that is using WOCAT tools, methods and SLM evidence? | L8: Form 1
C9: 2 | D9: Outcome 2 | E9: All ET & Secretariat | F9: During the reporting period, have you become aware of policies or strategies that were developed using WOCAT tools, methods and knowledge | L9: Form 2
C10: 3 | D10: Output 1.2 | E10: Executive team | F10: Did you receive requests for capacity development during the reporting period? | L10: Form 3
G11: While you conduct the capacity development, consider using this register to ease reporting in Form 4 at a later time | L11: Event Register
C12: 4 | D12: Output 1.2 | E12: Executive team | F12: Did you conduct capacity development events (trainings) during the reporting period? | L12: Form 4
C13: 5 | D13: Output 2.1 | E13: ICARDA CDE | F13: During the reporting period, did you become aware of any mention of WOCAT in media (documents or platforms) of key stakeholder institutions? | L13: Form 5
C14: 6 | D14: Output 2.1 | E14: ICARDA CDE | F14: Are you aware of any publications in which WOCAT has been mentioned during the reporting period? | L14: Form 6
C15: 7 | D15: Output 2.1 | E15: ICARDA CDE | F15: Did your institution deliver presentations at UNCCD, UNFCCC and CBD events during the reporting period? | L15: Form 7
C16: 8 | D16: Output 2.2 | E16: CDE | F16: Did your institution conduct any capacity development/training event for UNCCD parties and other partners? | L16: Form 8
C17: 9 | D17: Output 2.2 | E17: CDE | F17: Has your institution supported any SLM/LDN project during the reporting period? | L17: Form 9
C18: 10 | D18: Output 2.4 | E18: CDE | F18: Did a member of your institution contribute to a global report or assessment? | L18: Form 10
C19: 11 | D19: Output 2.4 | E19: CDE | F19: Did your institution conduct a joint activity with the Rio conventions? | L19: Form 11
F21: Higher-level result whose responsibility should be cross-cutting
F22: Responsibility in POWB shown as ET, rather than consortium partner
M24: I have reported in the form
K25: Yes | M25: Already reported in the form by colleague
K26: No | M26: Delegate reporting

Sheet Sept ET 1
I3: WOCAT Indicators-based Reporting Checklist
C7: S/N | D7: Logframe Result | E7: Responsible Consortium Partner | F7: Questions on reporting requirements | K7: Response | L7: If Yes, consider filling the form who link is provided below | M7: Reporting status/ recommendation | N7: Colleague who Reported/ to whom reporting is delegated (Name & e-mail)
C8: 1 | D8: Impact | E8: All ET & Secretariat | F8: During the reporting period, have you become aware of a project or programme that is using WOCAT tools, methods and SLM evidence? | L8: Form 1
C9: 2 | D9: Outcome 2 | E9: All ET & Secretariat | F9: During the reporting period, have you become aware of policies or strategies that were developed using WOCAT tools, methods and knowledge | L9: Form 2
C10: 3 | D10: Output 1.2 | E10: Executive team | F10: Did you receive requests for capacity development during the reporting period? | L10: Form 3
G11: While you conduct the capacity development, consider using this register to ease reporting in Form 4 at a later time | L11: Event Register
C12: 4 | D12: Output 1.2 | E12: Executive team | F12: Did you conduct capacity development events (trainings) during the reporting period? | L12: Form 4
C13: 5 | D13: Output 2.1 | E13: ICARDA CDE | F13: During the reporting period, did you become aware of any mention of WOCAT in media (documents or platforms) of key stakeholder institutions? | L13: Form 5
C14: 6 | D14: Output 2.1 | E14: ICARDA CDE | F14: Are you aware of any publications in which WOCAT has been mentioned during the reporting period? | L14: Form 6
C15: 7 | D15: Output 2.1 | E15: ICARDA CDE | F15: Did your institution deliver presentations at UNCCD, UNFCCC and CBD events during the reporting period? | L15: Form 7
C16: 8 | D16: Output 2.2 | E16: CDE | F16: Did your institution conduct any capacity development/training event for UNCCD parties and other partners? | L16: Form 8
C17: 9 | D17: Output 2.2 | E17: CDE | F17: Has your institution supported any SLM/LDN project during the reporting period? | L17: Form 9
C18: 10 | D18: Output 2.4 | E18: CDE | F18: Did a member of your institution contribute to a global report or assessment? | L18: Form 10
C19: 11 | D19: Output 2.4 | E19: CDE | F19: Did your institution conduct a joint activity with the Rio conventions? | L19: Form 11
F21: Higher-level result whose responsibility should be cross-cutting
F22: Responsibility in POWB shown as ET, rather than consortium partner
M24: I have reported in the form
K25: Yes | M25: Already reported in the form by colleague
K26: No | M26: Delegate reporting

Sheet Sept ET 2
I3: WOCAT Indicators-based Reporting Checklist
C7: S/N | D7: Logframe Result | E7: Responsible Consortium Partner | F7: Questions on reporting requirements | K7: Response | L7: If Yes, consider filling the form who link is provided below | M7: Reporting status/ recommendation | N7: Colleague who Reported/ to whom reporting is delegated (Name & e-mail)
C8: 1 | D8: Impact | E8: All ET & Secretariat | F8: During the reporting period, have you become aware of a project or programme that is using WOCAT tools, methods and SLM evidence? | L8: Form 1
C9: 2 | D9: Outcome 2 | E9: All ET & Secretariat | F9: During the reporting period, have you become aware of policies or strategies that were developed using WOCAT tools, methods and knowledge | L9: Form 2
C10: 3 | D10: Output 1.2 | E10: Executive team | F10: Did you receive requests for capacity development during the reporting period? | L10: Form 3
G11: While you conduct the capacity development, consider using this register to ease reporting in Form 4 at a later time | L11: Event Register
C12: 4 | D12: Output 1.2 | E12: Executive team | F12: Did you conduct capacity development events (trainings) during the reporting period? | L12: Form 4
C13: 5 | D13: Output 2.1 | E13: ICARDA CDE | F13: During the reporting period, did you become aware of any mention of WOCAT in media (documents or platforms) of key stakeholder institutions? | L13: Form 5
C14: 6 | D14: Output 2.1 | E14: ICARDA CDE | F14: Are you aware of any publications in which WOCAT has been mentioned during the reporting period? | L14: Form 6
C15: 7 | D15: Output 2.1 | E15: ICARDA CDE | F15: Did your institution deliver presentations at UNCCD, UNFCCC and CBD events during the reporting period? | L15: Form 7
C16: 8 | D16: Output 2.2 | E16: CDE | F16: Did your institution conduct any capacity development/training event for UNCCD parties and other partners? | L16: Form 8
C17: 9 | D17: Output 2.2 | E17: CDE | F17: Has your institution supported any SLM/LDN project during the reporting period? | L17: Form 9
C18: 10 | D18: Output 2.4 | E18: CDE | F18: Did a member of your institution contribute to a global report or assessment? | L18: Form 10
C19: 11 | D19: Output 2.4 | E19: CDE | F19: Did your institution conduct a joint activity with the Rio conventions? | L19: Form 11
F21: Higher-level result whose responsibility should be cross-cutting
F22: Responsibility in POWB shown as ET, rather than consortium partner
M24: I have reported in the form
K25: Yes | M25: Already reported in the form by colleague
K26: No | M26: Delegate reporting

Sheet Oct ET 1
I3: WOCAT Indicators-based Reporting Checklist
C7: S/N | D7: Logframe Result | E7: Responsible Consortium Partner | F7: Questions on reporting requirements | K7: Response | L7: If Yes, consider filling the form who link is provided below | M7: Reporting status/ recommendation | N7: Colleague who Reported/ to whom reporting is delegated (Name & e-mail)
C8: 1 | D8: Impact | E8: All ET & Secretariat | F8: During the reporting period, have you become aware of a project or programme that is using WOCAT tools, methods and SLM evidence? | L8: Form 1
C9: 2 | D9: Outcome 2 | E9: All ET & Secretariat | F9: During the reporting period, have you become aware of policies or strategies that were developed using WOCAT tools, methods and knowledge | L9: Form 2
C10: 3 | D10: Output 1.2 | E10: Executive team | F10: Did you receive requests for capacity development during the reporting period? | L10: Form 3
G11: While you conduct the capacity development, consider using this register to ease reporting in Form 4 at a later time | L11: Event Register
C12: 4 | D12: Output 1.2 | E12: Executive team | F12: Did you conduct capacity development events (trainings) during the reporting period? | L12: Form 4
C13: 5 | D13: Output 2.1 | E13: ICARDA CDE | F13: During the reporting period, did you become aware of any mention of WOCAT in media (documents or platforms) of key stakeholder institutions? | L13: Form 5
C14: 6 | D14: Output 2.1 | E14: ICARDA CDE | F14: Are you aware of any publications in which WOCAT has been mentioned during the reporting period? | L14: Form 6
C15: 7 | D15: Output 2.1 | E15: ICARDA CDE | F15: Did your institution deliver presentations at UNCCD, UNFCCC and CBD events during the reporting period? | L15: Form 7
C16: 8 | D16: Output 2.2 | E16: CDE | F16: Did your institution conduct any capacity development/training event for UNCCD parties and other partners? | L16: Form 8
C17: 9 | D17: Output 2.2 | E17: CDE | F17: Has your institution supported any SLM/LDN project during the reporting period? | L17: Form 9
C18: 10 | D18: Output 2.4 | E18: CDE | F18: Did a member of your institution contribute to a global report or assessment? | L18: Form 10
C19: 11 | D19: Output 2.4 | E19: CDE | F19: Did your institution conduct a joint activity with the Rio conventions? | L19: Form 11
F21: Higher-level result whose responsibility should be cross-cutting
F22: Responsibility in POWB shown as ET, rather than consortium partner
M24: I have reported in the form
K25: Yes | M25: Already reported in the form by colleague
K26: No | M26: Delegate reporting

Sheet Oct ET 2
I3: WOCAT Indicators-based Reporting Checklist
C7: S/N | D7: Logframe Result | E7: Responsible Consortium Partner | F7: Questions on reporting requirements | K7: Response | L7: If Yes, consider filling the form who link is provided below | M7: Reporting status/ recommendation | N7: Colleague who Reported/ to whom reporting is delegated (Name & e-mail)
C8: 1 | D8: Impact | E8: All ET & Secretariat | F8: During the reporting period, have you become aware of a project or programme that is using WOCAT tools, methods and SLM evidence? | L8: Form 1
C9: 2 | D9: Outcome 2 | E9: All ET & Secretariat | F9: During the reporting period, have you become aware of policies or strategies that were developed using WOCAT tools, methods and knowledge | L9: Form 2
C10: 3 | D10: Output 1.2 | E10: Executive team | F10: Did you receive requests for capacity development during the reporting period? | L10: Form 3
G11: While you conduct the capacity development, consider using this register to ease reporting in Form 4 at a later time | L11: Event Register
C12: 4 | D12: Output 1.2 | E12: Executive team | F12: Did you conduct capacity development events (trainings) during the reporting period? | L12: Form 4
C13: 5 | D13: Output 2.1 | E13: ICARDA CDE | F13: During the reporting period, did you become aware of any mention of WOCAT in media (documents or platforms) of key stakeholder institutions? | L13: Form 5
C14: 6 | D14: Output 2.1 | E14: ICARDA CDE | F14: Are you aware of any publications in which WOCAT has been mentioned during the reporting period? | L14: Form 6
C15: 7 | D15: Output 2.1 | E15: ICARDA CDE | F15: Did your institution deliver presentations at UNCCD, UNFCCC and CBD events during the reporting period? | L15: Form 7
C16: 8 | D16: Output 2.2 | E16: CDE | F16: Did your institution conduct any capacity development/training event for UNCCD parties and other partners? | L16: Form 8
C17: 9 | D17: Output 2.2 | E17: CDE | F17: Has your institution supported any SLM/LDN project during the reporting period? | L17: Form 9
C18: 10 | D18: Output 2.4 | E18: CDE | F18: Did a member of your institution contribute to a global report or assessment? | L18: Form 10
C19: 11 | D19: Output 2.4 | E19: CDE | F19: Did your institution conduct a joint activity with the Rio conventions? | L19: Form 11
F21: Higher-level result whose responsibility should be cross-cutting
F22: Responsibility in POWB shown as ET, rather than consortium partner
M24: I have reported in the form
K25: Yes | M25: Already reported in the form by colleague
K26: No | M26: Delegate reporting

Sheet ET- 10 Nov
I3: WOCAT Indicators-based Reporting Checklist
C7: S/N | D7: Logframe Result | E7: Responsible Consortium Partner | F7: Questions on reporting requirements | K7: Response | L7: If Yes, consider filling the form who link is provided below | M7: Reporting status/ recommendation | N7: Colleague who Reported/ to whom reporting is delegated (Name & e-mail)
C8: 1 | D8: Impact | E8: All ET & Secretariat | F8: During the reporting period, have you become aware of a project or programme that is using WOCAT tools, methods and SLM evidence? | L8: Form 1
C9: 2 | D9: Outcome 2 | E9: All ET & Secretariat | F9: During the reporting period, have you become aware of policies or strategies that were developed using WOCAT tools, methods and knowledge | L9: Form 2
C10: 3 | D10: Output 1.2 | E10: Executive team | F10: Did you receive requests for capacity development during the reporting period? | L10: Form 3
G11: While you conduct the capacity development, consider using this register to ease reporting in Form 4 at a later time | L11: Event Register
C12: 4 | D12: Output 1.2 | E12: Executive team | F12: Did you conduct capacity development events (trainings) during the reporting period? | L12: Form 4
C13: 5 | D13: Output 2.1 | E13: ICARDA CDE | F13: During the reporting period, did you become aware of any mention of WOCAT in media (documents or platforms) of key stakeholder institutions? | L13: Form 5
C14: 6 | D14: Output 2.1 | E14: ICARDA CDE | F14: Are you aware of any publications in which WOCAT has been mentioned during the reporting period? | L14: Form 6
C15: 7 | D15: Output 2.1 | E15: ICARDA CDE | F15: Did your institution deliver presentations at UNCCD, UNFCCC and CBD events during the reporting period? | L15: Form 7
C16: 8 | D16: Output 2.2 | E16: CDE | F16: Did your institution conduct any capacity development/training event for UNCCD parties and other partners? | L16: Form 8
C17: 9 | D17: Output 2.2 | E17: CDE | F17: Has your institution supported any SLM/LDN project during the reporting period? | L17: Form 9
C18: 10 | D18: Output 2.4 | E18: CDE | F18: Did a member of your institution contribute to a global report or assessment? | L18: Form 10
C19: 11 | D19: Output 2.4 | E19: CDE | F19: Did your institution conduct a joint activity with the Rio conventions? | L19: Form 11
F21: Higher-level result whose responsibility should be cross-cutting
F22: Responsibility in POWB shown as ET, rather than consortium partner
M24: I have reported in the form
M25: Already reported in the form by colleague
M26: Delegate reporting
K31: Yes
K32: No

Sheet Nov ET 2
I3: WOCAT Indicators-based Reporting Checklist
C7: S/N | D7: Logframe Result | E7: Responsible Consortium Partner | F7: Questions on reporting requirements | K7: Response | L7: If Yes, consider filling the form who link is provided below | M7: Reporting status/ recommendation | N7: Colleague who Reported/ to whom reporting is delegated (Name & e-mail)
C8: 1 | D8: Impact | E8: All ET & Secretariat | F8: During the reporting period, have you become aware of a project or programme that is using WOCAT tools, methods and SLM evidence? | L8: Form 1
C9: 2 | D9: Outcome 2 | E9: All ET & Secretariat | F9: During the reporting period, have you become aware of policies or strategies that were developed using WOCAT tools, methods and knowledge | L9: Form 2
C10: 3 | D10: Output 1.2 | E10: Executive team | F10: Did you receive requests for capacity development during the reporting period? | L10: Form 3
G11: While you conduct the capacity development, consider using this register to ease reporting in Form 4 at a later time | L11: Event Register
C12: 4 | D12: Output 1.2 | E12: Executive team | F12: Did you conduct capacity development events (trainings) during the reporting period? | L12: Form 4
C13: 5 | D13: Output 2.1 | E13: ICARDA CDE | F13: During the reporting period, did you become aware of any mention of WOCAT in media (documents or platforms) of key stakeholder institutions? | L13: Form 5
C14: 6 | D14: Output 2.1 | E14: ICARDA CDE | F14: Are you aware of any publications in which WOCAT has been mentioned during the reporting period? | L14: Form 6
C15: 7 | D15: Output 2.1 | E15: ICARDA CDE | F15: Did your institution deliver presentations at UNCCD, UNFCCC and CBD events during the reporting period? | L15: Form 7
C16: 8 | D16: Output 2.2 | E16: CDE | F16: Did your institution conduct any capacity development/training event for UNCCD parties and other partners? | L16: Form 8
C17: 9 | D17: Output 2.2 | E17: CDE | F17: Has your institution supported any SLM/LDN project during the reporting period? | L17: Form 9
C18: 10 | D18: Output 2.4 | E18: CDE | F18: Did a member of your institution contribute to a global report or assessment? | L18: Form 10
C19: 11 | D19: Output 2.4 | E19: CDE | F19: Did your institution conduct a joint activity with the Rio conventions? | L19: Form 11
F21: Higher-level result whose responsibility should be cross-cutting
F22: Responsibility in POWB shown as ET, rather than consortium partner
M24: I have reported in the form
K25: Yes | M25: Already reported in the form by colleague
K26: No | M26: Delegate reporting

Sheet Dec ET 1
I3: WOCAT Indicators-based Reporting Checklist
C7: S/N | D7: Logframe Result | E7: Responsible Consortium Partner | F7: Questions on reporting requirements | K7: Response | L7: If Yes, consider filling the form who link is provided below | M7: Reporting status/ recommendation | N7: Colleague who Reported/ to whom reporting is delegated (Name & e-mail)
C8: 1 | D8: Impact | E8: All ET & Secretariat | F8: During the reporting period, have you become aware of a project or programme that is using WOCAT tools, methods and SLM evidence? | L8: Form 1
C9: 2 | D9: Outcome 2 | E9: All ET & Secretariat | F9: During the reporting period, have you become aware of policies or strategies that were developed using WOCAT tools, methods and knowledge | L9: Form 2
C10: 3 | D10: Output 1.2 | E10: Executive team | F10: Did you receive requests for capacity development during the reporting period? | L10: Form 3
G11: While you conduct the capacity development, consider using this register to ease reporting in Form 4 at a later time | L11: Event Register
C12: 4 | D12: Output 1.2 | E12: Executive team | F12: Did you conduct capacity development events (trainings) during the reporting period? | L12: Form 4
C13: 5 | D13: Output 2.1 | E13: ICARDA CDE | F13: During the reporting period, did you become aware of any mention of WOCAT in media (documents or platforms) of key stakeholder institutions? | L13: Form 5
C14: 6 | D14: Output 2.1 | E14: ICARDA CDE | F14: Are you aware of any publications in which WOCAT has been mentioned during the reporting period? | L14: Form 6
C15: 7 | D15: Output 2.1 | E15: ICARDA CDE | F15: Did your institution deliver presentations at UNCCD, UNFCCC and CBD events during the reporting period? | L15: Form 7
C16: 8 | D16: Output 2.2 | E16: CDE | F16: Did your institution conduct any capacity development/training event for UNCCD parties and other partners? | L16: Form 8
C17: 9 | D17: Output 2.2 | E17: CDE | F17: Has your institution supported any SLM/LDN project during the reporting period? | L17: Form 9
C18: 10 | D18: Output 2.4 | E18: CDE | F18: Did a member of your institution contribute to a global report or assessment? | L18: Form 10
C19: 11 | D19: Output 2.4 | E19: CDE | F19: Did your institution conduct a joint activity with the Rio conventions? | L19: Form 11
F21: Higher-level result whose responsibility should be cross-cutting
F22: Responsibility in POWB shown as ET, rather than consortium partner
M24: I have reported in the form
K25: Yes | M25: Already reported in the form by colleague
K26: No | M26: Delegate reporting

Sheet Dec ET 2
I3: WOCAT Indicators-based Reporting Checklist
C7: S/N | D7: Logframe Result | E7: Responsible Consortium Partner | F7: Questions on reporting requirements | K7: Response | L7: If Yes, consider filling the form who link is provided below | M7: Reporting status/ recommendation | N7: Colleague who Reported/ to whom reporting is delegated (Name & e-mail)
