Workbook
Name _dta1: #REF!
Name catLB: #REF!
Name data2: #REF!
Name datalb: #REF!
Name LB: #REF!
Name Lbok: #REF!
Name revisar2: #REF!
Name todounico: #REF!

Sheet Basic info
B2: Basic information | F2: Only for the head of family | M2: No. of family members | P2: No. of family members working on own farm or others farm | S2: No. of employed family members
A3: Sr.No | B3: Name | C3: Phone No | D3: Date | E3: Village | F3: Relation with head | G3: Gender | H3: Age | I3: Education | J3: Primary occupation | K3: Secondary occupation | L3: Social Participation | M3: Male | N3: Female | O3: Total | P3: Male | Q3: Female | R3: Total | S3: Male | T3: Female | U3: Total
A4: 1 | B4: Bhanwari Kanwar/ Gopal | C4: 9694452699 | D4: 42226 | E4: Mansagar | F4: wife | G4: f | H4: 40 | I4: 0 | M4: 3 | N4: 2 | O4: =M4+N4 -> 5 | P4: 3 | Q4: 2 | R4: =P4+Q4 -> 5 | S4: 0 | T4: 0 | U4: =S4+T4 -> 0
A5: 2 | B5: Pushp Kanar/ Rghunath Singh | C5: 97849828409 | D5: 42226 | E5: Mansagar | F5: wife | G5: f | H5: 40 | I5: 0 | M5: 1 | N5: 1 | O5: =M5+N5 -> 2 | P5: 1 | Q5: 1 | R5: =P5+Q5 -> 2 | S5: 0 | T5: 0 | U5: =S5+T5 -> 0
A6: 3 | B6: Pappu Devi, Sakta Ram | C6: 0 | E6: Mansagar | F6: wife | G6: f | H6: 36 | I6: 0 | M6: 3 | N6: 3 | O6: =M6+N6 -> 6 | P6: 3 | Q6: 3 | R6: =P6+Q6 -> 6 | S6: 0 | T6: 0 | U6: =S6+T6 -> 0
A7: 4 | B7: Kiran Kanar, Jtu Singh | C7: 9166931700 | E7: Danwara | F7: wife | G7: f | H7: 30 | I7: Primary | M7: 2 | N7: 2 | O7: =M7+N7 -> 4 | P7: 2 | Q7: 2 | R7: =P7+Q7 -> 4 | S7: 0 | T7: 0 | U7: =S7+T7 -> 0
A8: 5 | B8: Prem Kanwar, Kan Singh | C8: 9660772853 | D8: 42226 | E8: Danwara | F8: wife | G8: F | H8: 65 | I8: Secondary | M8: 8 | N8: 4 | O8: =M8+N8 -> 12 | P8: 6 | Q8: 0 | R8: =P8+Q8 -> 6 | S8: 1 | T8: 1 | U8: =S8+T8 -> 2
A9: 6 | B9: Hukam Kanwar, Dhirender Singh | C9: 9680605255 | E9: Danwara | F9: wife | G9: f | H9: 30 | I9: Secondary | M9: 2 | N9: 2 | O9: =M9+N9 -> 4 | P9: 1 | Q9: 0 | R9: =P9+Q9 -> 1 | S9: 1 | T9: 1 | U9: =S9+T9 -> 2
A10: 7 | B10: Minky Bishnoi, Mohanram | C10: 774225607 | E10: Mansagar | F10: wife | G10: f | H10: 40 | I10: Secondary | M10: 3 | N10: 2 | O10: =M10+N10 -> 5 | P10: 1 | Q10: 1 | R10: =P10+Q10 -> 2 | S10: 1 | T10: 2 | U10: =S10+T10 -> 3
A11: 8 | B11: Laxmi Devi, Kanaram | C11: 9602011878 | E11: Mansagar | F11: wife | G11: f | H11: 32 | I11: 0 | M11: 2 | N11: 6 | O11: =M11+N11 -> 8 | P11: 1 | Q11: 1 | R11: =P11+Q11 -> 2 | S11: 0 | T11: 0 | U11: =S11+T11 -> 0
A12: 9 | B12: Surati Devi, Baburam | C12: 0 | E12: Mansagar | F12: wife | G12: f | H12: 45 | I12: 0 | M12: 5 | N12: 1 | O12: =M12+N12 -> 6 | P12: 2 | Q12: 0 | R12: =P12+Q12 -> 2 | S12: 1 | T12: 0 | U12: =S12+T12 -> 1
A13: 10 | B13: Manohar Kanwar, Chotu Singh | C13: 9784610308 | E13: Mansagar | F13: wife | G13: f | H13: 50 | I13: 0 | M13: 3 | N13: 4 | O13: =M13+N13 -> 7 | P13: 2 | Q13: 0 | R13: =P13+Q13 -> 2 | S13: 1 | T13: 0 | U13: =S13+T13 -> 1
A14: 11 | B14: Rajender Kanwar, Shyam Singh | C14: 8107373432 | E14: Danwara | F14: wife | G14: f | H14: 47 | I14: Primary | M14: 2 | N14: 5 | O14: =M14+N14 -> 7 | P14: 0 | Q14: 0 | R14: =P14+Q14 -> 0 | S14: 1 | T14: 1 | U14: =S14+T14 -> 2
A15: 12 | B15: Sugana Devi, Biaram | C15: 0 | E15: Mansagar | F15: wife | G15: f | H15: 40 | I15: 0 | M15: 4 | N15: 4 | O15: =M15+N15 -> 8 | P15: 3 | Q15: 4 | R15: =P15+Q15 -> 7 | S15: 0 | T15: 0 | U15: =S15+T15 -> 0
A16: 13 | B16: Puran Kanwar, Manohar Singh | C16: 8505004485 | E16: Danwara | F16: wife | G16: f | H16: 28 | I16: Secondary | M16: 4 | N16: 4 | O16: =M16+N16 -> 8 | P16: 1 | Q16: 0 | R16: =P16+Q16 -> 1 | S16: 1 | T16: 0 | U16: =S16+T16 -> 1
A17: 14 | B17: Usha Jain, Sardar Jain | C17: 9610170970 | E17: Danwara | F17: wife | G17: f | H17: 31 | I17: Secondary | M17: 2 | N17: 3 | O17: =M17+N17 -> 5 | P17: 0 | Q17: 0 | R17: =P17+Q17 -> 0 | S17: 0 | T17: 0 | U17: =S17+T17 -> 0
A18: 15 | B18: Raju Kanwar, Bhanwar Singh | C18: 9928475828 | E18: Danwara | F18: wife | G18: f | H18: 30 | I18: Secondary | M18: 3 | N18: 1 | O18: =M18+N18 -> 4 | P18: 1 | Q18: 0 | R18: =P18+Q18 -> 1 | S18: 0 | T18: 0 | U18: =S18+T18 -> 0
A19: 16 | B19: Nirma Devi, Ram Niwas ram | C19: 7240145416 | E19: Mansagar | F19: wife | G19: f | H19: 25 | I19: 0 | M19: 2 | N19: 3 | O19: =M19+N19 -> 5 | P19: 1 | Q19: 1 | R19: =P19+Q19 -> 2 | S19: 0 | T19: 0 | U19: =S19+T19 -> 0
A20: 17 | B20: Suva Devi, JalaRam | C20: 0 | E20: Mansagar | F20: wife | G20: f | H20: 60 | I20: 0 | M20: 4 | N20: 3 | O20: =M20+N20 -> 7 | P20: 2 | Q20: 3 | R20: =P20+Q20 -> 5 | S20: 0 | T20: 0 | U20: =S20+T20 -> 0
A21: 18 | B21: Papu Devi, Ramrkh | C21: 9680046934 | E21: Mansagar | F21: wife | G21: f | H21: 45 | I21: Primary | M21: 2 | N21: 6 | O21: =M21+N21 -> 8 | P21: 2 | Q21: 5 | R21: =P21+Q21 -> 7 | S21: 0 | T21: 0 | U21: =S21+T21 -> 0
A22: 19 | B22: Indra Devi, Papu Ram | C22: 0 | E22: Mansagar | F22: wife | G22: f | H22: 28 | I22: 0 | M22: 3 | N22: 4 | O22: =M22+N22 -> 7 | P22: 1 | Q22: 2 | R22: =P22+Q22 -> 3 | S22: 0 | T22: 0 | U22: =S22+T22 -> 0
A23: 20 | B23: Suvati Devi, Jagmal Ram | C23: 8107157202 | E23: Mansagar | F23: wife | G23: f | H23: 65 | I23: 0 | M23: 4 | N23: 2 | O23: =M23+N23 -> 6 | P23: 1 | Q23: 2 | R23: =P23+Q23 -> 3 | S23: 0 | T23: 0 | U23: =S23+T23 -> 0
A24: 21 | B24: Surta Devi, Anna Ram | C24: 0 | E24: Danwara | F24: wife | G24: f | H24: 36 | I24: Primary | M24: 3 | N24: 2 | O24: =M24+N24 -> 5 | P24: 2 | Q24: 2 | R24: =P24+Q24 -> 4 | S24: 1 | T24: 0 | U24: =S24+T24 -> 1
A25: 22 | B25: Maggu Kanwar, Babu Singh | C25: 0 | E25: Mansagar | F25: wife | G25: f | H25: 50 | I25: 0 | M25: 3 | N25: 2 | O25: =M25+N25 -> 5 | P25: 2 | Q25: 0 | R25: =P25+Q25 -> 2 | S25: 1 | T25: 0 | U25: =S25+T25 -> 1
A26: 23 | B26: Paru Devi, Mohan Rm | C26: 0 | E26: Danwara | F26: wife | G26: f | H26: 65 | I26: 0 | M26: 7 | N26: 6 | O26: =M26+N26 -> 13 | P26: 7 | Q26: 3 | R26: =P26+Q26 -> 10 | S26: 1 | T26: 0 | U26: =S26+T26 -> 1
A27: 24 | B27: Kamma Devi, Shakar Ram | C27: 0 | E27: Mansagar | F27: wife | G27: f | H27: 50 | I27: 0 | M27: 3 | N27: 3 | O27: =M27+N27 -> 6 | P27: 3 | Q27: 2 | R27: =P27+Q27 -> 5 | S27: 0 | T27: 0 | U27: =S27+T27 -> 0
A28: 25 | B28: Sushila Devi, Asu Ram | C28: 9001912815 | E28: Danwara | F28: wife | G28: f | H28: 22 | I28: Secondary | M28: 1 | N28: 1 | O28: =M28+N28 -> 2 | P28: 1 | Q28: 1 | R28: =P28+Q28 -> 2 | S28: 0 | T28: 0 | U28: =S28+T28 -> 0
A29: 26 | O29: =M29+N29 -> 0 | R29: =P29+Q29 -> 0 | U29: =S29+T29 -> 0
A30: 27 | O30: =M30+N30 -> 0 | R30: =P30+Q30 -> 0 | U30: =S30+T30 -> 0
A31: 28 | O31: =M31+N31 -> 0 | R31: =P31+Q31 -> 0 | U31: =S31+T31 -> 0
A32: 29 | O32: =M32+N32 -> 0 | R32: =P32+Q32 -> 0 | U32: =S32+T32 -> 0
A33: 30 | O33: =M33+N33 -> 0 | R33: =P33+Q33 -> 0 | U33: =S33+T33 -> 0
A34: 31 | O34: =M34+N34 -> 0 | R34: =P34+Q34 -> 0 | U34: =S34+T34 -> 0
A35: 32 | O35: =M35+N35 -> 0 | R35: =P35+Q35 -> 0 | U35: =S35+T35 -> 0
I37: 0 = illiterate | M37: Men (n=110) | N37: Women (n=25)
I38: 5 = primary | L38: Illiterate | M38: 37.3 | N38: 56
I39: 8, 9, 10, 11, 12 = secondary | L39: Primary | M39: 13.6 | N39: 16
I40: 15 = BSc/BA (graduation) | L40: Secondary | M40: 45.5 | N40: 28
I41: 17 = MSc/MA (post graduation) | L41: Undergrad | M41: 1.8 | N41: 0
L42: Graduate | M42: 1.8 | N42: 0
...

Sheet Land and livestock info
A2: Sr.No | B2: Name | C2: Land use pattern (in ha) | G2: Livestock holding
C3: Owned land holding | E3: Rented in/ rented out
C4: Irrigated | D4: Non-irrigated | E4: Irrigated | F4: Non-irrigated | G4: Bullock/cow | H4: Buffaloes | I4: Goats | J4: Sheep | K4: Poultry
A5: 1 | B5: ='Basic info'!B4 -> Bhanwari Kanwar/ Gopal | C5: 24 | D5: 0 | E5: 0 | F5: 0 | G5: 2 | H5: 2 | I5: 3 | J5: 0 | K5: 0
A6: 2 | B6: ='Basic info'!B5 -> Pushp Kanar/ Rghunath Singh | C6: 30 | D6: 0 | E6: 0 | F6: 0 | G6: 3 | H6: 2 | I6: 2 | J6: 0 | K6: 0
A7: 3 | B7: ='Basic info'!B6 -> Pappu Devi, Sakta Ram | C7: 22 | D7: 0 | E7: 0 | F7: 0 | G7: 3 | H7: 2 | I7: 0 | J7: 0 | K7: 0
A8: 4 | B8: ='Basic info'!B7 -> Kiran Kanar, Jtu Singh | C8: 30 | D8: 30 | E8: 0 | F8: 0 | G8: 0 | H8: 3 | I8: 7 | J8: 6 | K8: 0
A9: 5 | B9: ='Basic info'!B8 -> Prem Kanwar, Kan Singh | C9: 60 | D9: 0 | E9: 0 | F9: 0 | G9: 3 | H9: 3 | I9: 10 | J9: 0 | K9: 0
A10: 6 | B10: ='Basic info'!B9 -> Hukam Kanwar, Dhirender Singh | C10: 50 | D10: 10 | E10: 40 | F10: 0 | G10: 4 | H10: 2 | I10: 1 | J10: 0 | K10: 0
A11: 7 | B11: ='Basic info'!B10 -> Minky Bishnoi, Mohanram | C11: 60 | D11: 0 | E11: 0 | F11: 0 | G11: 3 | H11: 3 | I11: 0 | J11: 0 | K11: 0
A12: 8 | B12: ='Basic info'!B11 -> Laxmi Devi, Kanaram | C12: 19 | D12: 0 | E12: 19 | F12: 0 | G12: 3 | H12: 0 | I12: 3 | J12: 0 | K12: 0
A13: 9 | B13: ='Basic info'!B12 -> Surati Devi, Baburam | C13: 12 | D13: 0 | E13: 0 | F13: 0 | G13: 3 | H13: 3 | I13: 0 | J13: 0 | K13: 0
A14: 10 | B14: ='Basic info'!B13 -> Manohar Kanwar, Chotu Singh | C14: 16 | D14: 0 | E14: 16 | F14: 0 | G14: 2 | H14: 2 | I14: 3 | J14: 0 | K14: 0
A15: 11 | B15: ='Basic info'!B14 -> Rajender Kanwar, Shyam Singh | C15: 50 | D15: 20 | E15: 30 | F15: 0 | G15: 2 | H15: 0 | I15: 2 | J15: 0 | K15: 0
A16: 12 | B16: ='Basic info'!B15 -> Sugana Devi, Biaram | C16: 30 | D16: 0 | E16: 0 | F16: 0 | G16: 4 | H16: 5 | I16: 0 | J16: 0 | K16: 0
... A29: 25 | B29: ='Basic info'!B28 -> Sushila Devi, Asu Ram | C29: 10 | D29: 10 | E29: 0 | F29: 0 | G29: 0 | H29: 2 | I29: 0 | J29: 0 | K29: 0

Sheet Assets and work done
A2: Sr.No | B2: Name | E2: Assets used by women | M2: Crops grown and work done by her
E3: Do you have land in your name | G3: sewing machine | I3: Agri. implements or machine | K3: Cycle/ any other thing to work and life easy | M3: Crop | N3: Area (ha) | O3: Crop | P3: Area (ha) | Q3: Crop | R3: Area (ha) | S3: Crop | T3: Area (ha) | U3: Crop | V3: Area (ha) | W3: Crop | X3: Area (ha) | Y3: Crop | Z3: Area (ha) | AA3: Crop | AB3: Area (ha) | AC3: Crop | AD3: Area (ha) | AE3: Crop | AF3: Area (ha) | AG3: Crop | AH3: Area (ha) | AI3: Work done
E4: Yes | F4: No | G4: Yes | H4: No | I4: Yes | J4: No | K4: Yes | L4: No | AI4: Planting | AJ4: Weeding | AK4: Irrigation | AL4: Hrvesting
A5: 1 | B5: ='Basic info'!B4 -> Bhanwari Kanwar/ Gopal | F5: No | H5: No | J5: No | L5: No | M5: Bajara | N5: 4 | O5: Jeera | P5: 4 | Q5: Castor | R5: 4 | S5: Til | T5: 4 | U5: cotton | W5: Mong | X5: 4 | Y5: guar | Z5: 4 | AA5: Onion | AI5: No | AJ5: No | AK5: No | AL5: No
A6: 2 | B6: ='Basic info'!B5 -> Pushp Kanar/ Rghunath Singh | F6: No | H6: No | I6: yes | L6: No | M6: Bajara | N6: 8 | O6: Jeera | P6: 4 | Q6: Castor | R6: 7 | S6: Til | T6: 2 | U6: cotton | W6: Mong | X6: 2 | Y6: guar | Z6: 7 | AA6: Onion | AI6: No | AJ6: No | AK6: No | AL6: No
A7: 3 | B7: ='Basic info'!B6 -> Pappu Devi, Sakta Ram | F7: No | G7: Yes | I7: Yes | L7: No | M7: Bajara | N7: 8 | O7: Jeera | P7: 2 | Q7: Castor | R7: 5 | S7: Til | T7: 2 | U7: cotton | V7: 2 | W7: Mong | X7: 2 | Y7: guar | AA7: Onion | AI7: No | AJ7: No | AK7: No | AL7: No
A8: 4 | B8: ='Basic info'!B7 -> Kiran Kanar, Jtu Singh | F8: No | H8: No | J8: No | L8: No | M8: Bajara | N8: 3 | O8: Jeera | P8: 0 | Q8: Cstor | R8: 3 | S8: Til | T8: 5 | U8: cotton | V8: 9 | W8: Mong | X8: 4 | Y8: guar | Z8: 6 | AA8: Onion | AI8: Yes | AJ8: Yes | AK8: Yes | AL8: Yes
A9: 5 | B9: ='Basic info'!B8 -> Prem Kanwar, Kan Singh | F9: No | G9: Yes | J9: No | L9: No | M9: Bajara | N9: 18 | O9: Jeera | P9: 0 | Q9: Castor | R9: 30 | S9: Til | T9: 2 | U9: cotton | W9: Mong | X9: 8 | Y9: guar | Z9: 2 | AA9: Onion | AI9: No | AJ9: No | AK9: No | AL9: No
A10: 6 | B10: ='Basic info'!B9 -> Hukam Kanwar, Dhirender Singh | F10: No | H10: No | J10: No | L10: No | M10: Bajara | N10: 10 | O10: Jeera | P10: 0 | Q10: Castor | R10: 10 | S10: Til | T10: 2 | U10: cotton | V10: 0 | W10: Mong | X10: 13 | Y10: guar | Z10: 5 | AA10: Onion | AI10: No | AJ10: No | AK10: No | AL10: No
A11: 7 | B11: ='Basic info'!B10 -> Minky Bishnoi, Mohanram | F11: No | H11: No | J11: No | L11: No | M11: Bajara | O11: Jeera | Q11: Castor | S11: Til | U11: cotton | Y11: guar | AA11: Onion
A12: 8 | B12: ='Basic info'!B11 -> Laxmi Devi, Kanaram | F12: No | H12: No | J12: No | L12: No | M12: Bajara | N12: 10 | O12: Jeera | P12: 0 | Q12: Castor | R12: 10 | S12: Til | T12: 0 | U12: cotton | V12: 5 | W12: Mong | X12: 9 | Y12: guar | Z12: 5 | AA12: Onion | AI12: No | AJ12: No | AK12: No | AL12: No
A13: 9 | B13: ='Basic info'!B12 -> Surati Devi, Baburam | F13: No | H13: No | J13: No | L13: No | M13: Bajara | N13: 5 | O13: Jeera | Q13: Castor | R13: 5 | S13: Til | T13: 1 | U13: cotton | W13: Mong | X13: 1 | Y13: guar | Z13: 2 | AA13: Onion | AB13: 5 | AI13: Yes | AJ13: Yes | AK13: Yes | AL13: Yes
A14: 10 | B14: ='Basic info'!B13 -> Manohar Kanwar, Chotu Singh | F14: No | H14: No | J14: No | L14: No | M14: Bajara | N14: 3 | O14: Jeera | P14: 3 | Q14: Castor | R14: 3 | S14: Til | T14: 0 | U14: cotton | V14: 0 | W14: Mong | X14: 0 | Y14: guar | Z14: 2 | AA14: Onion | AB14: 5 | AI14: No | AJ14: No | AK14: No | AL14: No
A15: 11 | B15: ='Basic info'!B14 -> Rajender Kanwar, Shyam Singh | F15: No | G15: Yes | J15: No | L15: No | M15: Bajara | N15: 6 | O15: Jeera | P15: 4 | Q15: Castor | S15: Til | T15: 5 | U15: cotton | V15: 0 | W15: Mong | X15: 2 | Y15: guar | Z15: 9 | AA15: Onion | AB15: 0 | AI15: No | AJ15: No | AK15: No | AL15: No
A16: 12 | B16: ='Basic info'!B15 -> Sugana Devi, Biaram | F16: No | H16: No | J16: No | L16: No | M16: Bajara | N16: 7 | O16: Jeera | P16: 0 | Q16: Castor | R16: 7 | S16: Til | T16: 2 | U16: cotton | V16: 5 | W16: Mong | Y16: guar | Z16: 4 | AA16: Onion | AB16: 5 | AI16: Yes | AJ16: Yes | AK16: Yes | AL16: Yes
A17: 13 | B17: ='Basic info'!B16 -> Puran Kanwar, Manohar Singh | F17: No | G17: Yes | J17: No | L17: No | M17: Bajara | N17: 7 | O17: Jeera | P17: 5 | Q17: Castor | S17: Til | T17: 5 | U17: cotton | W17: Mong | X17: 13 | Y17: guar | AA17: Onion | AB17: 0 | AC17: Mustrd | AD17: 5 | AI17: No | AJ17: No | AK17: No | AL17: No
A18: 14 | B18: ='Basic info'!B17 -> Usha Jain, Sardar Jain | F18: No | G18: Yes | J18: No | L18: No | M18: Bajara | N18: 4 | O18: Jeera | P18: 2 | Q18: Castor | R18: 4 | S18: Til | T18: 1 | U18: cotton | V18: 2 | W18: Mong | X18: 7 | Y18: guar | AA18: Onion | AB18: 0 | AI18: No | AJ18: No | AK18: No | AL18: No
A19: 15 | B19: ='Basic info'!B18 -> Raju Kanwar, Bhanwar Singh | F19: No | G19: Yes | J19: No | L19: No | M19: Bajara | N19: 5 | O19: Jeera | Q19: Castor | R19: 5 | S19: Til | U19: cotton | W19: Mong | X19: 12 | Y19: guar | AA19: Onion | AB19: 0 | AG19: Carrot | AH19: 5 | AI19: No | AJ19: No | AK19: No | AL19: No
A20: 16 | B20: ='Basic info'!B19 -> Nirma Devi, Ram Niwas ram | F20: No | H20: No | J20: No | L20: No | M20: Bajara | N20: 5 | O20: Jeera | Q20: Castor | R20: 1 | S20: Til | T20: 2 | U20: cotton | V20: 4 | W20: Mong | X20: 2 | Y20: guar | AA20: Onion | AB20: 0 | AI20: Yes | AJ20: Yes | AK20: Yes | AL20: Yes
A21: 17 | B21: ='Basic info'!B20 -> Suva Devi, JalaRam | E21: Yes | H21: No | J21: No | L21: No | M21: Bajara | N21: 7 | O21: Jeera | Q21: Castor | R21: 9 | S21: Til | T21: 16 | U21: cotton | V21: 9 | W21: Mong | X21: 8 | Y21: guar | AA21: Onion | AB21: 0 | AI21: Yes | AJ21: Yes | AK21: Yes | AL21: Yes
A22: 18 | B22: ='Basic info'!B21 -> Papu Devi, Ramrkh | F22: No | H22: No | J22: No | L22: No | M22: Bajara | N22: 9 | O22: Jeera | Q22: Castor | R22: 9 | S22: Til | T22: 16 | U22: cotton | V22: 9 | W22: Mong | X22: 21 | Y22: guar | AA22: Onion | AB22: 0 | AI22: Yes | AJ22: Yes | AK22: Yes | AL22: Yes
A23: 19 | B23: ='Basic info'!B22 -> Indra Devi, Papu Ram | F23: No | H23: No | J23: No | L23: No | M23: Bajara | N23: 2 | O23: Jeera | Q23: Castor | R23: 1 | S23: Til | T23: 1 | U23: cotton | V23: 4 | W23: Mong | X23: 6 | Y23: guar | AA23: Onion | AB23: 0 | AI23: Yes | AJ23: Yes | AK23: Yes | AL23: Yes
A24: 20 | B24: ='Basic info'!B23 -> Suvati Devi, Jagmal Ram | F24: No | H24: No | J24: No | L24: No | M24: Bajara | O24: Jeera | P24: 4 | Q24: Castor | R24: 4 | S24: Til | T24: 1 | U24: cotton | W24: Mong | X24: 2 | Y24: guar | Z24: 1 | AA24: Onion | AI24: Yes | AJ24: Yes | AK24: Yes | AL24: Yes
A25: 21 | B25: ='Basic info'!B24 -> Surta Devi, Anna Ram | F25: No | H25: No | J25: No | L25: No | M25: Bajara | N25: 10 | O25: Jeera | P25: 9 | Q25: Castor | S25: Til | T25: 1 | U25: cotton | V25: 5 | W25: Mong | X25: 29 | Y25: guar | AA25: Onion | AI25: Yes | AJ25: Yes | AK25: Yes | AL25: Yes
A26: 22 | B26: ='Basic info'!B25 -> Maggu Kanwar, Babu Singh | F26: No | H26: No | J26: No | L26: No | M26: Bajara | N26: 2 | O26: Jeera | Q26: Castor | R26: 1 | S26: Til | U26: cotton | V26: 1 | W26: Mong | Y26: guar | Z26: 2 | AA26: Onion | AB26: 2 | AE26: Chilli | AF26: 1 | AI26: No | AJ26: No | AK26: No | AL26: No
A27: 23 | B27: ='Basic info'!B26 -> Paru Devi, Mohan Rm | F27: No | H27: No | J27: No | L27: No | M27: Bajara | N27: 7 | O27: Jeera | Q27: Castor | S27: Til | T27: 1 | U27: cotton | V27: 2 | W27: Mong | X27: 6 | Y27: guar | Z27: 4 | AA27: Onion | AI27: Yes | AJ27: Yes | AK27: Yes | AL27: Yes
A28: 24 | B28: ='Basic info'!B27 -> Kamma Devi, Shakar Ram | E28: Yes | F28: No | H28: No | J28: No | L28: No | M28: Bajara | N28: 9 | O28: Jeera | Q28: Castor | S28: Til | T28: 1 | U28: cotton | V28: 5 | W28: Mong | X28: 7 | Y28: guar | AA28: Onion | AI28: Yes | AJ28: Yes | AK28: Yes | AL28: Yes
A29: 25 | B29: ='Basic info'!B28 -> Sushila Devi, Asu Ram | F29: No | H29: No | J29: No | L29: No | M29: Bajara | N29: 5 | O29: Jeera | Q29: Castor | R29: 2 | S29: Til | T29: 3 | U29: cotton | W29: Mong | X29: 7 | Y29: guar | Z29: 2 | AA29: Onion | AI29: Yes | AJ29: Yes | AK29: Yes | AL29: Yes
E30: 2 | F30: 23 | G30: 6 | H30: 19 | I30: 2 | J30: 23 | K30: 0 | L30: 25
D31: Women holding land under her name | E31: =E30/25*100 -> 8 | F31: =F30/25*100 -> 92 | G31: =G30/25*100 -> 24 | H31: =H30/25*100 -> 76 | I31: =I30/25*100 -> 8 | J31: =J30/25*100 -> 92 | K31: =K30/25*100 -> 0 | L31: =L30/25*100 -> 100

Sheet Irrigation and mechanisation
A2: Sr.No | B2: Name | C2: Irrigation Status | N2: Level of mechanisation Total (1), Partial (2) and No mechanisation (3)
C3: Source | G3: Type | K3: Availability of irrigation water | N3: Field preparation | O3: Sowing | P3: Interculture operations | Q3: Harvesting
C4: Canal (%) | D4: Tube well/ Well(%) | E4: Other source | F4: Other source (%) | G4: Furrow (%) | H4: Sprinkler (%) | I4: Drip (%) | J4: Other (%) | K4: Adequate | L4: Less | M4: Scarce
A5: 1 | B5: ='Basic info'!B4 -> Bhanwari Kanwar/ Gopal | D5: 100 | G5: 100 | H5: 0 | L5: y | N5: 3 | O5: 3 | P5: 3 | Q5: 3
A6: 2 | B6: ='Basic info'!B5 -> Pushp Kanar/ Rghunath Singh | D6: 100 | G6: 50 | H6: 50 | L6: y | N6: 1 | O6: 1 | P6: 3 | Q6: 1
A7: 3 | B7: ='Basic info'!B6 -> Pappu Devi, Sakta Ram | D7: 100 | G7: 50 | H7: 50 | L7: y | N7: 1 | O7: 1 | P7: 3 | Q7: 1
A8: 4 | B8: ='Basic info'!B7 -> Kiran Kanar, Jtu Singh | D8: 100 | G8: 70 | H8: 30 | L8: y | N8: 3 | O8: 3 | P8: 3 | Q8: 3
A9: 5 | B9: ='Basic info'!B8 -> Prem Kanwar, Kan Singh | D9: 100 | G9: 50 | H9: 50 | L9: y | N9: 1 | O9: 1 | P9: 3 | Q9: 1
A10: 6 | B10: ='Basic info'!B9 -> Hukam Kanwar, Dhirender Singh | D10: 100 | G10: 50 | H10: 50 | L10: y | N10: 1 | O10: 1 | P10: 3 | Q10: 1
A11: 7 | B11: ='Basic info'!B10 -> Minky Bishnoi, Mohanram | D11: 100 | G11: 50 | H11: 50 | L11: y | N11: 1 | O11: 1 | P11: 3 | Q11: 1
A12: 8 | B12: ='Basic info'!B11 -> Laxmi Devi, Kanaram | D12: 100 | G12: 50 | H12: 50 | L12: y | N12: 1 | O12: 1 | P12: 3 | Q12: 1
A13: 9 | B13: ='Basic info'!B12 -> Surati Devi, Baburam | D13: 100 | G13: 50 | H13: 50 | L13: y | N13: 1 | O13: 1 | P13: 3 | Q13: 1
A14: 10 | B14: ='Basic info'!B13 -> Manohar Kanwar, Chotu Singh | D14: 100 | G14: 50 | H14: 50 | L14: y | N14: 1 | O14: 1 | P14: 3 | Q14: 1
A15: 11 | B15: ='Basic info'!B14 -> Rajender Kanwar, Shyam Singh | D15: 100 | G15: 50 | H15: 50 | L15: y | N15: 3 | O15: 3 | P15: 3 | Q15: 3
A16: 12 | B16: ='Basic info'!B15 -> Sugana Devi, Biaram | D16: 100 | G16: 50 | H16: 50 | L16: y | N16: 1 | O16: 1 | P16: 3 | Q16: 1
... A29: 25 | B29: ='Basic info'!B28 -> Sushila Devi, Asu Ram | D29: 100 | G29: 100 | H29: 0 | L29: y | N29: 3 | O29: 3 | P29: 3 | Q29: 3

Sheet Standard of living
A1: Sr.No | B1: Name | C1: a | D1: b | F1: c | H1: d | J1: e | L1: f | N1: g | Q1: h | T1: i | V1: j | X1: k | AA1: l | AD1: m | AG1: n | AJ1: o | AM1: p
C2: House condition (Score 1 to 5) | D2: Individual water source | F2: House electrification/ sanitation | H2: TV | J2: DTH connection | L2: Cooking gas (LPG use) | N2: Decision about her expenses on cloths | Q2: Decision about her expenses on medicines | T2: Does she buy things she like | V2: Does she spend time the way she wants | X2: Decision on buying food taken by | AA2: Decision on growing crops taken by | AD2: Decision on household expenditure | AG2: Decision on purchase of assets | AJ2: Decision on marriage of son/daughter | AM2: Decision about day to day food | AP2: why they installed drip | AQ2: Why drip is not installed
D3: Yes | E3: No | F3: Yes | G3: No | H3: Yes | I3: No | J3: Yes | K3: No | L3: Yes | M3: No | N3: Male | O3: Female | P3: Both | Q3: Male | R3: Female | S3: Both | T3: Yes | U3: No | V3: Yes | W3: No | X3: Male | Y3: Female | Z3: Both | AA3: Male | AB3: Female | AC3: Both | AD3: Male | AE3: Female | AF3: Both | AG3: Male | AH3: Female | AI3: Both | AJ3: Male | AK3: Female | AL3: Both | AM3: Male | AN3: Female | AO3: Both | AP3: Reson | AQ3: Reason
A4: 1 | B4: ='Basic info'!B4 -> Bhanwari Kanwar/ Gopal | C4: 2 | E4: No | G4: No | I4: No | K4: No | L4: Yes | O4: Female | S4: Both | T4: Yes | W4: No | Y4: Female | AC4: Both | AF4: Both | AI4: Both | AL4: Both | AN4: Female | AQ4: no money
A5: 2 | B5: ='Basic info'!B5 -> Pushp Kanar/ Rghunath Singh | C5: 3 | E5: No | G5: No | I5: Yes | J5: Yes | L5: Yes | O5: Female | S5: Both | V5: Yes | Y5: Female | AA5: male | AD5: Male | AI5: both | AN5: Female | AQ5: save labour & land not even
A6: 3 | B6: ='Basic info'!B6 -> Pappu Devi, Sakta Ram | C6: 3 | E6: No | G6: No | I6: No | K6: No | L6: Yes | N6: Male | S6: Both | T6: Yes | W6: No | Y6: Female | AA6: male | AF6: both | AG6: male | AL6: Both | AN6: Female | AP6: good income and land is not even
A7: 4 | B7: ='Basic info'!B7 -> Kiran Kanar, Jtu Singh | C7: 3 | E7: No | G7: No | I7: No | K7: No | M7: No | O7: Female | S7: Both | W7: want 2 work | Y7: Female | AC7: Both | AD7: Male | AI7: both | AL7: Both | AN7: Female | AP7: water is less
A8: 5 | B8: ='Basic info'!B8 -> Prem Kanwar, Kan Singh | C8: 5 | E8: No | G8: No | I8: No | K8: No | L8: Yes | P8: Both | S8: Both | U8: no | V8: Yes | Z8: Yes | AA8: Male | AE8: Female | AI8: both | AL8: Both | AN8: Female | AP8: water is less, labour is less & land uneven
A9: 6 | B9: ='Basic info'!B9 -> Hukam Kanwar, Dhirender Singh | C9: 4 | D9: Yes | F9: Yes | H9: Yes | J9: Yes | L9: Yes | N9: Male | S9: Both | T9: Yes | V9: Yes | Z9: Yes | AB9: Female | AD9: Male | AI9: both | AL9: Both | AP9: water is less, labour is less & land uneven
A10: 7 | B10: ='Basic info'!B10 -> Minky Bishnoi, Mohanram | C10: 3 | E10: No | G10: No | I10: No | K10: No | L10: Yes | O10: Female | S10: Both | T10: Yes | W10: No | Y10: Female | AA10: Male | AE10: Female | AI10: both | AL10: Both | AN10: Female | AP10: water is less, labour is less & land uneven
A11: 8 | B11: ='Basic info'!B11 -> Laxmi Devi, Kanaram | C11: 3 | E11: No | G11: No | I11: No | K11: No | L11: Yes | O11: Female | R11: Female | T11: Yes | V11: Yes | Y11: Female | AA11: Male | AF11: Both | AI11: both | AL11: Both | AN11: Female | AP11: water is less, labour is less & land uneven
A12: 9 | B12: ='Basic info'!B12 -> Surati Devi, Baburam | C12: 3 | E12: No | G12: No | I12: No | K12: No | L12: Yes | N12: Male | S12: Both | T12: Yes | V12: Yes | Y12: Female | AA12: Male | AF12: Both | AI12: both | AL12: Both | AN12: Female | AP12: water is less, labour is less & land uneven
A13: 10 | B13: ='Basic info'!B13 -> Manohar Kanwar, Chotu Singh | C13: 4 | E13: No | F13: Yes | H13: Yes | J13: Yes | L13: Yes | O13: Female | S13: Both | T13: Yes | V13: Yes | Y13: Female | AA13: Male | AF13: Both | AI13: both | AL13: Both | AN13: Female | AP13: water is less, labour is less & land uneven
A14: 11 | B14: ='Basic info'!B14 -> Rajender Kanwar, Shyam Singh | C14: 2 | D14: Yes | F14: Yes | H14: Yes | K14: No | L14: Yes | P14: Both | S14: Both | T14: Yes | V14: Yes | Y14: Female | Z14: Both | AC14: Both | AF14: Both | AI14: both | AL14: Both | AN14: Female | AP14: water is less
A15: 12 | B15: ='Basic info'!B15 -> Sugana Devi, Biaram | C15: 3 | E15: No | G15: No | I15: No | K15: No | L15: Yes | N15: Male | S15: Both | U15: no | W15: No | Y15: Female | AA15: Male | AF15: Both | AG15: Male | AL15: Both | AN15: Female | AP15: water is less, labour is less & land uneven
A16: 13 | B16: ='Basic info'!B16 -> Puran Kanwar, Manohar Singh | C16: 3 | D16: Yes | F16: Yes | H16: Yes | K16: No | L16: Yes | O16: Female | S16: Both | U16: no | V16: Yes | Y16: Female | AA16: Male | AF16: Both | AI16: both | AL16: Both | AN16: Female | AP16: water is less, labour is less & land uneven
A17: 14 | B17: ='Basic info'!B17 -> Usha Jain, Sardar Jain | C17: 3 | E17: No | G17: No | H17: Yes | J17: Yes | L17: Yes | O17: Female | S17: Both | U17: no | V17: Yes | Y17: Female | AA17: Male | AF17: Both | AI17: both | AL17: Both | AN17: Female | AP17: water is less, labour is less & land uneven
A18: 15 | B18: ='Basic info'!B18 -> Raju Kanwar, Bhanwar Singh | C18: 2 | E18: No | F18: Yes | H18: Yes | J18: Yes | L18: Yes | P18: Both | S18: Both | T18: Yes | V18: Yes | Y18: Female | AA18: Male | AD18: Male | AG18: Male | AL18: Both | AN18: Female | AP18: sandy soil, more income
A19: 16 | B19: ='Basic info'!B19 -> Nirma Devi, Ram Niwas ram | C19: 2 | E19: No | G19: No | I19: No | K19: No | L19: Yes | O19: Female | S19: Both | T19: Yes | V19: Yes | Y19: Female | AA19: Male | AD19: Male | AG19: Male | AL19: Both | AN19: Female | AQ19: Crop do not grow well
A20: 17 | B20: ='Basic info'!B20 -> Suva Devi, JalaRam | C20: 3 | E20: No | G20: No | I20: No | K20: No | L20: Yes | O20: Female | S20: Both | T20: Yes | V20: Yes | Y20: Female | AA20: Male | AD20: Male | AG20: Male | AL20: Both | AN20: Female | AP20: to save water
A21: 18 | B21: ='Basic info'!B21 -> Papu Devi, Ramrkh | C21: 3 | E21: No | G21: No | I21: No | K21: No | L21: Yes | O21: Female | S21: Both | T21: Yes | V21: Yes | Y21: Female | AA21: Male | AD21: Male | AG21: Male | AL21: Both | AN21: Female | AP21: to save water
A22: 19 | B22: ='Basic info'!B22 -> Indra Devi, Papu Ram | C22: 3 | E22: No | G22: No | I22: No | K22: No | L22: Yes | O22: Female | S22: Both | T22: Yes | V22: Yes | Y22: Female | AA22: Male | AD22: Male | AG22: Male | AL22: Both | AM22: Male | AP22: 0 | AQ22: no experience
A23: 20 | B23: ='Basic info'!B23 -> Suvati Devi, Jagmal Ram | C23: 2 | D23: Yes | G23: No | I23: No | K23: No | L23: Yes | P23: Both | S23: Both | T23: Yes | V23: Yes | Y23: Female | AC23: Both | AD23: Male | AG23: Male | AL23: Both | AN23: Female | AQ23: Crop do not grow well
A24: 21 | B24: ='Basic info'!B24 -> Surta Devi, Anna Ram | C24: 2 | E24: No | G24: No | H24: Yes | J24: Yes | L24: Yes | O24: Female | S24: Both | T24: Yes | V24: Yes | Y24: Female | AA24: Male | AF24: Both | AI24: both | AL24: Both | AN24: Female | AP24: water is less, labour is less & land uneven
A25: 22 | B25: ='Basic info'!B25 -> Maggu Kanwar, Babu Singh | C25: 2 | D25: Yes | F25: Yes | H25: Yes | K25: No | L25: Yes | O25: Female | S25: Both | T25: Yes | V25: Yes | Y25: Female | AA25: Male | AF25: Both | AI25: both | AL25: Both | AN25: Female | AQ25: not much land
A26: 23 | B26: ='Basic info'!B26 -> Paru Devi, Mohan Rm | C26: 2 | E26: No | F26: Yes | H26: Yes | K26: No | L26: Yes | N26: Male | S26: Both | T26: Yes | V26: Yes | Y26: Female | AA26: Male | AD26: Male | AG26: Male | AL26: Both | AN26: Female | AQ26: less land, saline water and no money
A27: 24 | B27: ='Basic info'!B27 -> Kamma Devi, Shakar Ram | C27: 2 | E27: No | G27: No | H27: Yes | K27: No | L27: Yes | O27: Female | S27: Both | T27: Yes | V27: Yes | Y27: Female | AA27: Male | AD27: Male | AH27: Female | AL27: Both | AN27: Female | AQ27: no water
A28: 25 | B28: ='Basic info'!B28 -> Sushila Devi, Asu Ram | C28: 2 | E28: No | G28: No | H28: Yes | K28: No | L28: Yes | O28: Female | S28: Both | T28: Yes | V28: Yes | Y28: Female | AA28: Male | AD28: Male | AG28: Male | AL28: Both | AN28: Female | AQ28: not much land
F29: 5 | G29: 25 | H29: 100 | I29: =F29/G29*H29 -> 20

Sheet cildren and families attitude 
A2: Sr.No | B2: Name | C2: Children of her | AM2: Families attitude towards girls and women
C3: 1st Girl | D3: Age | E3: Education | F3: Age at marriage | G3: 2nd Girl | H3: Age | I3: Education | J3: Age at marriage | K3: 3rd Girl | L3: Age | M3: Education | N3: Age at marriage | O3: 4th Girl | P3: Age | Q3: Education | R3: Age at marriage | S3: 1st Boy | T3: Age | U3: Education | V3: Age at marriage is decided & old one got married | W3: 2nd Boy | X3: Age | Y3: Education | Z3: Age at marriage | AA3: 3rd Boy | AB3: Age | AC3: Education | AD3: Age at marriage | AE3: 4th Boy | AF3: Age | AG3: Education | AH3: Age at marriage | AI3: 5th Boy | AJ3: Age | AK3: Education | AL3: Age at marriage | AM3: Do parents allow girl to study | AO3: Do the wife use veil at home | AQ3: Can she talk to people freely | AS3: Does she has some money as her own or her income | AU3: Does she get money from husband to spend | AW3: Does she have mobile | AY3: Does she have land in her name | BA3: Does she have her account | BC3: Does she has cycle | BE3: Does she have any other asset to make work easy
AM4: Yes | AN4: No | AO4: Yes | AP4: No | AQ4: Yes | AR4: No | AS4: Yes | AT4: No | AU4: Yes | AV4: No | AW4: Yes | AX4: No | AY4: Yes | AZ4: No | BA4: Yes | BB4: No | BC4: Yes | BD4: No | BE4: Yes | BF4: No
A5: 1 | B5: ='Basic info'!B4 -> Bhanwari Kanwar/ Gopal | C5: 1 | D5: 18 | E5: 12 | F5: unmarried | G5: 0 | H5: 0 | I5: 0 | J5: 0 | K5: 0 | L5: 0 | M5: 0 | N5: 0 | O5: 0 | P5: 0 | Q5: 0 | R5: 0 | S5: 1 | T5: 17 | U5: 12 | V5: unmarried | W5: 2 | X5: 15 | Y5: 0 | Z5: unmarried | AA5: 0 | AB5: 0 | AC5: 0 | AD5: 0 | AE5: 0 | AF5: 0 | AG5: 0 | AH5: 0 | AI5: 0 | AJ5: 0 | AK5: 0 | AL5: 0 | AM5: Yes | AO5: Yes | AR5: No | AT5: No | AV5: No | AW5: Yes | AZ5: No | BA5: Yes | BD5: No | BF5: No
A6: 2 | B6: ='Basic info'!B5 -> Pushp Kanar/ Rghunath Singh | C6: 0 | D6: 0 | E6: 0 | F6: 0 | G6: 0 | H6: 0 | I6: 0 | J6: 0 | K6: 0 | L6: 0 | M6: 0 | N6: 0 | O6: 0 | P6: 0 | Q6: 0 | R6: 0 | S6: 0 | T6: 0 | U6: 0 | V6: 0 | W6: 0 | X6: 0 | Y6: 0 | Z6: 0 | AA6: 0 | AB6: 0 | AC6: 0 | AD6: 0 | AE6: 0 | AF6: 0 | AG6: 0 | AH6: 0 | AI6: 0 | AJ6: 0 | AK6: 0 | AL6: 0 | AO6: Yes | AQ6: Yes | AS6: Yes | AV6: No | AX6: No | AZ6: No | BA6: Yes | BD6: No | BE6: Yes
A7: 3 | B7: ='Basic info'!B6 -> Pappu Devi, Sakta Ram | C7: 5 | D7: 9 | E7: 5 | F7: 4 year | G7: 1 | H7: 17 | I7: 10 | J7: 17 year | K7: 0 | L7: 0 | M7: 0 | N7: 0 | O7: 0 | P7: 0 | Q7: 0 | R7: 0 | S7: 1 | T7: 13 | U7: 10 | V7: unmarried | W7: 2 | X7: 15 | Y7: 12 | Z7: 3 | AA7: 0 | AB7: 0 | AC7: 0 | AD7: 0 | AE7: 0 | AF7: 0 | AG7: 0 | AH7: 0 | AI7: 0 | AJ7: 0 | AK7: 0 | AL7: 0 | AM7: yes | AO7: yes | AR7: No | AT7: No | AU7: Yes | AX7: No | AZ7: No | BA7: Yes | BD7: No | BF7: No
A8: 4 | B8: ='Basic info'!B7 -> Kiran Kanar, Jtu Singh | C8: 1 | D8: 9 | E8: 5 | F8: unmarried | G8: 0 | H8: 0 | I8: 0 | J8: 0 | K8: 0 | L8: 0 | M8: 0 | N8: 0 | O8: 0 | P8: 0 | Q8: 0 | R8: 0 | S8: 1 | T8: 11 | U8: 7 | V8: unmarried | W8: 0 | X8: 0 | Y8: 0 | Z8: 0 | AA8: 0 | AB8: 0 | AC8: 0 | AD8: 0 | AE8: 0 | AF8: 0 | AG8: 0 | AH8: 0 | AI8: 0 | AJ8: 0 | AK8: 0 | AL8: 0 | AM8: Yes | AO8: Yes | AQ8: Yes | AT8: No | AV8: nn | AW8: Yes | AZ8: No | BA8: Yes | BD8: No | BF8: No
A9: 5 | B9: ='Basic info'!B8 -> Prem Kanwar, Kan Singh | C9: 1 | D9: 15 | E9: 12 | F9: unmarried | G9: 0 | H9: 0 | I9: 0 | J9: 0 | K9: 0 | L9: 0 | M9: 0 | N9: 0 | O9: 0 | P9: 0 | Q9: 0 | R9: 0 | S9: 1 | T9: 22 | U9: 15 | V9: 19 | W9: 2 | X9: 20 | Y9: 15 | Z9: unmarried | AA9: 3 | AB9: 17 | AC9: 12 | AD9: unmarried | AE9: 4 | AF9: 12 | AG9: 8 | AH9: unmarried | AI9: 5 | AJ9: 10 | AK9: 5 | AL9: unmarried | AM9: Yes | AO9: Yes | AQ9: Yes | AS9: Yes | AU9: Yes | AW9: Yes | AZ9: No | BA9: Yes | BD9: No | BF9: No
A10: 6 | B10: ='Basic info'!B9 -> Hukam Kanwar, Dhirender Singh | C10: 1 | D10: 10 | E10: 6 | F10: unmarried | G10: 0 | H10: 0 | I10: 0 | J10: 0 | K10: 0 | L10: 0 | M10: 0 | N10: 0 | O10: 0 | P10: 0 | Q10: 0 | R10: 0 | S10: 1 | T10: 12 | U10: 8 | V10: unmarried | W10: 0 | X10: 0 | Y10: 0 | Z10: 0 | AA10: 0 | AB10: 0 | AC10: 0 | AD10: 0 | AE10: 0 | AF10: 0 | AG10: 0 | AH10: 0 | AI10: 0 | AJ10: 0 | AK10: 0 | AL10: 0 | AM10: Yes | AO10: Yes | AQ10: Yes | AT10: No | AU10: Yes | AW10: Yes | AZ10: No | BA10: Yes | BD10: No | BF10: No
A11: 7 | B11: ='Basic info'!B10 -> Minky Bishnoi, Mohanram | C11: 0 | D11: 0 | E11: 0 | F11: 0 | G11: 0 | H11: 0 | I11: 0 | J11: 0 | K11: 0 | L11: 0 | M11: 0 | N11: 0 | O11: 0 | P11: 0 | Q11: 0 | R11: 0 | S11: 1 | T11: 20 | U11: 12 | V11: unmarried | W11: 2 | X11: 17 | Y11: 12 | Z11: 0 | AA11: 0 | AB11: 0 | AC11: 0 | AD11: 0 | AE11: 0 | AF11: 0 | AG11: 0 | AH11: 0 | AI11: 0 | AJ11: 0 | AK11: 0 | AL11: 0 | AM11: Yes | AO11: Yes | AQ11: Yes | AS11: Yes | AU11: Yes | AW11: Yes | AY11: Yes | BA11: Yes | BD11: No | BF11: No
A12: 8 | B12: ='Basic info'!B11 -> Laxmi Devi, Kanaram | C12: 1 | D12: 13 | E12: 5 | F12: unmarried | G12: 2 | H12: 8 | I12: 3 | J12: unmarried | K12: 3 | L12: 6 | M12: 3 | N12: unmarried | O12: 0 | P12: 0 | Q12: 0 | R12: 0 | S12: 1 | T12: 4 | U12: 1 | V12: unmarried | W12: 0 | X12: 0 | Y12: 0 | Z12: 0 | AA12: 0 | AB12: 0 | AC12: 0 | AD12: 0 | AE12: 0 | AF12: 0 | AG12: 0 | AH12: 0 | AI12: 0 | AJ12: 0 | AK12: 0 | AL12: 0 | AM12: Yes | AO12: Yes | AQ12: Yes | AT12: No | AU12: Yes | AW12: Yes | AZ12: No | BA12: Yes | BD12: No | BF12: No
A13: 9 | B13: ='Basic info'!B12 -> Surati Devi, Baburam | C13: 0 | D13: 0 | E13: 0 | F13: 0 | G13: 0 | H13: 0 | I13: 0 | J13: 0 | K13: 0 | L13: 0 | M13: 0 | N13: 0 | O13: 0 | P13: 0 | Q13: 0 | R13: 0 | S13: 1 | T13: 12 | U13: 9 | V13: unmarried | W13: 2 | X13: 16 | Y13: 10 | Z13: unmarried | AA13: 3 | AB13: 20 | AC13: 15 | AD13: unmarried | AE13: 4 | AF13: 23 | AG13: 15 | AH13: unmarried | AI13: 0 | AJ13: 0 | AK13: 0 | AL13: 0 | AM13: Yes | AO13: Yes | AR13: No | AT13: No | AU13: Yes | AX13: No | AZ13: No | BA13: Yes | BD13: No | BF13: No
A14: 10 | B14: ='Basic info'!B13 -> Manohar Kanwar, Chotu Singh | C14: 0 | D14: 0 | E14: 0 | F14: 0 | G14: 0 | H14: 0 | I14: 0 | J14: 0 | K14: 0 | L14: 0 | M14: 0 | N14: 0 | O14: 0 | P14: 0 | Q14: 0 | R14: 0 | S14: 1 | T14: 21 | U14: 12 | V14: 2 | W14: 0 | X14: 0 | Y14: 0 | Z14: 0 | AA14: 0 | AB14: 0 | AC14: 0 | AD14: 0 | AE14: 0 | AF14: 0 | AG14: 0 | AH14: 0 | AI14: 0 | AJ14: 0 | AK14: 0 | AL14: 0 | AM14: Yes | AO14: Yes | AQ14: Yes | AS14: Yes | AU14: Yes | AW14: Yes | AZ14: No | BA14: Yes | BD14: No | BF14: No
A15: 11 | B15: ='Basic info'!B14 -> Rajender Kanwar, Shyam Singh | C15: 1 | D15: 5 | E15: 1 | F15: unmarried | G15: 2 | H15: 4 | I15: 1 | J15: unmarried | K15: 3 | L15: 0 | M15: 0 | N15: unmarried | O15: 0 | P15: 0 | Q15: 0 | R15: 0 | S15: 0 | T15: 0 | U15: 0 | V15: 0 | W15: 0 | X15: 0 | Y15: 0 | Z15: 0 | AA15: 0 | AB15: 0 | AC15: 0 | AD15: 0 | AE15: 0 | AF15: 0 | AG15: 0 | AH15: 0 | AI15: 0 | AJ15: 0 | AK15: 0 | AL15: 0 | AM15: Yes | AO15: Yes | AQ15: Yes | AT15: No | AU15: Yes | AW15: Yes | AZ15: No | BA15: Yes | BD15: No | BF15: No
A16: 12 | B16: ='Basic info'!B15 -> Sugana Devi, Biaram | C16: 0 | D16: 0 | E16: 0 | F16: 0 | G16: 0 | H16: 0 | I16: 0 | J16: 0 | K16: 0 | L16: 0 | M16: 0 | N16: 0 | O16: 0 | P16: 0 | Q16: 0 | R16: 0 | S16: 1 | T16: 14 | U16: 9 | V16: unmarried | W16: 2 | X16: 20 | Y16: 12 | Z16: 6 | AA16: 0 | AB16: 0 | AC16: 0 | AD16: 0 | AE16: 0 | AF16: 0 | AG16: 0 | AH16: 0 | AI16: 0 | AJ16: 0 | AK16: 0 | AL16: 0 | AM16: Yes | AO16: Yes | AR16: No | AS16: Yes | AV16: No | AX16: No | AY16: Yes | BA16: Yes | BD16: No | BF16: No
A17: 13 | B17: ='Basic info'!B16 -> Puran Kanwar, Manohar Singh | C17: 1 | D17: 4 | E17: 1 | F17: unmarried | G17: 0 | H17: 0 | I17: 0 | J17: 0 | K17: 0 | L17: 0 | M17: 0 | N17: 0 | O17: 0 | P17: 0 | Q17: 0 | R17: 0 | S17: 1 | T17: 2 | U17: 0 | V17: unmarried | AA17: 0 | AB17: 0 | AC17: 0 | AD17: 0 | AE17: 0 | AF17: 0 | AG17: 0 | AH17: 0 | AI17: 0 | AJ17: 0 | AK17: 0 | AL17: 0 | AM17: Yes | AO17: Yes | AQ17: Yes | AS17: Yes | AU17: Yes | AW17: Yes | AZ17: no | BA17: Yes | BD17: No | BF17: No
A18: 14 | B18: ='Basic info'!B17 -> Usha Jain, Sardar Jain | C18: 1 | D18: 12 | E18: 7 | F18: unmarried | G18: 0 | H18: 0 | I18: 0 | J18: 0 | K18: 0 | L18: 0 | M18: 0 | N18: 0 | O18: 0 | P18: 0 | Q18: 0 | R18: 0 | S18: 1 | T18: 22 | U18: 15 | V18: unmarried | W18: 2 | X18: 10 | Y18: 6 | Z18: unmarried | AA18: 0 | AB18: 0 | AC18: 0 | AD18: 0 | AE18: 0 | AF18: 0 | AG18: 0 | AH18: 0 | AI18: 0 | AJ18: 0 | AK18: 0 | AL18: 0 | AM18: Yes | AO18: Yes | AQ18: Yes | AS18: Yes | AU18: Yes | AW18: Yes | AZ18: No | BA18: Yes | BD18: No | BF18: No
A19: 15 | B19: ='Basic info'!B18 -> Raju Kanwar, Bhanwar Singh | C19: 0 | D19: 0 | E19: 0 | F19: 0 | G19: 0 | H19: 0 | I19: 0 | J19: 0 | K19: 0 | L19: 0 | M19: 0 | N19: 0 | O19: 0 | P19: 0 | Q19: 0 | R19: 0 | S19: 1 | T19: 12 | U19: 8 | V19: unmarried | W19: 2 | X19: 10 | Y19: 5 | Z19: unmarried | AA19: 0 | AB19: 0 | AC19: 0 | AD19: 0 | AE19: 0 | AF19: 0 | AG19: 0 | AH19: 0 | AI19: 0 | AJ19: 0 | AK19: 0 | AL19: 0 | AM19: Yes | AO19: Yes | AQ19: Yes | AT19: No | AV19: No | AW19: Yes | AZ19: No | BA19: Yes | BD19: No | BF19: No
A20: 16 | B20: ='Basic info'!B19 -> Nirma Devi, Ram Niwas ram | C20: 1 | D20: 1 | E20: 0 | F20: unmarried | G20: 2 | H20: 10 month | I20: 0 | J20: unmarried | K20: 0 | L20: 0 | M20: 0 | N20: 0 | O20: 0 | P20: 0 | Q20: 0 | R20: 0 | S20: 1 | T20: 3 | U20: 1 | V20: unmarried | AA20: 0 | AB20: 0 | AC20: 0 | AD20: 0 | AE20: 0 | AF20: 0 | AG20: 0 | AH20: 0 | AI20: 0 | AJ20: 0 | AK20: 0 | AL20: 0 | AM20: Yes | AO20: Yes | AQ20: Yes | AS20: Yes | AU20: Yes | AW20: Yes | AZ20: No | BA20: Yes | BD20: No | BF20: No
A21: 17 | B21: ='Basic info'!B20 -> Suva Devi, JalaRam | C21: 1 | D21: 18 | E21: 9 | F21: 5 | I21: 0 | J21: 0 | K21: 0 | L21: 0 | M21: 0 | N21: 0 | O21: 0 | P21: 0 | Q21: 0 | R21: 0 | S21: 1 | T21: 2 | U21: 0 | V21: unmarried | W21: 2 | X21: 1 | Y21: 0 | Z21: unmarried | AA21: 0 | AB21: 0 | AC21: 0 | AD21: 0 | AE21: 0 | AF21: 0 | AG21: 0 | AH21: 0 | AI21: 0 | AJ21: 0 | AK21: 0 | AL21: 0 | AM21: Yes | AO21: Yes | AQ21: Yes | AS21: Yes | AU21: Yes | AX21: No | AY21: Yes | BA21: Yes | BD21: No | BF21: No
A22: 18 | B22: ='Basic info'!B21 -> Papu Devi, Ramrkh | C22: 1 | D22: 17 | E22: 10 | F22: 5 | G22: 2 | H22: 15 | I22: 9 | J22: 5 | K22: 3 | L22: 13 | M22: 6 | N22: 5 | O22: 4 | P22: 13 | Q22: 6 | R22: 5 | S22: 1 | T22: 19 | U22: 12 | V22: 8 | W22: 0 | X22: 0 | Y22: 0 | Z22: 0 | AA22: 0 | AB22: 0 | AC22: 0 | AD22: 0 | AE22: 0 | AF22: 0 | AG22: 0 | AH22: 0 | AI22: 0 | AJ22: 0 | AK22: 0 | AL22: 0 | AM22: Yes | AO22: Yes | AQ22: Yes | AT22: No | AU22: Yes | AW22: Yes | AZ22: No | BA22: Yes | BD22: No | BF22: No
A23: 19 | B23: ='Basic info'!B22 -> Indra Devi, Papu Ram | C23: 1 | D23: 10 | E23: 6 | F23: unmarried | G23: 2 | H23: 8 | I23: 5 | J23: unmarried | K23: 0 | L23: 0 | M23: 0 | N23: 0 | O23: 0 | P23: 0 | Q23: 0 | R23: 0 | S23: 1 | T23: 6 | U23: 3 | V23: 2 | W23: 2 | X23: 4 | Y23: 1 | Z23: unmarried | AA23: 0 | AB23: 0 | AC23: 0 | AD23: 0 | AE23: 0 | AF23: 0 | AG23: 0 | AH23: 0 | AI23: 0 | AJ23: 0 | AK23: 0 | AL23: 0 | AM23: Yes | AO23: Yes | AQ23: Yes | AT23: No | AU23: Yes | AX23: No | AZ23: No | BA23: Yes | BD23: No | BF23: No
A24: 20 | B24: ='Basic info'!B23 -> Suvati Devi, Jagmal Ram | C24: 1 | D24: 8 | E24: 4 | F24: unmarried | G24: 0 | H24: 0 | I24: 0 | J24: 0 | K24: 0 | L24: 0 | M24: 0 | N24: 0 | O24: 0 | P24: 0 | Q24: 0 | R24: 0 | S24: 1 | T24: 8 | U24: 6 | V24: 2 | W24: 2 | X24: 5 | Y24: 1 | Z24: unmarried | AA24: 0 | AB24: 0 | AC24: 0 | AD24: 0 | AE24: 0 | AF24: 0 | AG24: 0 | AH24: 0 | AI24: 0 | AJ24: 0 | AK24: 0 | AL24: 0 | AM24: Yes | AO24: Yes | AQ24: Yes | AT24: No | AU24: Yes | AW24: Yes | AZ24: No | BA24: Yes | BD24: No | BF24: No
A25: 21 | B25: ='Basic info'!B24 -> Surta Devi, Anna Ram | C25: 1 | D25: 17 | E25: 11 | F25: 3 | G25: 0 | H25: 0 | I25: 0 | J25: 0 | K25: 0 | L25: 0 | M25: 0 | N25: 0 | O25: 0 | P25: 0 | Q25: 0 | R25: 0 | S25: 1 | T25: 19 | U25: 15 | V25: 3 | W25: 2 | X25: 15 | Y25: 9 | Z25: 3 | AA25: 0 | AB25: 0 | AC25: 0 | AD25: 0 | AE25: 0 | AF25: 0 | AG25: 0 | AH25: 0 | AI25: 0 | AJ25: 0 | AK25: 0 | AL25: 0 | AM25: Yes | AO25: Yes | AQ25: Yes | AS25: Yes | AU25: Yes | AX25: No | AZ25: No | BA25: Yes | BD25: No | BF25: No
A26: 22 | B26: ='Basic info'!B25 -> Maggu Kanwar, Babu Singh | C26: 0 | D26: 0 | E26: 0 | F26: 0 | G26: 0 | H26: 0 | I26: 0 | J26: 0 | K26: 0 | L26: 0 | M26: 0 | N26: 0 | O26: 0 | P26: 0 | Q26: 0 | R26: 0 | S26: 1 | T26: 8 month | U26: 0 | V26: unmarried | W26: 0 | X26: 0 | Y26: 0 | Z26: 0 | AA26: 0 | AB26: 0 | AC26: 0 | AD26: 0 | AE26: 0 | AF26: 0 | AG26: 0 | AH26: 0 | AI26: 0 | AJ26: 0 | AK26: 0 | AL26: 0 | AM26: Yes | AO26: Yes | AQ26: Yes | AT26: No | AU26: Yes | AX26: No | AZ26: No | BA26: Yes | BD26: No | BF26: No
A27: 23 | B27: ='Basic info'!B26 -> Paru Devi, Mohan Rm | C27: 1 | D27: 8 | E27: 4 | F27: unmarried | G27: 2 | H27: 7 | I27: 2 | J27: unmarried | K27: 3 | L27: 4 | M27: 0 | N27: unmarried | O27: 0 | P27: 0 | Q27: 0 | R27: 0 | S27: 1 | T27: 2 | U27: 0 | V27: unmarried | W27: 2 | X27: 8 | Y27: 4 | Z27: unmarried | AA27: 2 | AB27: 7 | AC27: 4 | AD27: unmarried | AE27: 3 | AF27: 5 | AG27: 1 | AH27: unmarried | AI27: 0 | AJ27: 0 | AK27: 0 | AL27: 0 | AM27: Yes | AO27: Yes | AQ27: Yes | AT27: No | AU27: Yes | AX27: No | AZ27: No | BB27: No | BD27: No | BF27: No
A28: 24 | B28: ='Basic info'!B27 -> Kamma Devi, Shakar Ram | C28: 1 | D28: 3 | E28: 0 | F28: unmarried | G28: 0 | H28: 0 | I28: 0 | J28: 0 | K28: 0 | L28: 0 | M28: 0 | N28: 0 | O28: 0 | P28: 0 | Q28: 0 | R28: 0 | S28: 1 | T28: 3 days | U28: 0 | V28: unmarried | W28: 0 | X28: 0 | Y28: 0 | Z28: 0 | AA28: 0 | AB28: 0 | AC28: 0 | AD28: 0 | AE28: 0 | AF28: 0 | AG28: 0 | AH28: 0 | AI28: 0 | AJ28: 0 | AK28: 0 | AL28: 0 | AM28: Yes | AO28: Yes | AQ28: 0 | AR28: No | AS28: Yes | AU28: Yes | AX28: No | AY28: Yes | BA28: Yes | BD28: No | BF28: No
A29: 25 | B29: ='Basic info'!B28 -> Sushila Devi, Asu Ram | C29: 0 | D29: 0 | E29: 0 | F29: 0 | G29: 0 | H29: 0 | I29: 0 | J29: 0 | K29: 0 | L29: 0 | M29: 0 | N29: 0 | O29: 0 | P29: 0 | Q29: 0 | R29: 0 | S29: 0 | T29: 0 | U29: 0 | V29: 0 | W29: 0 | X29: 0 | Y29: 0 | Z29: 0 | AA29: 0 | AB29: 0 | AC29: 0 | AD29: 0 | AE29: 0 | AF29: 0 | AG29: 0 | AH29: 0 | AI29: 0 | AJ29: 0 | AK29: 0 | AL29: 0 | AM29: Yes | AO29: Yes | AQ29: Yes | AT29: No | AU29: Yes | AW29: Yes | AZ29: No | BA29: Yes | BD29: No | BF29: No

Sheet Work she does
A2: Sr.No | B2: Name | C2: Cooking | D2: Livestock | E2: Labour (Planting, weeding, harvesting etc. depending on crop stage) | H2: Stiching | K2: Bringing water | L2: Does she go to market for | T2: Trvel | V2: rest time | Z2: Health | AD2: Husband | AH2: Feels | AN2: If she wants to do something
C3: Time spent (hrs) | D3: Time spent (hrs) | E3: Time spent (hrs) sowing | F3: time on weeding (hrs) | G3: Irrigation (hrs) | H3: Lbour (hrs) | I3: Harvesting (hrs) | J3: Stiching (hrs) | K3: Bringing water from well | L3: buying household things | N3: buying machine | P3: buying cloths | R3: buying jewellery | T3: Trvel | U3: City | V3: Morning (hrs) | W3: afternoon (hrs) | X3: evening (hrs) | Y3: Night (hrs) | Z3: any problem | AA3: what she does | AB3: money for food & medicine | AC3: Night | AD3: freedom to go to her house or nnywhere else | AE3: Husband beats | AF3: Husband is good | AG3: respect from family | AH3: happy | AI3: sad | AJ3: angry | AK3: progressive | AL3: hopeful | AM3: not hopeful | AN3: for herself | AO3: for daughter | AP3: for son | AQ3: for family
L4: Yes | M4: No | N4: Yes | O4: No | P4: Yes | Q4: No | R4: Yes | S4: No
A5: 1 | B5: ='Basic info'!B4 -> Bhanwari Kanwar/ Gopal | C5: 2 | D5: 4 | E5: 0 | F5: 0 | G5: 0 | H5: 0 | I5: 0 | J5: 0 | K5: 0 | L5: Yes | O5: No | P5: Yes | S5: No | T5: yes | U5: yes | V5: no | W5: 3 hr | X5: no | Y5: 8 | Z5: gas | AA5: Dr. | AB5: no | AC5: 8 | AD5: no | AE5: no | AF5: yes | AG5: yes | AH5: yes | AI5: no | AJ5: no | AK5: no | AL5: Yes | AM5: no | AN5: no | AO5: yes | AP5: yes | AQ5: yes
A6: 2 | B6: ='Basic info'!B5 -> Pushp Kanar/ Rghunath Singh | C6: 2 | D6: 6 | E6: 0 | F6: 0 | G6: 0 | H6: 0 | I6: 0 | J6: 0 | K6: 0 | L6: Yes | O6: No | P6: Yes | S6: No | T6: yes | U6: yes | V6: 1 | W6: 1 | X6: no | Y6: (hrs) | Z6: no | AA6: 0 | AB6: 0 | AC6: 0 | AD6: yes | AE6: no | AF6: yes | AG6: yes | AH6: yes | AI6: no | AJ6: no | AK6: no | AL6: yes | AM6: no | AN6: no
A7: 3 | B7: ='Basic info'!B6 -> Pappu Devi, Sakta Ram | C7: 2 | D7: 4 | E7: 2 | F7: 6 | G7: 6 | H7: 6 | I7: 2 | J7: 0 | K7: 0 | L7: Yes | O7: No | P7: Yes | S7: No | T7: yes | U7: yes | V7: 0 | W7: 2 | X7: 0 | Y7: 8 | Z7: no | AA7: no | AB7: no | AC7: no | AD7: no | AE7: no | AF7: yes | AG7: yes | AH7: yes | AI7: no | AJ7: no | AK7: no | AL7: yes | AM7: no | AN7: no | AO7: yes | AP7: yes | AQ7: yes
A8: 4 | B8: ='Basic info'!B7 -> Kiran Kanar, Jtu Singh | C8: 3 | D8: 5 | E8: 8 | F8: 9 | G8: 6 | H8: 8 | I8: 8 | J8: 0 | K8: 0 | L8: Yes | O8: No | P8: Yes | S8: No | T8: yes | U8: yes | V8: 0 | W8: 2 | X8: 0 | Y8: 8 | Z8: no | AA8: no | AB8: no | AC8: no | AD8: yes | AE8: no | AF8: yes | AG8: yes | AH8: yes | AI8: no | AJ8: no | AK8: no | AL8: Yes | AM8: no | AN8: no | AO8: yes | AP8: yes | AQ8: yes
A9: 5 | B9: ='Basic info'!B8 -> Prem Kanwar, Kan Singh | C9: 4 | D9: 4 | E9: 0 | F9: 0 | G9: 0 | H9: 0 | I9: 0 | J9: 0 | K9: 0 | L9: Yes | N9: Yes | P9: Yes | R9: yes | T9: yes | U9: yes | V9: 0 | W9: 1 | X9: 0 | Y9: 8 | Z9: no | AA9: no | AB9: no | AC9: no | AD9: yes | AE9: no | AF9: yes | AG9: yes | AH9: yes | AI9: no | AJ9: no | AK9: no | AL9: Yes | AM9: no | AN9: no | AO9: yes | AP9: yes | AQ9: yes
A10: 6 | B10: ='Basic info'!B9 -> Hukam Kanwar, Dhirender Singh | C10: 2 | D10: 3 | E10: 0 | F10: 0 | G10: 0 | H10: 0 | I10: 0 | J10: 0 | K10: 0 | L10: Yes | N10: Yes | P10: Yes | R10: yes | T10: yes | U10: yes | V10: 0 | W10: 2 | X10: 0 | Y10: 7 | Z10: no | AA10: no | AB10: no | AC10: no | AD10: yes | AE10: no | AF10: yes | AG10: yes | AH10: yes | AI10: no | AJ10: no | AK10: no | AL10: Yes | AM10: no | AN10: no | AO10: yes | AP10: yes | AQ10: yes
A11: 7 | B11: ='Basic info'!B10 -> Minky Bishnoi, Mohanram | C11: 2 | D11: 4 | E11: 0 | F11: 2 | G11: 1 | H11: 0 | I11: 0 | J11: 0 | K11: 0 | L11: Yes | N11: Yes | P11: Yes | S11: No | T11: yes | U11: yes | V11: 0 | W11: 2 | X11: 0 | Y11: 8 | Z11: no | AA11: no | AB11: no | AC11: no | AD11: no | AE11: no | AF11: yes | AG11: yes | AH11: yes | AI11: no | AJ11: no | AK11: no | AL11: Yes | AM11: no | AN11: no | AO11: yes | AP11: yes | AQ11: yes
A12: 8 | B12: ='Basic info'!B11 -> Laxmi Devi, Kanaram | C12: 1 | D12: 2 | E12: 2 | F12: 6 | G12: 6 | H12: 6 | I12: 2 | J12: 0 | K12: 0 | L12: Yes | O12: No | P12: Yes | S12: No | T12: yes | U12: yes | V12: 0 | W12: 2 | X12: 0 | Y12: 7 | Z12: no | AA12: no | AB12: no | AC12: no | AD12: no | AE12: no | AF12: yes | AG12: yes | AH12: yes | AI12: no | AJ12: no | AK12: no | AL12: Yes | AM12: no | AN12: no | AO12: yes | AP12: yes | AQ12: yes
A13: 9 | B13: ='Basic info'!B12 -> Surati Devi, Baburam | C13: 1 | D13: 3 | E13: 2 | F13: 6 | G13: 7 | H13: 7 | I13: 2 | J13: 0 | K13: 0 | L13: Yes | N13: Yes | P13: Yes | S13: No | T13: yes | U13: yes | V13: 0 | W13: 3 | X13: 0 | Y13: 8 | Z13: no | AA13: no | AB13: no | AC13: no | AD13: no | AE13: no | AF13: yes | AG13: yes | AH13: yes | AI13: no | AJ13: no | AK13: no | AL13: Yes | AM13: no | AN13: no | AO13: yes | AP13: yes | AQ13: yes
A14: 10 | B14: ='Basic info'!B13 -> Manohar Kanwar, Chotu Singh | C14: 1 | D14: 2 | E14: 0 | F14: 0 | G14: 0 | H14: 0 | I14: 0 | J14: 0 | K14: 0 | L14: Yes | N14: Yes | P14: Yes | S14: No | T14: yes | U14: yes | V14: 0 | W14: 1 | X14: 0 | Y14: 8 | Z14: no | AA14: no | AB14: no | AC14: no | AD14: yes | AE14: no | AF14: yes | AG14: yes | AH14: yes | AI14: no | AJ14: no | AK14: no | AL14: Yes | AM14: no | AN14: no | AO14: yes | AP14: yes | AQ14: yes
A15: 11 | B15: ='Basic info'!B14 -> Rajender Kanwar, Shyam Singh | C15: 2 | D15: 2 | E15: 0 | F15: 0 | G15: 0 | H15: 0 | I15: 0 | J15: 0 | K15: 0 | L15: Yes | O15: No | P15: Yes | S15: No | T15: yes | U15: yes | V15: 0 | W15: 3 | X15: 0 | Y15: 8 | Z15: no | AA15: no | AB15: no | AC15: no | AD15: yes | AE15: no | AF15: yes | AG15: yes | AH15: yes | AI15: no | AJ15: no | AK15: no | AL15: Yes | AM15: no | AN15: no | AO15: yes | AP15: yes | AQ15: yes
A16: 12 | B16: ='Basic info'!B15 -> Sugana Devi, Biaram | C16: 3 | D16: 3 | E16: 2 | F16: 6 | G16: 6 | H16: 6 | I16: 2 | J16: 0 | K16: 0 | L16: Yes | O16: No | P16: Yes | S16: No | T16: yes | U16: yes | V16: 0 | W16: 3 | X16: 0 | Y16: 7 | Z16: no | AA16: no | AB16: no | AC16: no | AD16: yes | AE16: no | AF16: yes | AG16: yes | AH16: yes | AI16: no | AJ16: no | AK16: no | AL16: Yes | AM16: no | AN16: no | AO16: yes | AP16: yes | AQ16: yes
A17: 13 | B17: ='Basic info'!B16 -> Puran Kanwar, Manohar Singh | C17: 2 | D17: 2 | E17: 0 | F17: 0 | G17: 0 | H17: 0 | I17: 0 | J17: 0 | K17: 0 | L17: Yes | N17: Yes | P17: Yes | S17: No | T17: yes | U17: yes | V17: 0 | W17: 3 | X17: 0 | Y17: 7 | Z17: no | AA17: no | AB17: no | AC17: no | AD17: yes | AE17: no | AF17: yes | AG17: yes | AH17: yes | AI17: no | AJ17: no | AK17: no | AL17: Yes | AM17: no | AN17: no | AO17: yes | AP17: yes | AQ17: yes
A18: 14 | B18: ='Basic info'!B17 -> Usha Jain, Sardar Jain | C18: 2 | D18: 2 | E18: 0 | F18: 0 | G18: 0 | H18: 0 | I18: 0 | J18: 0 | K18: 0 | L18: Yes | O18: No | P18: Yes | S18: No | T18: yes | U18: yes | V18: 0 | W18: 3 | X18: 0 | Y18: 7 | Z18: no | AA18: no | AB18: no | AC18: no | AD18: yes | AE18: no | AF18: yes | AG18: yes | AH18: yes | AI18: no | AJ18: no | AK18: no | AL18: Yes | AM18: no | AN18: no | AO18: yes | AP18: yes | AQ18: yes
A19: 15 | B19: ='Basic info'!B18 -> Raju Kanwar, Bhanwar Singh | C19: 1 | D19: 2 | E19: 0 | F19: 0 | G19: 0 | H19: 0 | I19: 0 | J19: 0 | K19: 0 | L19: Yes | N19: Yes | P19: Yes | R19: yes | T19: yes | U19: yes | V19: 0 | W19: 1 | X19: 0 | Y19: 8 | Z19: no | AA19: no | AB19: no | AC19: no | AD19: yes | AE19: no | AF19: yes | AG19: yes | AH19: yes | AI19: no | AJ19: no | AK19: no | AL19: Yes | AM19: no | AN19: no | AO19: yes | AP19: yes | AQ19: yes
A20: 16 | B20: ='Basic info'!B19 -> Nirma Devi, Ram Niwas ram | C20: 1 | D20: 2 | E20: 3 | F20: 5 | G20: 6 | H20: 6 | I20: 2 | J20: 0 | K20: 0 | L20: Yes | O20: No | P20: Yes | S20: No | T20: yes | U20: yes | V20: 0 | W20: 1 | X20: 0 | Y20: 8 | Z20: no | AA20: no | AB20: no | AC20: no | AD20: no | AE20: yes | AF20: yes | AG20: yes | AH20: yes | AI20: no | AJ20: no | AK20: no | AL20: Yes | AM20: no | AN20: no | AO20: yes | AP20: yes | AQ20: yes
A21: 17 | B21: ='Basic info'!B20 -> Suva Devi, JalaRam | C21: 2 | D21: 4 | E21: 0 | F21: 0 | G21: 0 | H21: 0 | I21: 0 | J21: 0 | K21: 0 | L21: Yes | N21: Yes | P21: Yes | R21: No | T21: yes | U21: yes | V21: 0 | W21: 2 | X21: 0 | Y21: 7 | Z21: no | AA21: no | AB21: no | AC21: no | AD21: no | AE21: no | AF21: yes | AG21: yes | AH21: yes | AI21: no | AJ21: no | AK21: no | AL21: Yes | AM21: no | AN21: no | AO21: yes | AP21: yes | AQ21: yes
A22: 18 | B22: ='Basic info'!B21 -> Papu Devi, Ramrkh | C22: 1 | D22: 3 | E22: 0 | F22: 0 | G22: 0 | H22: 0 | I22: 0 | J22: 0 | K22: 0 | L22: Yes | N22: Yes | P22: Yes | R22: No | T22: yes | U22: yes | V22: 0 | W22: 1 | X22: 0 | Y22: 8 | Z22: no | AA22: no | AB22: no | AC22: no | AD22: no | AE22: no | AF22: yes | AG22: yes | AH22: yes | AI22: no | AJ22: no | AK22: no | AL22: Yes | AM22: no | AN22: no | AO22: yes | AP22: yes | AQ22: yes
A23: 19 | B23: ='Basic info'!B22 -> Indra Devi, Papu Ram | C23: 1 | D23: 1 | E23: 2 | F23: 5 | G23: 6 | H23: 6 | I23: 2 | J23: 0 | K23: 0 | L23: Yes | O23: No | Q23: No | R23: No | T23: yes | U23: yes | V23: 0 | W23: 2 | X23: 0 | Y23: 8 | Z23: no | AA23: no | AB23: no | AC23: no | AD23: no | AE23: no | AF23: yes | AG23: yes | AH23: yes | AI23: no | AJ23: no | AK23: no | AL23: Yes | AM23: no | AN23: no | AO23: yes | AP23: yes | AQ23: yes
A24: 20 | B24: ='Basic info'!B23 -> Suvati Devi, Jagmal Ram | C24: 1 | D24: 1 | E24: 2 | F24: 4 | G24: 6 | H24: 6 | I24: 3 | J24: 0 | K24: 0 | L24: Yes | O24: No | P24: Yes | R24: No | T24: yes | U24: yes | V24: 0 | W24: 2 | X24: 0 | Y24: 8 | Z24: no | AA24: no | AB24: no | AC24: no | AD24: no | AE24: no | AF24: yes | AG24: yes | AH24: yes | AI24: no | AJ24: no | AK24: no | AL24: Yes | AM24: no | AN24: no | AO24: yes | AP24: yes | AQ24: yes
A25: 21 | B25: ='Basic info'!B24 -> Surta Devi, Anna Ram | C25: 1 | D25: 2 | E25: 2 | F25: 6 | G25: 6 | H25: 6 | I25: 2 | J25: 0 | K25: 0 | L25: Yes | N25: Yes | P25: Yes | R25: No | T25: yes | U25: yes | V25: 0 | W25: 2 | X25: 0 | Y25: 6 | Z25: no | AA25: no | AB25: no | AC25: no | AD25: no | AE25: no | AF25: yes | AG25: yes | AH25: yes | AI25: no | AJ25: no | AK25: no | AL25: Yes | AM25: no | AN25: no | AO25: yes | AP25: yes | AQ25: yes
A26: 22 | B26: ='Basic info'!B25 -> Maggu Kanwar, Babu Singh | C26: 1 | D26: 2 | E26: 0 | F26: 0 | G26: 0 | H26: 0 | I26: 0 | J26: 0 | K26: 0 | L26: Yes | O26: No | P26: Yes | R26: No | T26: yes | U26: yes | V26: 0 | W26: 2 | X26: 0 | Y26: 6 | Z26: Mirgi | AA26: Dr. | AB26: yes | AC26: no | AD26: no | AE26: no | AF26: yes | AG26: yes | AH26: yes | AI26: no | AJ26: no | AK26: no | AL26: Yes | AM26: no | AN26: no | AO26: yes | AP26: yes | AQ26: yes
A27: 23 | B27: ='Basic info'!B26 -> Paru Devi, Mohan Rm | C27: 2 | D27: 2 | E27: 3 | F27: 6 | G27: 6 | H27: 6 | I27: 2 | J27: 0 | K27: 0 | L27: Yes | N27: Yes | P27: Yes | R27: No | T27: yes | U27: yes | V27: 0 | W27: 2 | X27: 0 | Y27: 7 | Z27: no | AA27: no | AB27: no | AC27: no | AD27: no | AE27: no | AF27: yes | AG27: yes | AH27: yes | AI27: no | AJ27: no | AK27: no | AL27: Yes | AM27: no | AN27: no | AO27: yes | AP27: yes | AQ27: yes
A28: 24 | B28: ='Basic info'!B27 -> Kamma Devi, Shakar Ram | C28: 2 | D28: 2 | E28: 3 | F28: 6 | G28: 6 | H28: 6 | I28: 0 | J28: 0 | K28: 0 | L28: Yes | N28: Yes | P28: Yes | R28: No | T28: yes | U28: yes | V28: 0 | W28: 0 | X28: 0 | Y28: 7 | Z28: no | AA28: no | AB28: no | AC28: no | AD28: no | AE28: no | AF28: yes | AG28: yes | AH28: yes | AI28: no | AJ28: no | AK28: no | AL28: Yes | AM28: no | AN28: no | AO28: yes | AP28: yes | AQ28: yes
A29: 25 | B29: ='Basic info'!B28 -> Sushila Devi, Asu Ram | C29: 1 | D29: 1 | E29: 2 | F29: 6 | G29: 6 | H29: 6 | I29: 2 | J29: 0 | K29: 0 | L29: Yes | N29: Yes | P29: Yes | R29: No | T29: yes | U29: yes | V29: 0 | W29: 3 | X29: 0 | Y29: 8 | Z29: no | AA29: no | AB29: no | AC29: no | AD29: yes | AE29: no | AF29: yes | AG29: yes | AH29: yes | AI29: no | AJ29: no | AK29: no | AL29: Yes | AM29: no | AN29: no | AO29: yes | AP29: yes | AQ29: yes

Sheet Sheet1
C1: a | D1: b | F1: c | H1: d | J1: e | L1: f | N1: g | Q1: h | T1: i | V1: j | X1: k | AA1: l | AD1: m | AG1: n | AJ1: o | AM1: p
A2: Sr.No | B2: Name | C2: House condition (Score 1 to 5) | D2: Individual water source | F2: House electrification/ sanitation | H2: TV | J2: DTH connection | L2: Cooking gas (LPG use) | N2: Decision about her expenses on cloths | Q2: Decision about her expenses on medicines | T2: Does she buy things she like | V2: Does she spend time the way she wants | X2: Decision on buying food taken by | AA2: Decision on growing crops taken by | AD2: Decision on household expenditure | AG2: Decision on purchase of assets | AJ2: Decision on marriage of son/daughter | AM2: Decision about day to day food | AP2: why they installed drip | AQ2: Why drip is not installed
D3: Yes | E3: No | F3: Yes | G3: No | H3: Yes | I3: No | J3: Yes | K3: No | L3: Yes | M3: No | N3: Male | O3: Female | P3: Both | Q3: Male | R3: Female | S3: Both | T3: Yes | U3: No | V3: Yes | W3: No | X3: Male | Y3: Female | Z3: Both | AA3: Male | AB3: Female | AC3: Both | AD3: Male | AE3: Female | AF3: Both | AG3: Male | AH3: Female | AI3: Both | AJ3: Male | AK3: Female | AL3: Both | AM3: Male | AN3: Female | AO3: Both | AP3: Reson | AQ3: Reason
A4: 1 | B4: ='Basic info'!B4 -> Bhanwari Kanwar/ Gopal | C4: 2 | E4: No | G4: No | I4: No | K4: No | L4: Yes | O4: 1 | S4: 1 | T4: 1 | W4: 1 | Y4: 1 | AC4: 1 | AF4: 1 | AI4: 1 | AL4: 1 | AN4: 1 | AQ4: no money
A5: 2 | B5: ='Basic info'!B5 -> Pushp Kanar/ Rghunath Singh | C5: 3 | E5: No | G5: No | I5: Yes | J5: Yes | L5: Yes | O5: 1 | S5: 1 | U5: 1 | V5: 1 | Y5: 1 | AA5: 1 | AD5: 1 | AI5: 1 | AL5: 1 | AN5: 1 | AQ5: save labour & land not even
A6: 3 | B6: ='Basic info'!B6 -> Pappu Devi, Sakta Ram | C6: 3 | E6: No | G6: No | I6: No | K6: No | L6: Yes | N6: 1 | S6: 1 | T6: 1 | W6: 1 | Y6: 1 | AA6: 1 | AF6: 1 | AG6: 1 | AL6: 1 | AN6: 1 | AP6: good income and land is not even
A7: 4 | B7: ='Basic info'!B7 -> Kiran Kanar, Jtu Singh | C7: 3 | E7: No | G7: No | I7: No | K7: No | M7: No | O7: 1 | S7: 1 | U7: 1 | W7: 1 | Y7: 1 | AC7: 1 | AD7: 1 | AI7: 1 | AL7: 1 | AN7: 1 | AP7: water is less
A8: 5 | B8: ='Basic info'!B8 -> Prem Kanwar, Kan Singh | C8: 5 | E8: No | G8: No | I8: No | K8: No | L8: Yes | P8: 1 | S8: 1 | U8: 1 | V8: 1 | Z8: 1 | AA8: 1 | AE8: 1 | AI8: 1 | AL8: 1 | AN8: 1 | AP8: water is less, labour is less & land uneven
A9: 6 | B9: ='Basic info'!B9 -> Hukam Kanwar, Dhirender Singh | C9: 4 | D9: Yes | F9: Yes | H9: Yes | J9: Yes | L9: Yes | N9: 1 | S9: 1 | T9: 1 | V9: 1 | Z9: 1 | AB9: 1 | AD9: 1 | AI9: 1 | AL9: 1 | AN9: 1 | AP9: water is less, labour is less & land uneven
A10: 7 | B10: ='Basic info'!B10 -> Minky Bishnoi, Mohanram | C10: 3 | E10: No | G10: No | I10: No | K10: No | L10: Yes | O10: 1 | S10: 1 | T10: 1 | W10: 1 | Y10: 1 | AA10: 1 | AE10: 1 | AI10: 1 | AL10: 1 | AN10: 1 | AP10: water is less, labour is less & land uneven
A11: 8 | B11: ='Basic info'!B11 -> Laxmi Devi, Kanaram | C11: 3 | E11: No | G11: No | I11: No | K11: No | L11: Yes | O11: 1 | R11: 1 | T11: 1 | V11: 1 | Y11: 1 | AA11: 1 | AF11: 1 | AI11: 1 | AL11: 1 | AN11: 1 | AP11: water is less, labour is less & land uneven
A12: 9 | B12: ='Basic info'!B12 -> Surati Devi, Baburam | C12: 3 | E12: No | G12: No | I12: No | K12: No | L12: Yes | N12: 1 | S12: 1 | T12: 1 | V12: 1 | Y12: 1 | AA12: 1 | AF12: 1 | AI12: 1 | AL12: 1 | AN12: 1 | AP12: water is less, labour is less & land uneven
A13: 10 | B13: ='Basic info'!B13 -> Manohar Kanwar, Chotu Singh | C13: 4 | E13: No | F13: Yes | H13: Yes | J13: Yes | L13: Yes | O13: 1 | S13: 1 | T13: 1 | V13: 1 | Y13: 1 | AA13: 1 | AF13: 1 | AI13: 1 | AL13: 1 | AN13: 1 | AP13: water is less, labour is less & land uneven
A14: 11 | B14: ='Basic info'!B14 -> Rajender Kanwar, Shyam Singh | C14: 2 | D14: Yes | F14: Yes | H14: Yes | K14: No | L14: Yes | P14: 1 | S14: 1 | T14: 1 | V14: 1 | Z14: 1 | AC14: 1 | AF14: 1 | AI14: 1 | AL14: 1 | AN14: 1 | AP14: water is less
A15: 12 | B15: ='Basic info'!B15 -> Sugana Devi, Biaram | C15: 3 | E15: No | G15: No | I15: No | K15: No | L15: Yes | N15: 1 | S15: 1 | U15: 1 | W15: 1 | Y15: 1 | AA15: 1 | AF15: 1 | AG15: 1 | AL15: 1 | AN15: 1 | AP15: water is less, labour is less & land uneven
A16: 13 | B16: ='Basic info'!B16 -> Puran Kanwar, Manohar Singh | C16: 3 | D16: Yes | F16: Yes | H16: Yes | K16: No | L16: Yes | O16: 1 | S16: 1 | U16: 1 | V16: 1 | Y16: 1 | AA16: 1 | AF16: 1 | AI16: 1 | AL16: 1 | AN16: 1 | AP16: water is less, labour is less & land uneven
A17: 14 | B17: ='Basic info'!B17 -> Usha Jain, Sardar Jain | C17: 3 | E17: No | G17: No | H17: Yes | J17: Yes | L17: Yes | O17: 1 | S17: 1 | U17: 1 | V17: 1 | Y17: 1 | AA17: 1 | AF17: 1 | AI17: 1 | AL17: 1 | AN17: 1 | AP17: water is less, labour is less & land uneven
A18: 15 | B18: ='Basic info'!B18 -> Raju Kanwar, Bhanwar Singh | C18: 2 | E18: No | F18: Yes | H18: Yes | J18: Yes | L18: Yes | P18: 1 | S18: 1 | T18: 1 | V18: 1 | Y18: 1 | AA18: 1 | AD18: 1 | AG18: 1 | AL18: 1 | AN18: 1 | AP18: sandy soil, more income
A19: 16 | B19: ='Basic info'!B19 -> Nirma Devi, Ram Niwas ram | C19: 2 | E19: No | G19: No | I19: No | K19: No | L19: Yes | O19: 1 | S19: 1 | T19: 1 | V19: 1 | Y19: 1 | AA19: 1 | AD19: 1 | AG19: 1 | AL19: 1 | AN19: 1 | AQ19: Crop do not grow well
