Workbook

Sheet Instructions
B1: In each workbook:
B2: Please fill in only the cells highlighted with yellow.
B3: Please DO NOT touch the cells highlighted in purple as they contain formulas.
B4: Please don't touch the green cells as they are for information/checking accuracy of our calculation
B5: Pleae fill in the blue colored cells via simulation (using the solver tool in Excel - instructins are provided on how to do the optimization)
B6: Cells with this color contain data that needs to be verified by the user
B8: Data sources and contact persons
B9: Data (please add more rows to include other data collected) | C9: Name of responsible person for collecting | D9: Email address of the person who provided the data | E9: Links to source of data
B10: Prices-and-exchange-rates
B11: Area&production data
B12: Yield-data
B13: Area-by-degradation-level
B14: Yield-by-degradation-level
B15: Soil-errosion-by-degradn-level
B16: Ground water
B17: Surface water
B18: Diesel for farm operations
B19: Electricity for greenhouses

Sheet Crop-area&production
DU1: Average forest biomass in Tunisia (ton/ha) = | DV1: 58.74 | DW1: Source: | DX1: https://ourworldindata.org/grapher/above-ground-biomass-in-forest-per-hectare
B2: Area and production figures are for 2021 | DU2: Annual allowable cuts | DV2: 0.1
B3: No. | C3: Province | D3: Population | G3: Total area (ha) Note that these figures should be only for one season (no double counting for lands which are cultivated multiple times in a year) | BT3: Total production (tons) Note that these figures should be only for one season (no double counting for lands which are cultivated multiple times in a year) | EA3: Percentage of irrigated areas (%)
G4: Agricultural lands for food and forage production | BD4: Rangelands | BI4: Forest Areas | BJ4: Desert | BK4: Settlment (cities) | BL4: Abandoned agricultural land | BM4: Water bodies | BN4: Other lands (settlement, etc.) | BO4: Total crop land | BP4: Total rangeland | BQ4: Forest Areas | BS4: Total land | BT4: Agricultural lands for food and forage production | DQ4: Rangelands | DV4: Forest Areas | DW4: Total agricultural land | DX4: Total rangeland | DY4: Forest Areas | DZ4: Total land | EA4: Agricultural lands for food and forage production | FF4: Rangelands | FK4: Forest Areas | FL4: Total agricultural land | FM4: Total rangeland | FN4: Forest Areas | FO4: Total land
G5: Food Crops | AX5: Cultivated forage crops | BD5: Pastoralist areas (Arid and hyper arid rangeland) | BE5: Prairies (landscapes dominated by herbaceous plants, especially grasses; trees are either absent or only widely scattered on the landscapes) | BG5: Sylvo-pastoralist areas | BT5: Food Crops | DK5: Cultivated forage crops | DQ5: Pastoralist areas (Arid and hyper arid rangeland) | DR5: Prairies (landscapes dominated by herbaceous plants, especially grasses; trees are either absent or only widely scattered on the landscapes) | DT5: Sylvo-pastoralist areas | EA5: Food Crops | EZ5: Cultivated forage crops | FF5: Pastoralist areas (Arid and hyper arid rangeland) | FG5: Prairies (landscapes dominated by herbaceous plants, especially grasses; trees are either absent or only widely scattered on the landscapes) | FI5: Sylvo-pastoralist areas
G6: Annaul Food Crops | K6: Legumes | P6: Vegetables | AI6: Perennial food crops | AX6: Cultivated annual forage crops | BC6: Cultivated perennial forage crops | BD6: Pastures | BE6: Pastures | BT6: Cereals | BX6: Legumes | CC6: Vegetables | CV6: Perennial food crops | DK6: Cultivated annual forage crops | DP6: Cultivated perennial forage crops | EA6: Cereals | EE6: Legumes | EJ6: Vegetables | EO6: Perennial Food Crops | EZ6: Cultivated annual forage crops | FE6: Cultivated perennial forage crops | FF6: Pastures | FG6: Pastures | FI6: Pastures
D7: Urban (%) | E7: Rural (%) | F7: Total | G7: Durum Wheat | H7: Soft Wheat | I7: Barley | J7: Triticale | K7: faba bean (large seed) | L7: faba bean (small seed) | M7: pea | N7: chickpea | O7: Other legumes | P7: seasonal tomato | Q7: early season tomato | R7: late season tomato | S7: seasonal potato | T7: late season potato | U7: early season potato | V7: seasonal pepper | W7: late season pepper | X7: onion | Y7: squash | Z7: cuccumber | AA7: carrots | AB7: Cabbage and other leafy vegetables | AC7: artichoke | AD7: garlic | AE7: brocoli | AF7: turnip | AG7: fennel | AH7: other on field | AI7: water melon | AJ7: melon | AK7: Dates | AL7: Olive | AM7: Grenade (pomegranate) | AN7: Grape | AO7: Fig | AP7: Pear | AQ7: Apple | AR7: Oranges | AS7: Almonds | AT7: Peach | AU7: Plum | AV7: strawberry | AW7: Apricot | AX7: Barley | AY7: Triticale | AZ7: oats | BA7: forage corn | BB7: fodder sorghum | BC7: Alfalfa | BD7: Permanent pastures and hay meadows | BE7: Permanent pastures and hay meadows | BF7: Shrubs | BG7: Shrubs | BH7: Permanent pastures and hay meadows | BR7: All other types of lands | BT7: Durum Wheat | BU7: Soft Wheat | BV7: Barley | BW7: Triticale | BX7: faba bean (large seed) | BY7: faba bean (small seed) | BZ7: pea | CA7: chickpea | CB7: Other legumes | CC7: seasonal tomato | CD7: early season tomato | CE7: late season tomato | CF7: seasonal potato | CG7: late season potato | CH7: early season potato | CI7: seasonal pepper | CJ7: late season pepper | CK7: onion | CL7: squash | CM7: cuccumber | CN7: carrots | CO7: leaves vegetables | CP7: artichoke | CQ7: garlic | CR7: brocoli | CS7: turnip | CT7: fennel | CU7: other on field | CV7: water melon | CW7: melon | CX7: Dates | CY7: Olives | CZ7: Grenade | DA7: Grape | DB7: Fig | DC7: Pear | DD7: Apple | DE7: Oranges | DF7: Almonds | DG7: Peach | DH7: Plum | DI7: strawberry | DJ7: Apricot | DK7: Barley | DL7: Triticale | DM7: oats | DN7: forage corn | DO7: fodder sorghum | DP7: Alfalfa | DQ7: Permanent pastures and hay meadows (ton) | DR7: Permanent pastures and hay meadows (ton) | DS7: Shrubs (ton) | DT7: Shrubs | DU7: Permanent pastures and hay meadows (ton) | DV7: Forest (ton) | EA7: Durum Wheat | EB7: Soft Wheat | EC7: Barley | ED7: Triticale | EO7: Dates | EP7: Grenade | EQ7: Grape | ER7: Fig | ES7: Pear | ET7: Apple | EU7: Oranges | EV7: Almonds | EW7: Peach | EX7: Plum | EY7: Apricot | EZ7: Barley | FA7: Triticale | FB7: oats | FC7: forage corn | FD7: fodder sorghum | FE7: Alfalfa | FF7: Permanent pastures and hay meadows | FG7: Permanent pastures and hay meadows | FH7: Shrubs | FI7: Shrubs | FJ7: Permanent pastures and hay meadows | FK7: Forest
B8: 1 | C8: Tunis | BO8: =SUM(G8:BC8) -> 0 | BP8: =SUM(BD8:BH8) -> 0 | BQ8: =BI8 -> 0 | BR8: =SUM(BJ8:BN8) -> 0 | BS8: =BO8+BP8+BQ8+BR8 -> 0 | DW8: =SUM(BT8:DP8) -> 0 | DX8: =SUM(DQ8:DU8) -> 0 | DY8: =DV8 -> 0 | DZ8: =DW8+DX8+DY8 -> 0 | FL8: =SUMPRODUCT(EA8:FE8,G8:BC8)/BO8 -> #VALUE! | FM8: =SUMPRODUCT(FF8:FJ8,BD8:BH8)/BP8 -> #DIV/0! | FN8: =FK8*BQ8 -> 0 | FO8: =SUMPRODUCT(FL8:FN8,BO8:BQ8)/BS8 -> #VALUE!
B9: 2 | C9: Ariana | BO9: =SUM(G9:BC9) -> 0 | BP9: =SUM(BD9:BH9) -> 0 | BQ9: =BI9 -> 0 | BR9: =SUM(BJ9:BN9) -> 0 | BS9: =BO9+BP9+BQ9+BR9 -> 0 | DW9: =SUM(BT9:DP9) -> 0 | DX9: =SUM(DQ9:DU9) -> 0 | DY9: =DV9 -> 0 | DZ9: =DW9+DX9+DY9 -> 0 | FL9: =SUMPRODUCT(EA9:FE9,G9:BC9)/BO9 -> #VALUE! | FM9: =SUMPRODUCT(FF9:FJ9,BD9:BH9)/BP9 -> #DIV/0! | FN9: =FK9*BQ9 -> 0 | FO9: =SUMPRODUCT(FL9:FN9,BO9:BQ9)/BS9 -> #VALUE!
B10: 3 | C10: La Manouba | BO10: =SUM(G10:BC10) -> 0 | BP10: =SUM(BD10:BH10) -> 0 | BQ10: =BI10 -> 0 | BR10: =SUM(BJ10:BN10) -> 0 | BS10: =BO10+BP10+BQ10+BR10 -> 0 | DW10: =SUM(BT10:DP10) -> 0 | DX10: =SUM(DQ10:DU10) -> 0 | DY10: =DV10 -> 0 | DZ10: =DW10+DX10+DY10 -> 0 | FL10: =SUMPRODUCT(EA10:FE10,G10:BC10)/BO10 -> #VALUE! | FM10: =SUMPRODUCT(FF10:FJ10,BD10:BH10)/BP10 -> #DIV/0! | FN10: =FK10*BQ10 -> 0 | FO10: =SUMPRODUCT(FL10:FN10,BO10:BQ10)/BS10 -> #VALUE!
B11: 4 | C11: Ben Arous | BO11: =SUM(G11:BC11) -> 0 | BP11: =SUM(BD11:BH11) -> 0 | BQ11: =BI11 -> 0 | BR11: =SUM(BJ11:BN11) -> 0 | BS11: =BO11+BP11+BQ11+BR11 -> 0 | DW11: =SUM(BT11:DP11) -> 0 | DX11: =SUM(DQ11:DU11) -> 0 | DY11: =DV11 -> 0 | DZ11: =DW11+DX11+DY11 -> 0 | FL11: =SUMPRODUCT(EA11:FE11,G11:BC11)/BO11 -> #VALUE! | FM11: =SUMPRODUCT(FF11:FJ11,BD11:BH11)/BP11 -> #DIV/0! | FN11: =FK11*BQ11 -> 0 | FO11: =SUMPRODUCT(FL11:FN11,BO11:BQ11)/BS11 -> #VALUE!
B12: 5 | C12: Nabeul | BO12: =SUM(G12:BC12) -> 0 | BP12: =SUM(BD12:BH12) -> 0 | BQ12: =BI12 -> 0 | BR12: =SUM(BJ12:BN12) -> 0 | BS12: =BO12+BP12+BQ12+BR12 -> 0 | DW12: =SUM(BT12:DP12) -> 0 | DX12: =SUM(DQ12:DU12) -> 0 | DY12: =DV12 -> 0 | DZ12: =DW12+DX12+DY12 -> 0 | FL12: =SUMPRODUCT(EA12:FE12,G12:BC12)/BO12 -> #VALUE! | FM12: =SUMPRODUCT(FF12:FJ12,BD12:BH12)/BP12 -> #DIV/0! | FN12: =FK12*BQ12 -> 0 | FO12: =SUMPRODUCT(FL12:FN12,BO12:BQ12)/BS12 -> #VALUE!
B13: 6 | C13: Bizerte | BO13: =SUM(G13:BC13) -> 0 | BP13: =SUM(BD13:BH13) -> 0 | BQ13: =BI13 -> 0 | BR13: =SUM(BJ13:BN13) -> 0 | BS13: =BO13+BP13+BQ13+BR13 -> 0 | DW13: =SUM(BT13:DP13) -> 0 | DX13: =SUM(DQ13:DU13) -> 0 | DY13: =DV13 -> 0 | DZ13: =DW13+DX13+DY13 -> 0 | FL13: =SUMPRODUCT(EA13:FE13,G13:BC13)/BO13 -> #VALUE! | FM13: =SUMPRODUCT(FF13:FJ13,BD13:BH13)/BP13 -> #DIV/0! | FN13: =FK13*BQ13 -> 0 | FO13: =SUMPRODUCT(FL13:FN13,BO13:BQ13)/BS13 -> #VALUE!
B14: 7 | C14: Zaghouan | BO14: =SUM(G14:BC14) -> 0 | BP14: =SUM(BD14:BH14) -> 0 | BQ14: =BI14 -> 0 | BR14: =SUM(BJ14:BN14) -> 0 | BS14: =BO14+BP14+BQ14+BR14 -> 0 | DW14: =SUM(BT14:DP14) -> 0 | DX14: =SUM(DQ14:DU14) -> 0 | DY14: =DV14 -> 0 | DZ14: =DW14+DX14+DY14 -> 0 | FL14: =SUMPRODUCT(EA14:FE14,G14:BC14)/BO14 -> #VALUE! | FM14: =SUMPRODUCT(FF14:FJ14,BD14:BH14)/BP14 -> #DIV/0! | FN14: =FK14*BQ14 -> 0 | FO14: =SUMPRODUCT(FL14:FN14,BO14:BQ14)/BS14 -> #VALUE!
B15: 8 | C15: Béja | BO15: =SUM(G15:BC15) -> 0 | BP15: =SUM(BD15:BH15) -> 0 | BQ15: =BI15 -> 0 | BR15: =SUM(BJ15:BN15) -> 0 | BS15: =BO15+BP15+BQ15+BR15 -> 0 | DW15: =SUM(BT15:DP15) -> 0 | DX15: =SUM(DQ15:DU15) -> 0 | DY15: =DV15 -> 0 | DZ15: =DW15+DX15+DY15 -> 0 | FL15: =SUMPRODUCT(EA15:FE15,G15:BC15)/BO15 -> #VALUE! | FM15: =SUMPRODUCT(FF15:FJ15,BD15:BH15)/BP15 -> #DIV/0! | FN15: =FK15*BQ15 -> 0 | FO15: =SUMPRODUCT(FL15:FN15,BO15:BQ15)/BS15 -> #VALUE!
B16: 9 | C16: Jendouba | BO16: =SUM(G16:BC16) -> 0 | BP16: =SUM(BD16:BH16) -> 0 | BQ16: =BI16 -> 0 | BR16: =SUM(BJ16:BN16) -> 0 | BS16: =BO16+BP16+BQ16+BR16 -> 0 | DW16: =SUM(BT16:DP16) -> 0 | DX16: =SUM(DQ16:DU16) -> 0 | DY16: =DV16 -> 0 | DZ16: =DW16+DX16+DY16 -> 0 | FL16: =SUMPRODUCT(EA16:FE16,G16:BC16)/BO16 -> #VALUE! | FM16: =SUMPRODUCT(FF16:FJ16,BD16:BH16)/BP16 -> #DIV/0! | FN16: =FK16*BQ16 -> 0 | FO16: =SUMPRODUCT(FL16:FN16,BO16:BQ16)/BS16 -> #VALUE!
B17: 10 | C17: Le Kef | BO17: =SUM(G17:BC17) -> 0 | BP17: =SUM(BD17:BH17) -> 0 | BQ17: =BI17 -> 0 | BR17: =SUM(BJ17:BN17) -> 0 | BS17: =BO17+BP17+BQ17+BR17 -> 0 | DW17: =SUM(BT17:DP17) -> 0 | DX17: =SUM(DQ17:DU17) -> 0 | DY17: =DV17 -> 0 | DZ17: =DW17+DX17+DY17 -> 0 | FL17: =SUMPRODUCT(EA17:FE17,G17:BC17)/BO17 -> #VALUE! | FM17: =SUMPRODUCT(FF17:FJ17,BD17:BH17)/BP17 -> #DIV/0! | FN17: =FK17*BQ17 -> 0 | FO17: =SUMPRODUCT(FL17:FN17,BO17:BQ17)/BS17 -> #VALUE!
B18: 11 | C18: Siliana | BO18: =SUM(G18:BC18) -> 0 | BP18: =SUM(BD18:BH18) -> 0 | BQ18: =BI18 -> 0 | BR18: =SUM(BJ18:BN18) -> 0 | BS18: =BO18+BP18+BQ18+BR18 -> 0 | DW18: =SUM(BT18:DP18) -> 0 | DX18: =SUM(DQ18:DU18) -> 0 | DY18: =DV18 -> 0 | DZ18: =DW18+DX18+DY18 -> 0 | FL18: =SUMPRODUCT(EA18:FE18,G18:BC18)/BO18 -> #VALUE! | FM18: =SUMPRODUCT(FF18:FJ18,BD18:BH18)/BP18 -> #DIV/0! | FN18: =FK18*BQ18 -> 0 | FO18: =SUMPRODUCT(FL18:FN18,BO18:BQ18)/BS18 -> #VALUE!
B19: 12 | C19: Sousse | BO19: =SUM(G19:BC19) -> 0 | BP19: =SUM(BD19:BH19) -> 0 | BQ19: =BI19 -> 0 | BR19: =SUM(BJ19:BN19) -> 0 | BS19: =BO19+BP19+BQ19+BR19 -> 0 | DW19: =SUM(BT19:DP19) -> 0 | DX19: =SUM(DQ19:DU19) -> 0 | DY19: =DV19 -> 0 | DZ19: =DW19+DX19+DY19 -> 0 | FL19: =SUMPRODUCT(EA19:FE19,G19:BC19)/BO19 -> #VALUE! | FM19: =SUMPRODUCT(FF19:FJ19,BD19:BH19)/BP19 -> #DIV/0! | FN19: =FK19*BQ19 -> 0 | FO19: =SUMPRODUCT(FL19:FN19,BO19:BQ19)/BS19 -> #VALUE!
... B29: 22 | C29: Tataouine | BO29: =SUM(G29:BC29) -> 0 | BP29: =SUM(BD29:BH29) -> 0 | BQ29: =BI29 -> 0 | BR29: =SUM(BJ29:BN29) -> 0 | BS29: =BO29+BP29+BQ29+BR29 -> 0 | DW29: =SUM(BT29:DP29) -> 0 | DX29: =SUM(DQ29:DU29) -> 0 | DY29: =DV29 -> 0 | DZ29: =DW29+DX29+DY29 -> 0 | FL29: =SUMPRODUCT(EA29:FE29,G29:BC29)/BO29 -> #VALUE! | FM29: =SUMPRODUCT(FF29:FJ29,BD29:BH29)/BP29 -> #DIV/0! | FN29: =FK29*BQ29 -> 0 | FO29: =SUMPRODUCT(FL29:FN29,BO29:BQ29)/BS29 -> #VALUE!
B30: 23 | C30: Tozeur | BO30: =SUM(G30:BC30) -> 0 | BP30: =SUM(BD30:BH30) -> 0 | BQ30: =BI30 -> 0 | BR30: =SUM(BJ30:BN30) -> 0 | BS30: =BO30+BP30+BQ30+BR30 -> 0 | DW30: =SUM(BT30:DP30) -> 0 | DX30: =SUM(DQ30:DU30) -> 0 | DY30: =DV30 -> 0 | DZ30: =DW30+DX30+DY30 -> 0 | FL30: 0 | FM30: 0 | FN30: =FK30*BQ30 -> 0 | FO30: =SUMPRODUCT(FL30:FN30,BO30:BQ30)/BS30 -> #DIV/0!
B31: 24 | C31: Kébili | BO31: =SUM(G31:BC31) -> 0 | BP31: =SUM(BD31:BH31) -> 0 | BQ31: =BI31 -> 0 | BR31: =SUM(BJ31:BN31) -> 0 | BS31: =BO31+BP31+BQ31+BR31 -> 0 | DW31: =SUM(BT31:DP31) -> 0 | DX31: =SUM(DQ31:DU31) -> 0 | DY31: =DV31 -> 0 | DZ31: =DW31+DX31+DY31 -> 0 | FL31: =SUMPRODUCT(EA31:FE31,G31:BC31)/BO31 -> #VALUE! | FM31: =SUMPRODUCT(FF31:FJ31,BD31:BH31)/BP31 -> #DIV/0! | FN31: =FK31*BQ31 -> 0 | FO31: =SUMPRODUCT(FL31:FN31,BO31:BQ31)/BS31 -> #VALUE!
C32: Total Tunisia | D32: =SUMPRODUCT(D8:D31,$F$8:$F$31) -> 0 | E32: =SUMPRODUCT(E8:E31,$F$8:$F$31) -> 0 | F32: =SUM(F8:F31) -> 0 | G32: =SUM(G8:G31) -> 0 | H32: =SUM(H8:H31) -> 0 | I32: =SUM(I8:I31) -> 0 | J32: =SUM(J8:J31) -> 0 | K32: =SUM(K8:K31) -> 0 | L32: =SUM(L8:L31) -> 0 | M32: =SUM(M8:M31) -> 0 | ... DZ32: =SUM(DZ8:DZ31) -> 0 | EA32: =SUMPRODUCT(EA8:EA31,G8:G31)/G32 -> #DIV/0! | EB32: =SUMPRODUCT(EB8:EB31,H8:H31)/H32 -> #DIV/0! | EC32: =SUMPRODUCT(EC8:EC31,I8:I31)/I32 -> #DIV/0! | ED32: =SUMPRODUCT(ED8:ED31,J8:J31)/J32 -> #DIV/0! | EO32: =SUMPRODUCT(EO8:EO31,AJ8:AJ31)/AJ32 -> #DIV/0! | EP32: =SUMPRODUCT(EP8:EP31,#REF!)/#REF! -> #REF! | EQ32: =SUMPRODUCT(EQ8:EQ31,#REF!)/#REF! -> #REF! | ER32: =SUMPRODUCT(ER8:ER31,#REF!)/#REF! -> #REF! | ES32: =SUMPRODUCT(ES8:ES31,#REF!)/#REF! -> #REF! | ET32: =SUMPRODUCT(ET8:ET31,AQ8:AQ31)/AQ32 -> #DIV/0! | EU32: =SUMPRODUCT(EU8:EU31,AR8:AR31)/AR32 -> #DIV/0! | EV32: =SUMPRODUCT(EV8:EV31,AS8:AS31)/AS32 -> #DIV/0! | EW32: =SUMPRODUCT(EW8:EW31,AT8:AT31)/AT32 -> #DIV/0! | EX32: =SUMPRODUCT(EX8:EX31,AU8:AU31)/AU32 -> #DIV/0! | EY32: =SUMPRODUCT(EY8:EY31,AW8:AW31)/AW32 -> #DIV/0! | EZ32: =SUMPRODUCT(EZ8:EZ31,AX8:AX31)/AX32 -> #DIV/0! | FA32: =SUMPRODUCT(FA8:FA31,AY8:AY31)/AY32 -> #DIV/0! | FB32: =SUMPRODUCT(FB8:FB31,AZ8:AZ31)/AZ32 -> #DIV/0! | FC32: =SUMPRODUCT(FC8:FC31,BA8:BA31)/BA32 -> #DIV/0! | FD32: =SUMPRODUCT(FD8:FD31,BB8:BB31)/BB32 -> #DIV/0! | FE32: =SUMPRODUCT(FE8:FE31,BC8:BC31)/BC32 -> #DIV/0! | FF32: =SUMPRODUCT(FF8:FF31,BD8:BD31)/BD32 -> #DIV/0! | ... FK32: =SUMPRODUCT(FK8:FK31,BI8:BI31)/BI32 -> #DIV/0! | FL32: =SUMPRODUCT(FL8:FL31,BO8:BO31)/BO32 -> #VALUE! | FM32: =SUMPRODUCT(FM8:FM31,BP8:BP31)/BP32 -> #DIV/0! | FN32: =SUMPRODUCT(FN8:FN31,BQ8:BQ31)/BQ32 -> #DIV/0! | FO32: =SUMPRODUCT(FO8:FO31,BS8:BS31)/BS32 -> #VALUE!
C33: % of total area | D33: =D32/$F$32 -> #DIV/0! | E33: =E32/$F$32 -> #DIV/0! | F33: =F32/$F$32 -> #DIV/0! | G33: =G32/$BS$32 -> #DIV/0! | H33: =H32/$BS$32 -> #DIV/0! | I33: =I32/$BS$32 -> #DIV/0! | J33: =J32/$BS$32 -> #DIV/0! | AI33: =AI32/$BS$32 -> #DIV/0! | AJ33: =AJ32/$BS$32 -> #DIV/0! | AK33: =AK32/$BS$32 -> #DIV/0! | AL33: =AL32/$BS$32 -> #DIV/0! | AM33: =AM32/$BS$32 -> #DIV/0! | AN33: =AN32/$BS$32 -> #DIV/0! | AO33: =AO32/$BS$32 -> #DIV/0! | AP33: =AP32/$BS$32 -> #DIV/0! | ... AU33: =AU32/$BS$32 -> #DIV/0! | AW33: =AW32/$BS$32 -> #DIV/0! | AX33: =AX32/$BS$32 -> #DIV/0! | AY33: =AY32/$BS$32 -> #DIV/0! | AZ33: =AZ32/$BS$32 -> #DIV/0! | BA33: =BA32/$BS$32 -> #DIV/0! | BB33: =BB32/$BS$32 -> #DIV/0! | BC33: =BC32/$BS$32 -> #DIV/0! | BD33: =BD32/$BS$32 -> #DIV/0! | ... BS33: =BS32/$BS$32 -> #DIV/0! | BT33: =BT32/$DZ$32 -> #DIV/0! | BU33: =BU32/$DZ$32 -> #DIV/0! | BV33: =BV32/$DZ$32 -> #DIV/0! | BW33: =BW32/$DZ$32 -> #DIV/0! | CV33: =SUM(CV32:CW32) -> 0 | CX33: =CX32/$DZ$32 -> #DIV/0! | CZ33: =CZ32/$DZ$32 -> #DIV/0! | DA33: =DA32/$DZ$32 -> #DIV/0! | DB33: =DB32/$DZ$32 -> #DIV/0! | DC33: =DC32/$DZ$32 -> #DIV/0! | DD33: =DD32/$DZ$32 -> #DIV/0! | DE33: =DE32/$DZ$32 -> #DIV/0! | DF33: =DF32/$DZ$32 -> #DIV/0! | DG33: =DG32/$DZ$32 -> #DIV/0! | DH33: =DH32/$DZ$32 -> #DIV/0! | DJ33: =DJ32/$DZ$32 -> #DIV/0! | DK33: =DK32/$DZ$32 -> #DIV/0! | DL33: =DL32/$DZ$32 -> #DIV/0! | DM33: =DM32/$DZ$32 -> #DIV/0! | DN33: =DN32/$DZ$32 -> #DIV/0! | DO33: =DO32/$DZ$32 -> #DIV/0! | DP33: =DP32/$DZ$32 -> #DIV/0! | DQ33: =DQ32/$DZ$32 -> #DIV/0! | ... DZ33: =DZ32/$DZ$32 -> #DIV/0! | EA33: =(EA32*G32)/($BS32) -> #DIV/0! | EB33: =(EB32*H32)/($BS32) -> #DIV/0! | EC33: =(EC32*I32)/($BS32) -> #DIV/0! | ED33: =(ED32*J32)/($BS32) -> #DIV/0! | EO33: =(EO32*AJ32)/($BS32) -> #DIV/0! | EP33: =(EP32*#REF!)/($BS32) -> #REF! | EQ33: =(EQ32*#REF!)/($BS32) -> #REF! | ER33: =(ER32*#REF!)/($BS32) -> #REF! | ES33: =(ES32*#REF!)/($BS32) -> #REF! | ET33: =(ET32*AQ32)/($BS32) -> #DIV/0! | EU33: =(EU32*AR32)/($BS32) -> #DIV/0! | EV33: =(EV32*AS32)/($BS32) -> #DIV/0! | EW33: =(EW32*AT32)/($BS32) -> #DIV/0! | EX33: =(EX32*AU32)/($BS32) -> #DIV/0! | EY33: =(EY32*AW32)/($BS32) -> #DIV/0! | EZ33: =(EZ32*AX32)/($BS32) -> #DIV/0! | FA33: =(FA32*AY32)/($BS32) -> #DIV/0! | FB33: =(FB32*AZ32)/($BS32) -> #DIV/0! | FC33: =(FC32*BA32)/($BS32) -> #DIV/0! | FD33: =(FD32*BB32)/($BS32) -> #DIV/0! | FE33: =(FE32*BC32)/($BS32) -> #DIV/0! | FF33: =(FF32*BD32)/($BS32) -> #DIV/0! | ... FK33: =(FK32*BI32)/($BS32) -> #DIV/0! | FL33: =(FL32*BO32)/($BS32) -> #VALUE! | FM33: =(FM32*BP32)/($BS32) -> #DIV/0! | FN33: =(FN32*BQ32)/($BS32) -> #DIV/0! | FO33: =(FO32*BS32)/($BS32) -> #VALUE!
G34: =G32+H32 -> 0 | I34: =I32+AX32 -> 0 | P34: =SUM(P32:R32) -> 0 | S34: =SUM(S32:U32) -> 0 | V34: =SUM(V32:W32) -> 0 | BT34: =BT32+BU32 -> 0 | CC34: =SUM(CC32:CE32) -> 0 | CF34: =SUM(CF32:CH32) -> 0 | CI34: =SUM(CI32:CJ32) -> 0 | DZ34: =SUM(DW32:DY32)=DZ32 -> TRUE
BP35: Total area of Tunisia from official statistics = | BS35: 16361000 | DT35: Total forest and shrub harvest (tons) | DV35: =DV32+DS32+DT32 -> 0
P36: Vegetable production | BP36: Discripancy = | BS36: =BS32-BS35 -> -16361000 | DT36: Total forest and shrub stock (tons) | DV36: =DV1*BI32 -> 0
P37: Early season | Q37: =Q32+U32 -> 0 | DT37: Annual cut rate net of afforestation (%) = | DV37: =DV35/DV36 -> #DIV/0!
P38: In season | Q38: =P32+S32+V32+SUM(X32:AH32) -> 0
P39: Late season | Q39: =R32+T32+W32 -> 0
P40: Total | Q40: =SUM(Q37:Q39) -> 0 | R40: =Q40=SUM(P32:AH32) -> TRUE
P42: Double counted area= | R42: =Q37+Q39 -> 0

Sheet Prices,exch.rates,harvest index
A1: Category | B1: Crop | C1: Tunisian Dinar (TD) per kg | E1: Tunisian Dinar (TD) per ton | G1: US$ per ton | L1: exchange rate | M1: 2021 | N1: 2010 | P1: Sources
C2: 2021 | D2: 2010 | E2: 2021 | F2: 2010 | G2: 2021 | H2: =F2 -> 2010 | I2: Area | J2: Production | K2: Check | L2: 1 US$= | M2: 2.876 | N2: 1.43 | O2: TD
A3: Food Crops | B3: wheat | G3: =E3/$M$2 -> 0 | H3: =F3/$N$2 -> 0 | I3: ='Crop-area&production'!G34 -> 0 | L3: GDP of Tunisia (USD) | M3: 46690000000 | N3: 46210000000 | P3: Here
B4: Barley | G4: =E4/$M$2 -> 0 | H4: =F4/$N$2 -> 0 | I4: ='Crop-area&production'!I34 -> 0 | L4: GDP of Tunisia (TD) | M4: =M2*M3 -> 134280440000 | N4: =N2*N3 -> 66080300000
B5: corn | G5: =E5/$M$2 -> 0 | H5: =F5/$N$2 -> 0 | I5: ='Crop-area&production'!BA32 -> 0 | M5: Area-weighted Average price (Tunisian Dinar (TD)/ton)
B6: Rice | G6: =E6/$M$2 -> 0 | H6: =F6/$N$2 -> 0 | L6: Crop category | M6: Grain (Tunisian Dinar (TD)/ton) | N6: straw (Tunisian Dinar (TD)/ton) | O6: 2010 price
B7: Rye | L7: Cereals | M7: =SUMPRODUCT(I3:I5,E3:E5)/SUM(I3:I5) -> #DIV/0! | N7: =SUMPRODUCT(I39:I40,E39:E40)/SUM(I39:I40) -> #DIV/0!
B8: Oat | L8: Legumes | M8: =SUMPRODUCT(I9:I11,E9:E11)/SUM(I9:I11) -> #DIV/0! | N8: =SUMPRODUCT(I41:I42,E41:E42)/SUM(I41:I42) -> #DIV/0!
B9: Chickpea | G9: =E9/$M$2 -> 0 | H9: =F9/$N$2 -> 0 | I9: ='Crop-area&production'!N32 -> 0 | L9: Vegetables | M9: =SUMPRODUCT(I19:I25,E19:E25)/SUM(I19:I25) -> #DIV/0! | N9: ='Vegetables-all-year'!E19 -> #DIV/0!
B10: Common (Faba) bean | G10: =E10/$M$2 -> 0 | H10: =F10/$N$2 -> 0 | I10: ='Crop-area&production'!L32 -> 0 | L10: Fruits | M10: =SUMPRODUCT(I26:I36,E26:E36)/SUM(I26:I36) -> 0 | N10: 0
B11: Pea | G11: =E11/$M$2 -> 0 | H11: =F11/$N$2 -> 0 | I11: ='Crop-area&production'!M32 -> 0 | L11: Cultivated annual forage crops | M11: =(E39*I39+E40*I40+E43*I43)/(I39+I40+I43) -> #DIV/0! | N11: =E43 -> 0 | O11: =(F39*I39+F40*I40+F43*I43)/(I39+I40+I43) -> #DIV/0!
B12: Lentils | L12: Cultivated perrenial forage crops | M12: =E38 -> 0 | N12: =G38 -> 0
B13: Safflower | L13: Pastoralist areas | M13: =E46 -> 0 | N13: 0
B14: Sunflower | G14: =E14/$M$2 -> 0 | H14: =F14/$N$2 -> 0 | L14: Prairies | M14: =SUMPRODUCT(I46:I47,E46:E47)/SUM(I46:I47) -> 0 | N14: 0
B15: Rapeseed | G15: =E15/$M$2 -> 0 | H15: =F15/$N$2 -> 0 | L15: Agrosylvo pastoral | M15: =SUMPRODUCT(I46:I47,E46:E47)/SUM(I46:I47) -> 0 | N15: 0
B16: Ground nut | G16: =E16/$M$2 -> 0 | H16: =F16/$N$2 -> 0 | L16: Forest areas | M16: =E51 -> 0 | N16: 0
B17: Seseme | G17: =E17/$M$2 -> 0 | H17: =F17/$N$2 -> 0
B18: Cotton
B19: Artichok | G19: =E19/$M$2 -> 0 | H19: =F19/$N$2 -> 0 | I19: ='Crop-area&production'!AC32 -> 0 | M19: Average price (US$/ton)
B20: Potato | G20: =E20/$M$2 -> 0 | H20: =F20/$N$2 -> 0 | I20: ='Crop-area&production'!S34 -> 0 | J20: ='Crop-area&production'!CF34 -> 0 | L20: Crop category | M20: Grain (US$/ton) | N20: straw (US$/ton)
B21: Tomato | G21: =E21/$M$2 -> 0 | H21: =F21/$N$2 -> 0 | I21: ='Crop-area&production'!P34 -> 0 | J21: ='Crop-area&production'!CC34 -> 0 | L21: Cereals | M21: =M7/$M$2 -> #DIV/0! | N21: =N7/$M$2 -> #DIV/0!
B22: Cucumber | G22: =E22/$M$2 -> 0 | H22: =F22/$N$2 -> 0 | I22: ='Crop-area&production'!Z32 -> 0 | J22: ='Crop-area&production'!CM32 -> 0 | L22: Legumes | M22: =M8/$M$2 -> #DIV/0! | N22: =N8/$M$2 -> #DIV/0!
B23: Onion | G23: =E23/$M$2 -> 0 | H23: =F23/$N$2 -> 0 | I23: ='Crop-area&production'!X32 -> 0 | J23: ='Crop-area&production'!CK32 -> 0 | L23: Vegetables | M23: =M9/$M$2 -> #DIV/0! | N23: =N9/$M$2 -> #DIV/0!
B24: Carrot | G24: =E24/$M$2 -> 0 | H24: =F24/$N$2 -> 0 | I24: ='Crop-area&production'!AA32 -> 0 | J24: ='Crop-area&production'!CN32 -> 0 | L24: Fruits | M24: =M10/$M$2 -> 0 | N24: =N10/$M$2 -> 0
B25: Cabbage and other leafy vegetables | G25: =E25/$M$2 -> 0 | H25: =F25/$N$2 -> 0 | I25: ='Crop-area&production'!AB32 -> 0 | J25: ='Crop-area&production'!CO32 -> 0 | K25: TRUE | L25: Cultivated annual forage crops | M25: =M11/$M$2 -> #DIV/0! | N25: =N11/$M$2 -> 0
B26: Apple | G26: =E26/$M$2 -> 0 | H26: =F26/$N$2 -> 0 | I26: 18695.45 | J26: ='Crop-area&production'!DD32 -> 0 | K26: TRUE | L26: Cultivated perrenial forage crops | M26: =M12/$M$2 -> 0 | N26: =N12/$M$2 -> 0
B27: Grape | G27: =E27/$M$2 -> 0 | H27: =F27/$N$2 -> 0 | I27: 10830.7 | J27: ='Crop-area&production'!DA32 -> 0 | K27: TRUE | L27: Pastoralist areas | M27: =M13/$M$2 -> 0 | N27: =N13/$M$2 -> 0
B28: Apricot | G28: =E28/$M$2 -> 0 | H28: =F28/$N$2 -> 0 | I28: 8639.25 | J28: ='Crop-area&production'!DJ32 -> 0 | K28: TRUE | L28: Prairies | M28: =M14/$M$2 -> 0 | N28: =N14/$M$2 -> 0
B29: Pear | G29: =E29/$M$2 -> 0 | H29: =F29/$N$2 -> 0 | I29: 3040.2 | J29: ='Crop-area&production'!DC32 -> 0 | L29: Agrosylvo pastoral | M29: =M15/$M$2 -> 0 | N29: =N15/$M$2 -> 0
B30: Orange | G30: =E30/$M$2 -> 0 | H30: =F30/$N$2 -> 0 | I30: ='Crop-area&production'!AR32 -> 0 | J30: ='Crop-area&production'!DE32 -> 0 | L30: Forest areas | M30: =M16/$M$2 -> 0 | N30: =N16/$M$2 -> 0
B31: Almonds (wet) | G31: =E31/$M$2 -> 0 | H31: =F31/$N$2 -> 0 | I31: ='Crop-area&production'!AS32 -> 0 | J31: ='Crop-area&production'!DF32 -> 0
B32: Grenade (pomegranate) | G32: =E32/$M$2 -> 0 | H32: =F32/$N$2 -> 0 | I32: ='Crop-area&production'!AM32 -> 0 | J32: ='Crop-area&production'!CZ32 -> 0
B33: Dates | G33: =E33/$M$2 -> 0 | H33: =F33/$N$2 -> 0 | I33: ='Crop-area&production'!AK32 -> 0 | J33: ='Crop-area&production'!CX32 -> 0
B34: Peach | G34: =E34/$M$2 -> 0 | H34: =F34/$N$2 -> 0 | I34: ='Crop-area&production'!AT32 -> 0 | J34: ='Crop-area&production'!DG32 -> 0
B35: Cherries | G35: =E35/$M$2 -> 0 | H35: =F35/$N$2 -> 0
B36: Olive | G36: =E36/$M$2 -> 0 | H36: =F36/$N$2 -> 0 | I36: ='Crop-area&production'!AL32 -> 0 | J36: ='Crop-area&production'!CY32 -> 0
A37: Cultivated perennial feed | B37: Melon | I37: ='Crop-area&production'!AJ32 -> 0
A38: Cultivated animal feed | B38: alfalfa | G38: =E38/$M$2 -> 0 | H38: =F38/$N$2 -> 0 | I38: ='Crop-area&production'!BC32 -> 0 | J38: ='Crop-area&production'!DP32 -> 0
B39: Barley straw | G39: =E39/$M$2 -> 0 | H39: =F39/$N$2 -> 0 | I39: =I4 -> 0 | J39: ='Cereals-all-year'!C14*'Cereals-all-year'!F61 -> #DIV/0!
B40: Wheat straw | G40: =E40/$M$2 -> 0 | H40: =F40/$N$2 -> 0 | I40: =I3 -> 0 | J40: ='Cereals-all-year'!C13*'Cereals-all-year'!F61 -> #DIV/0!
...

Sheet Area&production data
Z1: Average forest biomass in Tunisia (ton/ha) = | AE1: 58.74 | AF1: Source: | AG1: https://ourworldindata.org/grapher/above-ground-biomass-in-forest-per-hectare
A2: Area and production figures are for 2020 | AA2: Annual allowable cuts | AE2: 0.1 | AW2: The data on LD classes were obtained from Annabi
A3: No. | B3: Province | C3: Population | F3: Total area (ha) | W3: Total production (tons) Note: these figures are total biomass production and also a total of prodution in multiple seasons. Therefore, they cannot be used for yield calculation | AK3: Percentage of area that is irrigated | AW3: Percentage of cereal area by degree of land degradation ( low degradation, medium degradation, severe degradation) | BA3: Percentage of legume area by degree of land degradation ( low, medium, and severe degradation) | BE3: Percentage of vegetable area by degree of land degradation ( low, medium, and severe degradation) | BI3: Percentage of fruit area by degree of land degradation ( low, medium, and severe degradation) | BM3: Percentage of area under cultivated forages by degree of land degradation ( low, medium, and severe degradation) | BQ3: Percentage of area under alfa-alfa by degree of land degradation ( low, medium, and severe degradation) | BU3: Percentage of pastoral areas by degree of land degradation ( low, medium, and severe degradation) | BY3: Percentage of prairies by degree of land degradation ( low, medium, and severe degradation) | CC3: Percentage of agro sylvo pastoral areas by degree of land degradation ( low, medium, and severe degradation) | CG3: Percentage of area under forests and shrubs by degree of land degradation ( low, medium, and severe degradation) | CK3: Total crop area by degree of land degradation ( low, medium, and severe degradation) | CO3: Total national land area by degree of land degradation ( low, medium, and severe degradation)
C4: Urban | D4: Rural | E4: Total | F4: Cereals | G4: Legumes | H4: Vegetables | I4: Fruits | J4: Cultivated annual forages | K4: Alfalpha | L4: Pastoral areas | M4: Prairies | N4: Sylvo pastoral areas | O4: Forests and shrubs | P4: All other types of lands | Q4: Total crop land | R4: Total rangeland | S4: Forest Areas | T4: Total agricultural land | U4: All other types of lands | V4: Total land area | W4: Cereals | X4: Legumes | Y4: Vegetables | Z4: Fruits | AA4: Cultivated annual forages | AB4: Alfalafa | AC4: Pastoral areas | AD4: Prairies | AE4: Sylvo pastoral areas | AF4: Forests and shrubs | AG4: Total crops | AH4: Total rangeland | AI4: Forest Areas | AJ4: Total biomass | AK4: Cereals | AL4: Legumes | AM4: Vegetables | AN4: Fruits | AO4: Cultivated annual forages | AP4: Alfalafa | AQ4: Pastoral areas | AR4: Prairies | AS4: Sylvo pastoral areas | AT4: Forests and shrubs | AU4: Total agricultural land | AV4: Total land | AW4: Low | AX4: Modest | AY4: Severe | AZ4: Total | BA4: Low | BB4: Modest | BC4: Severe | BD4: Total | BE4: Low | BF4: Modest | BG4: Severe | BH4: Total | BI4: Low | BJ4: Modest | BK4: Severe | BL4: Total | BQ4: Low | BR4: Modest | BS4: Severe | BT4: Total | BU4: Low | BV4: Modest | BW4: Severe | BX4: Total | BY4: Low | BZ4: Modest | CA4: Severe | CB4: Total | CC4: Low | CD4: Modest | CE4: Severe | CF4: Total | CG4: Low | CH4: Modest | CI4: Severe | CJ4: Total | CK4: Low | CL4: Modest | CM4: Severe | CN4: Total | CO4: Low | CP4: Modest | CQ4: Severe | CR4: Total
A5: 1 | B5: Tunis | Q5: =SUM(F5:K5) -> 0 | R5: =SUM(L5:N5) -> 0 | S5: =O5 -> 0 | T5: =SUM(Q5:S5) -> 0 | U5: =P5 -> 0 | V5: =SUM(T5:U5) -> 0 | AG5: =SUM(W5:AB5) -> 0 | AH5: =SUM(AC5:AE5) -> 0 | AI5: =AF5 -> 0 | AJ5: =SUM(W5:AF5) -> 0 | AU5: =SUMPRODUCT(AK5:AP5,F5:K5)/Q5 -> #DIV/0! | AV5: =SUMPRODUCT(AK5:AT5,F5:O5)/V5 -> #DIV/0! | AZ5: =SUM(AW5:AY5) -> 0 | BD5: =SUM(BA5:BC5) -> 0 | BH5: =SUM(BE5:BG5) -> 0 | BL5: =SUM(BI5:BK5) -> 0 | BP5: =SUM(BM5:BO5) -> 0 | BT5: =SUM(BQ5:BS5) -> 0 | BX5: =SUM(BU5:BW5) -> 0 | CB5: =SUM(BY5:CA5) -> 0 | CF5: =SUM(CC5:CE5) -> 0 | CJ5: =SUM(CG5:CI5) -> 0 | CK5: =(AW5*$F5+BA5*$G5+BE5*$H5+BI5*$I5+BM5*$J5+BQ5*$K5)/$Q5 -> #DIV/0! | CL5: =(AX5*$F5+BB5*$G5+BF5*$H5+BJ5*$I5+BN5*$J5+BR5*$K5)/$Q5 -> #DIV/0! | CM5: =(AY5*$F5+BC5*$G5+BG5*$H5+BK5*$I5+BO5*$J5+BS5*$K5)/$Q5 -> #DIV/0! | CN5: =SUM(CK5:CM5) -> #DIV/0! | CO5: =(AW5*$F5+BA5*$G5+BE5*$H5+BI5*$I5+BM5*$J5+BQ5*$K5+$L5*CG5+$M5*BU5+$N5*BY5+$O5*CC5)/SUM(Q5:S5) -> #DIV/0! | CP5: =(AX5*$F5+BB5*$G5+BF5*$H5+BJ5*$I5+BN5*$J5+BR5*$K5+$L5*CH5+$M5*BV5+$N5*BZ5+$O5*CD5)/SUM(Q5:S5) -> #DIV/0! | CQ5: =(AY5*$F5+BC5*$G5+BG5*$H5+BK5*$I5+BO5*$J5+BS5*$K5+$L5*CI5+$M5*BW5+$N5*CA5+$O5*CE5)/SUM(Q5:S5) -> #DIV/0! | CR5: =SUM(CO5:CQ5) -> #DIV/0!
A6: 2 | B6: Ariana | Q6: =SUM(F6:K6) -> 0 | R6: =SUM(L6:N6) -> 0 | S6: =O6 -> 0 | T6: =SUM(Q6:S6) -> 0 | U6: =P6 -> 0 | V6: =SUM(T6:U6) -> 0 | AG6: =SUM(W6:AB6) -> 0 | AH6: =SUM(AC6:AE6) -> 0 | AI6: =AF6 -> 0 | AJ6: =SUM(W6:AF6) -> 0 | AU6: =SUMPRODUCT(AK6:AP6,F6:K6)/Q6 -> #DIV/0! | AV6: =SUMPRODUCT(AK6:AT6,F6:O6)/V6 -> #DIV/0! | AZ6: =SUM(AW6:AY6) -> 0 | BD6: =SUM(BA6:BC6) -> 0 | BH6: =SUM(BE6:BG6) -> 0 | BL6: =SUM(BI6:BK6) -> 0 | BP6: =SUM(BM6:BO6) -> 0 | BT6: =SUM(BQ6:BS6) -> 0 | BX6: =SUM(BU6:BW6) -> 0 | CB6: =SUM(BY6:CA6) -> 0 | CF6: =SUM(CC6:CE6) -> 0 | CJ6: =SUM(CG6:CI6) -> 0 | CK6: =(AW6*$F6+BA6*$G6+BE6*$H6+BI6*$I6+BM6*$J6+BQ6*$K6)/$Q6 -> #DIV/0! | CL6: =(AX6*$F6+BB6*$G6+BF6*$H6+BJ6*$I6+BN6*$J6+BR6*$K6)/$Q6 -> #DIV/0! | CM6: =(AY6*$F6+BC6*$G6+BG6*$H6+BK6*$I6+BO6*$J6+BS6*$K6)/$Q6 -> #DIV/0! | CN6: =SUM(CK6:CM6) -> #DIV/0! | CO6: =(AW6*$F6+BA6*$G6+BE6*$H6+BI6*$I6+BM6*$J6+BQ6*$K6+$L6*CG6+$M6*BU6+$N6*BY6+$O6*CC6)/SUM(Q6:S6) -> #DIV/0! | CP6: =(AX6*$F6+BB6*$G6+BF6*$H6+BJ6*$I6+BN6*$J6+BR6*$K6+$L6*CH6+$M6*BV6+$N6*BZ6+$O6*CD6)/SUM(Q6:S6) -> #DIV/0! | CQ6: =(AY6*$F6+BC6*$G6+BG6*$H6+BK6*$I6+BO6*$J6+BS6*$K6+$L6*CI6+$M6*BW6+$N6*CA6+$O6*CE6)/SUM(Q6:S6) -> #DIV/0! | CR6: =SUM(CO6:CQ6) -> #DIV/0!
A7: 3 | B7: La Manouba | Q7: =SUM(F7:K7) -> 0 | R7: =SUM(L7:N7) -> 0 | S7: =O7 -> 0 | T7: =SUM(Q7:S7) -> 0 | U7: =P7 -> 0 | V7: =SUM(T7:U7) -> 0 | AG7: =SUM(W7:AB7) -> 0 | AH7: =SUM(AC7:AE7) -> 0 | AI7: =AF7 -> 0 | AJ7: =SUM(W7:AF7) -> 0 | AU7: =SUMPRODUCT(AK7:AP7,F7:K7)/Q7 -> #DIV/0! | AV7: =SUMPRODUCT(AK7:AT7,F7:O7)/V7 -> #DIV/0! | AZ7: =SUM(AW7:AY7) -> 0 | BD7: =SUM(BA7:BC7) -> 0 | BH7: =SUM(BE7:BG7) -> 0 | BL7: =SUM(BI7:BK7) -> 0 | BP7: =SUM(BM7:BO7) -> 0 | BT7: =SUM(BQ7:BS7) -> 0 | BX7: =SUM(BU7:BW7) -> 0 | CB7: =SUM(BY7:CA7) -> 0 | CF7: =SUM(CC7:CE7) -> 0 | CJ7: =SUM(CG7:CI7) -> 0 | CK7: =(AW7*$F7+BA7*$G7+BE7*$H7+BI7*$I7+BM7*$J7+BQ7*$K7)/$Q7 -> #DIV/0! | CL7: =(AX7*$F7+BB7*$G7+BF7*$H7+BJ7*$I7+BN7*$J7+BR7*$K7)/$Q7 -> #DIV/0! | CM7: =(AY7*$F7+BC7*$G7+BG7*$H7+BK7*$I7+BO7*$J7+BS7*$K7)/$Q7 -> #DIV/0! | CN7: =SUM(CK7:CM7) -> #DIV/0! | CO7: =(AW7*$F7+BA7*$G7+BE7*$H7+BI7*$I7+BM7*$J7+BQ7*$K7+$L7*CG7+$M7*BU7+$N7*BY7+$O7*CC7)/SUM(Q7:S7) -> #DIV/0! | CP7: =(AX7*$F7+BB7*$G7+BF7*$H7+BJ7*$I7+BN7*$J7+BR7*$K7+$L7*CH7+$M7*BV7+$N7*BZ7+$O7*CD7)/SUM(Q7:S7) -> #DIV/0! | CQ7: =(AY7*$F7+BC7*$G7+BG7*$H7+BK7*$I7+BO7*$J7+BS7*$K7+$L7*CI7+$M7*BW7+$N7*CA7+$O7*CE7)/SUM(Q7:S7) -> #DIV/0! | CR7: =SUM(CO7:CQ7) -> #DIV/0!
A8: 4 | B8: Ben Arous | Q8: =SUM(F8:K8) -> 0 | R8: =SUM(L8:N8) -> 0 | S8: =O8 -> 0 | T8: =SUM(Q8:S8) -> 0 | U8: =P8 -> 0 | V8: =SUM(T8:U8) -> 0 | AG8: =SUM(W8:AB8) -> 0 | AH8: =SUM(AC8:AE8) -> 0 | AI8: =AF8 -> 0 | AJ8: =SUM(W8:AF8) -> 0 | AU8: =SUMPRODUCT(AK8:AP8,F8:K8)/Q8 -> #DIV/0! | AV8: =SUMPRODUCT(AK8:AT8,F8:O8)/V8 -> #DIV/0! | AZ8: =SUM(AW8:AY8) -> 0 | BD8: =SUM(BA8:BC8) -> 0 | BH8: =SUM(BE8:BG8) -> 0 | BL8: =SUM(BI8:BK8) -> 0 | BP8: =SUM(BM8:BO8) -> 0 | BT8: =SUM(BQ8:BS8) -> 0 | BX8: =SUM(BU8:BW8) -> 0 | CB8: =SUM(BY8:CA8) -> 0 | CF8: =SUM(CC8:CE8) -> 0 | CJ8: =SUM(CG8:CI8) -> 0 | CK8: =(AW8*$F8+BA8*$G8+BE8*$H8+BI8*$I8+BM8*$J8+BQ8*$K8)/$Q8 -> #DIV/0! | CL8: =(AX8*$F8+BB8*$G8+BF8*$H8+BJ8*$I8+BN8*$J8+BR8*$K8)/$Q8 -> #DIV/0! | CM8: =(AY8*$F8+BC8*$G8+BG8*$H8+BK8*$I8+BO8*$J8+BS8*$K8)/$Q8 -> #DIV/0! | CN8: =SUM(CK8:CM8) -> #DIV/0! | CO8: =(AW8*$F8+BA8*$G8+BE8*$H8+BI8*$I8+BM8*$J8+BQ8*$K8+$L8*CG8+$M8*BU8+$N8*BY8+$O8*CC8)/SUM(Q8:S8) -> #DIV/0! | CP8: =(AX8*$F8+BB8*$G8+BF8*$H8+BJ8*$I8+BN8*$J8+BR8*$K8+$L8*CH8+$M8*BV8+$N8*BZ8+$O8*CD8)/SUM(Q8:S8) -> #DIV/0! | CQ8: =(AY8*$F8+BC8*$G8+BG8*$H8+BK8*$I8+BO8*$J8+BS8*$K8+$L8*CI8+$M8*BW8+$N8*CA8+$O8*CE8)/SUM(Q8:S8) -> #DIV/0! | CR8: =SUM(CO8:CQ8) -> #DIV/0!
A9: 5 | B9: Nabeul | Q9: =SUM(F9:K9) -> 0 | R9: =SUM(L9:N9) -> 0 | S9: =O9 -> 0 | T9: =SUM(Q9:S9) -> 0 | U9: =P9 -> 0 | V9: =SUM(T9:U9) -> 0 | AG9: =SUM(W9:AB9) -> 0 | AH9: =SUM(AC9:AE9) -> 0 | AI9: =AF9 -> 0 | AJ9: =SUM(W9:AF9) -> 0 | AU9: =SUMPRODUCT(AK9:AP9,F9:K9)/Q9 -> #DIV/0! | AV9: =SUMPRODUCT(AK9:AT9,F9:O9)/V9 -> #DIV/0! | AZ9: =SUM(AW9:AY9) -> 0 | BD9: =SUM(BA9:BC9) -> 0 | BH9: =SUM(BE9:BG9) -> 0 | BL9: =SUM(BI9:BK9) -> 0 | BP9: =SUM(BM9:BO9) -> 0 | BT9: =SUM(BQ9:BS9) -> 0 | BX9: =SUM(BU9:BW9) -> 0 | CB9: =SUM(BY9:CA9) -> 0 | CF9: =SUM(CC9:CE9) -> 0 | CJ9: =SUM(CG9:CI9) -> 0 | CK9: =(AW9*$F9+BA9*$G9+BE9*$H9+BI9*$I9+BM9*$J9+BQ9*$K9)/$Q9 -> #DIV/0! | CL9: =(AX9*$F9+BB9*$G9+BF9*$H9+BJ9*$I9+BN9*$J9+BR9*$K9)/$Q9 -> #DIV/0! | CM9: =(AY9*$F9+BC9*$G9+BG9*$H9+BK9*$I9+BO9*$J9+BS9*$K9)/$Q9 -> #DIV/0! | CN9: =SUM(CK9:CM9) -> #DIV/0! | CO9: =(AW9*$F9+BA9*$G9+BE9*$H9+BI9*$I9+BM9*$J9+BQ9*$K9+$L9*CG9+$M9*BU9+$N9*BY9+$O9*CC9)/SUM(Q9:S9) -> #DIV/0! | CP9: =(AX9*$F9+BB9*$G9+BF9*$H9+BJ9*$I9+BN9*$J9+BR9*$K9+$L9*CH9+$M9*BV9+$N9*BZ9+$O9*CD9)/SUM(Q9:S9) -> #DIV/0! | CQ9: =(AY9*$F9+BC9*$G9+BG9*$H9+BK9*$I9+BO9*$J9+BS9*$K9+$L9*CI9+$M9*BW9+$N9*CA9+$O9*CE9)/SUM(Q9:S9) -> #DIV/0! | CR9: =SUM(CO9:CQ9) -> #DIV/0!
A10: 6 | B10: Bizerte | Q10: =SUM(F10:K10) -> 0 | R10: =SUM(L10:N10) -> 0 | S10: =O10 -> 0 | T10: =SUM(Q10:S10) -> 0 | U10: =P10 -> 0 | V10: =SUM(T10:U10) -> 0 | AG10: =SUM(W10:AB10) -> 0 | AH10: =SUM(AC10:AE10) -> 0 | AI10: =AF10 -> 0 | AJ10: =SUM(W10:AF10) -> 0 | AU10: =SUMPRODUCT(AK10:AP10,F10:K10)/Q10 -> #DIV/0! | AV10: =SUMPRODUCT(AK10:AT10,F10:O10)/V10 -> #DIV/0! | AZ10: =SUM(AW10:AY10) -> 0 | BD10: =SUM(BA10:BC10) -> 0 | BH10: =SUM(BE10:BG10) -> 0 | BL10: =SUM(BI10:BK10) -> 0 | BP10: =SUM(BM10:BO10) -> 0 | BT10: =SUM(BQ10:BS10) -> 0 | BX10: =SUM(BU10:BW10) -> 0 | CB10: =SUM(BY10:CA10) -> 0 | CF10: =SUM(CC10:CE10) -> 0 | CJ10: =SUM(CG10:CI10) -> 0 | CK10: =(AW10*$F10+BA10*$G10+BE10*$H10+BI10*$I10+BM10*$J10+BQ10*$K10)/$Q10 -> #DIV/0! | CL10: =(AX10*$F10+BB10*$G10+BF10*$H10+BJ10*$I10+BN10*$J10+BR10*$K10)/$Q10 -> #DIV/0! | CM10: =(AY10*$F10+BC10*$G10+BG10*$H10+BK10*$I10+BO10*$J10+BS10*$K10)/$Q10 -> #DIV/0! | CN10: =SUM(CK10:CM10) -> #DIV/0! | CO10: =(AW10*$F10+BA10*$G10+BE10*$H10+BI10*$I10+BM10*$J10+BQ10*$K10+$L10*CG10+$M10*BU10+$N10*BY10+$O10*CC10)/SUM(Q10:S10) -> #DIV/0! | CP10: =(AX10*$F10+BB10*$G10+BF10*$H10+BJ10*$I10+BN10*$J10+BR10*$K10+$L10*CH10+$M10*BV10+$N10*BZ10+$O10*CD10)/SUM(Q10:S10) -> #DIV/0! | CQ10: =(AY10*$F10+BC10*$G10+BG10*$H10+BK10*$I10+BO10*$J10+BS10*$K10+$L10*CI10+$M10*BW10+$N10*CA10+$O10*CE10)/SUM(Q10:S10) -> #DIV/0! | CR10: =SUM(CO10:CQ10) -> #DIV/0!
A11: 7 | B11: Zaghouan | Q11: =SUM(F11:K11) -> 0 | R11: =SUM(L11:N11) -> 0 | S11: =O11 -> 0 | T11: =SUM(Q11:S11) -> 0 | U11: =P11 -> 0 | V11: =SUM(T11:U11) -> 0 | AG11: =SUM(W11:AB11) -> 0 | AH11: =SUM(AC11:AE11) -> 0 | AI11: =AF11 -> 0 | AJ11: =SUM(W11:AF11) -> 0 | AU11: =SUMPRODUCT(AK11:AP11,F11:K11)/Q11 -> #DIV/0! | AV11: =SUMPRODUCT(AK11:AT11,F11:O11)/V11 -> #DIV/0! | AZ11: =SUM(AW11:AY11) -> 0 | BD11: =SUM(BA11:BC11) -> 0 | BH11: =SUM(BE11:BG11) -> 0 | BL11: =SUM(BI11:BK11) -> 0 | BP11: =SUM(BM11:BO11) -> 0 | BT11: =SUM(BQ11:BS11) -> 0 | BX11: =SUM(BU11:BW11) -> 0 | CB11: =SUM(BY11:CA11) -> 0 | CF11: =SUM(CC11:CE11) -> 0 | CJ11: =SUM(CG11:CI11) -> 0 | CK11: =(AW11*$F11+BA11*$G11+BE11*$H11+BI11*$I11+BM11*$J11+BQ11*$K11)/$Q11 -> #DIV/0! | CL11: =(AX11*$F11+BB11*$G11+BF11*$H11+BJ11*$I11+BN11*$J11+BR11*$K11)/$Q11 -> #DIV/0! | CM11: =(AY11*$F11+BC11*$G11+BG11*$H11+BK11*$I11+BO11*$J11+BS11*$K11)/$Q11 -> #DIV/0! | CN11: =SUM(CK11:CM11) -> #DIV/0! | CO11: =(AW11*$F11+BA11*$G11+BE11*$H11+BI11*$I11+BM11*$J11+BQ11*$K11+$L11*CG11+$M11*BU11+$N11*BY11+$O11*CC11)/SUM(Q11:S11) -> #DIV/0! | CP11: =(AX11*$F11+BB11*$G11+BF11*$H11+BJ11*$I11+BN11*$J11+BR11*$K11+$L11*CH11+$M11*BV11+$N11*BZ11+$O11*CD11)/SUM(Q11:S11) -> #DIV/0! | CQ11: =(AY11*$F11+BC11*$G11+BG11*$H11+BK11*$I11+BO11*$J11+BS11*$K11+$L11*CI11+$M11*BW11+$N11*CA11+$O11*CE11)/SUM(Q11:S11) -> #DIV/0! | CR11: =SUM(CO11:CQ11) -> #DIV/0!
A12: 8 | B12: Béja | Q12: =SUM(F12:K12) -> 0 | R12: =SUM(L12:N12) -> 0 | S12: =O12 -> 0 | T12: =SUM(Q12:S12) -> 0 | U12: =P12 -> 0 | V12: =SUM(T12:U12) -> 0 | AG12: =SUM(W12:AB12) -> 0 | AH12: =SUM(AC12:AE12) -> 0 | AI12: =AF12 -> 0 | AJ12: =SUM(W12:AF12) -> 0 | AU12: =SUMPRODUCT(AK12:AP12,F12:K12)/Q12 -> #DIV/0! | AV12: =SUMPRODUCT(AK12:AT12,F12:O12)/V12 -> #DIV/0! | AZ12: =SUM(AW12:AY12) -> 0 | BD12: =SUM(BA12:BC12) -> 0 | BH12: =SUM(BE12:BG12) -> 0 | BL12: =SUM(BI12:BK12) -> 0 | BP12: =SUM(BM12:BO12) -> 0 | BT12: =SUM(BQ12:BS12) -> 0 | BX12: =SUM(BU12:BW12) -> 0 | CB12: =SUM(BY12:CA12) -> 0 | CF12: =SUM(CC12:CE12) -> 0 | CJ12: =SUM(CG12:CI12) -> 0 | CK12: =(AW12*$F12+BA12*$G12+BE12*$H12+BI12*$I12+BM12*$J12+BQ12*$K12)/$Q12 -> #DIV/0! | CL12: =(AX12*$F12+BB12*$G12+BF12*$H12+BJ12*$I12+BN12*$J12+BR12*$K12)/$Q12 -> #DIV/0! | CM12: =(AY12*$F12+BC12*$G12+BG12*$H12+BK12*$I12+BO12*$J12+BS12*$K12)/$Q12 -> #DIV/0! | CN12: =SUM(CK12:CM12) -> #DIV/0! | CO12: =(AW12*$F12+BA12*$G12+BE12*$H12+BI12*$I12+BM12*$J12+BQ12*$K12+$L12*CG12+$M12*BU12+$N12*BY12+$O12*CC12)/SUM(Q12:S12) -> #DIV/0! | CP12: =(AX12*$F12+BB12*$G12+BF12*$H12+BJ12*$I12+BN12*$J12+BR12*$K12+$L12*CH12+$M12*BV12+$N12*BZ12+$O12*CD12)/SUM(Q12:S12) -> #DIV/0! | CQ12: =(AY12*$F12+BC12*$G12+BG12*$H12+BK12*$I12+BO12*$J12+BS12*$K12+$L12*CI12+$M12*BW12+$N12*CA12+$O12*CE12)/SUM(Q12:S12) -> #DIV/0! | CR12: =SUM(CO12:CQ12) -> #DIV/0!
A13: 9 | B13: Jendouba | Q13: =SUM(F13:K13) -> 0 | R13: =SUM(L13:N13) -> 0 | S13: =O13 -> 0 | T13: =SUM(Q13:S13) -> 0 | U13: =P13 -> 0 | V13: =SUM(T13:U13) -> 0 | AG13: =SUM(W13:AB13) -> 0 | AH13: =SUM(AC13:AE13) -> 0 | AI13: =AF13 -> 0 | AJ13: =SUM(W13:AF13) -> 0 | AU13: =SUMPRODUCT(AK13:AP13,F13:K13)/Q13 -> #DIV/0! | AV13: =SUMPRODUCT(AK13:AT13,F13:O13)/V13 -> #DIV/0! | AZ13: =SUM(AW13:AY13) -> 0 | BD13: =SUM(BA13:BC13) -> 0 | BH13: =SUM(BE13:BG13) -> 0 | BL13: =SUM(BI13:BK13) -> 0 | BP13: =SUM(BM13:BO13) -> 0 | BT13: =SUM(BQ13:BS13) -> 0 | BX13: =SUM(BU13:BW13) -> 0 | CB13: =SUM(BY13:CA13) -> 0 | CF13: =SUM(CC13:CE13) -> 0 | CJ13: =SUM(CG13:CI13) -> 0 | CK13: =(AW13*$F13+BA13*$G13+BE13*$H13+BI13*$I13+BM13*$J13+BQ13*$K13)/$Q13 -> #DIV/0! | CL13: =(AX13*$F13+BB13*$G13+BF13*$H13+BJ13*$I13+BN13*$J13+BR13*$K13)/$Q13 -> #DIV/0! | CM13: =(AY13*$F13+BC13*$G13+BG13*$H13+BK13*$I13+BO13*$J13+BS13*$K13)/$Q13 -> #DIV/0! | CN13: =SUM(CK13:CM13) -> #DIV/0! | CO13: =(AW13*$F13+BA13*$G13+BE13*$H13+BI13*$I13+BM13*$J13+BQ13*$K13+$L13*CG13+$M13*BU13+$N13*BY13+$O13*CC13)/SUM(Q13:S13) -> #DIV/0! | CP13: =(AX13*$F13+BB13*$G13+BF13*$H13+BJ13*$I13+BN13*$J13+BR13*$K13+$L13*CH13+$M13*BV13+$N13*BZ13+$O13*CD13)/SUM(Q13:S13) -> #DIV/0! | CQ13: =(AY13*$F13+BC13*$G13+BG13*$H13+BK13*$I13+BO13*$J13+BS13*$K13+$L13*CI13+$M13*BW13+$N13*CA13+$O13*CE13)/SUM(Q13:S13) -> #DIV/0! | CR13: =SUM(CO13:CQ13) -> #DIV/0!
A14: 10 | B14: Le Kef | Q14: =SUM(F14:K14) -> 0 | R14: =SUM(L14:N14) -> 0 | S14: =O14 -> 0 | T14: =SUM(Q14:S14) -> 0 | U14: =P14 -> 0 | V14: =SUM(T14:U14) -> 0 | AG14: =SUM(W14:AB14) -> 0 | AH14: =SUM(AC14:AE14) -> 0 | AI14: =AF14 -> 0 | AJ14: =SUM(W14:AF14) -> 0 | AU14: =SUMPRODUCT(AK14:AP14,F14:K14)/Q14 -> #DIV/0! | AV14: =SUMPRODUCT(AK14:AT14,F14:O14)/V14 -> #DIV/0! | AZ14: =SUM(AW14:AY14) -> 0 | BD14: =SUM(BA14:BC14) -> 0 | BH14: =SUM(BE14:BG14) -> 0 | BL14: =SUM(BI14:BK14) -> 0 | BP14: =SUM(BM14:BO14) -> 0 | BT14: =SUM(BQ14:BS14) -> 0 | BX14: =SUM(BU14:BW14) -> 0 | CB14: =SUM(BY14:CA14) -> 0 | CF14: =SUM(CC14:CE14) -> 0 | CJ14: =SUM(CG14:CI14) -> 0 | CK14: =(AW14*$F14+BA14*$G14+BE14*$H14+BI14*$I14+BM14*$J14+BQ14*$K14)/$Q14 -> #DIV/0! | CL14: =(AX14*$F14+BB14*$G14+BF14*$H14+BJ14*$I14+BN14*$J14+BR14*$K14)/$Q14 -> #DIV/0! | CM14: =(AY14*$F14+BC14*$G14+BG14*$H14+BK14*$I14+BO14*$J14+BS14*$K14)/$Q14 -> #DIV/0! | CN14: =SUM(CK14:CM14) -> #DIV/0! | CO14: =(AW14*$F14+BA14*$G14+BE14*$H14+BI14*$I14+BM14*$J14+BQ14*$K14+$L14*CG14+$M14*BU14+$N14*BY14+$O14*CC14)/SUM(Q14:S14) -> #DIV/0! | CP14: =(AX14*$F14+BB14*$G14+BF14*$H14+BJ14*$I14+BN14*$J14+BR14*$K14+$L14*CH14+$M14*BV14+$N14*BZ14+$O14*CD14)/SUM(Q14:S14) -> #DIV/0! | CQ14: =(AY14*$F14+BC14*$G14+BG14*$H14+BK14*$I14+BO14*$J14+BS14*$K14+$L14*CI14+$M14*BW14+$N14*CA14+$O14*CE14)/SUM(Q14:S14) -> #DIV/0! | CR14: =SUM(CO14:CQ14) -> #DIV/0!
A15: 11 | B15: Siliana | Q15: =SUM(F15:K15) -> 0 | R15: =SUM(L15:N15) -> 0 | S15: =O15 -> 0 | T15: =SUM(Q15:S15) -> 0 | U15: =P15 -> 0 | V15: =SUM(T15:U15) -> 0 | AG15: =SUM(W15:AB15) -> 0 | AH15: =SUM(AC15:AE15) -> 0 | AI15: =AF15 -> 0 | AJ15: =SUM(W15:AF15) -> 0 | AU15: =SUMPRODUCT(AK15:AP15,F15:K15)/Q15 -> #DIV/0! | AV15: =SUMPRODUCT(AK15:AT15,F15:O15)/V15 -> #DIV/0! | AZ15: =SUM(AW15:AY15) -> 0 | BD15: =SUM(BA15:BC15) -> 0 | BH15: =SUM(BE15:BG15) -> 0 | BL15: =SUM(BI15:BK15) -> 0 | BP15: =SUM(BM15:BO15) -> 0 | BT15: =SUM(BQ15:BS15) -> 0 | BX15: =SUM(BU15:BW15) -> 0 | CB15: =SUM(BY15:CA15) -> 0 | CF15: =SUM(CC15:CE15) -> 0 | CJ15: =SUM(CG15:CI15) -> 0 | CK15: =(AW15*$F15+BA15*$G15+BE15*$H15+BI15*$I15+BM15*$J15+BQ15*$K15)/$Q15 -> #DIV/0! | CL15: =(AX15*$F15+BB15*$G15+BF15*$H15+BJ15*$I15+BN15*$J15+BR15*$K15)/$Q15 -> #DIV/0! | CM15: =(AY15*$F15+BC15*$G15+BG15*$H15+BK15*$I15+BO15*$J15+BS15*$K15)/$Q15 -> #DIV/0! | CN15: =SUM(CK15:CM15) -> #DIV/0! | CO15: =(AW15*$F15+BA15*$G15+BE15*$H15+BI15*$I15+BM15*$J15+BQ15*$K15+$L15*CG15+$M15*BU15+$N15*BY15+$O15*CC15)/SUM(Q15:S15) -> #DIV/0! | CP15: =(AX15*$F15+BB15*$G15+BF15*$H15+BJ15*$I15+BN15*$J15+BR15*$K15+$L15*CH15+$M15*BV15+$N15*BZ15+$O15*CD15)/SUM(Q15:S15) -> #DIV/0! | CQ15: =(AY15*$F15+BC15*$G15+BG15*$H15+BK15*$I15+BO15*$J15+BS15*$K15+$L15*CI15+$M15*BW15+$N15*CA15+$O15*CE15)/SUM(Q15:S15) -> #DIV/0! | CR15: =SUM(CO15:CQ15) -> #DIV/0!
A16: 12 | B16: Sousse | Q16: =SUM(F16:K16) -> 0 | R16: =SUM(L16:N16) -> 0 | S16: =O16 -> 0 | T16: =SUM(Q16:S16) -> 0 | U16: =P16 -> 0 | V16: =SUM(T16:U16) -> 0 | AG16: =SUM(W16:AB16) -> 0 | AH16: =SUM(AC16:AE16) -> 0 | AI16: =AF16 -> 0 | AJ16: =SUM(W16:AF16) -> 0 | AU16: =SUMPRODUCT(AK16:AP16,F16:K16)/Q16 -> #DIV/0! | AV16: =SUMPRODUCT(AK16:AT16,F16:O16)/V16 -> #DIV/0! | AZ16: =SUM(AW16:AY16) -> 0 | BD16: =SUM(BA16:BC16) -> 0 | BH16: =SUM(BE16:BG16) -> 0 | BL16: =SUM(BI16:BK16) -> 0 | BP16: =SUM(BM16:BO16) -> 0 | BT16: =SUM(BQ16:BS16) -> 0 | BX16: =SUM(BU16:BW16) -> 0 | CB16: =SUM(BY16:CA16) -> 0 | CF16: =SUM(CC16:CE16) -> 0 | CJ16: =SUM(CG16:CI16) -> 0 | CK16: =(AW16*$F16+BA16*$G16+BE16*$H16+BI16*$I16+BM16*$J16+BQ16*$K16)/$Q16 -> #DIV/0! | CL16: =(AX16*$F16+BB16*$G16+BF16*$H16+BJ16*$I16+BN16*$J16+BR16*$K16)/$Q16 -> #DIV/0! | CM16: =(AY16*$F16+BC16*$G16+BG16*$H16+BK16*$I16+BO16*$J16+BS16*$K16)/$Q16 -> #DIV/0! | CN16: =SUM(CK16:CM16) -> #DIV/0! | CO16: =(AW16*$F16+BA16*$G16+BE16*$H16+BI16*$I16+BM16*$J16+BQ16*$K16+$L16*CG16+$M16*BU16+$N16*BY16+$O16*CC16)/SUM(Q16:S16) -> #DIV/0! | CP16: =(AX16*$F16+BB16*$G16+BF16*$H16+BJ16*$I16+BN16*$J16+BR16*$K16+$L16*CH16+$M16*BV16+$N16*BZ16+$O16*CD16)/SUM(Q16:S16) -> #DIV/0! | CQ16: =(AY16*$F16+BC16*$G16+BG16*$H16+BK16*$I16+BO16*$J16+BS16*$K16+$L16*CI16+$M16*BW16+$N16*CA16+$O16*CE16)/SUM(Q16:S16) -> #DIV/0! | CR16: =SUM(CO16:CQ16) -> #DIV/0!
... A28: 24 | B28: Kébili | Q28: =SUM(F28:K28) -> 0 | R28: =SUM(L28:N28) -> 0 | S28: =O28 -> 0 | T28: =SUM(Q28:S28) -> 0 | U28: =P28 -> 0 | V28: =SUM(T28:U28) -> 0 | AG28: =SUM(W28:AB28) -> 0 | AH28: =SUM(AC28:AE28) -> 0 | AI28: =AF28 -> 0 | AJ28: =SUM(W28:AF28) -> 0 | AU28: =SUMPRODUCT(AK28:AP28,F28:K28)/Q28 -> #DIV/0! | AV28: =SUMPRODUCT(AK28:AT28,F28:O28)/V28 -> #DIV/0! | AZ28: =SUM(AW28:AY28) -> 0 | BD28: =SUM(BA28:BC28) -> 0 | BH28: =SUM(BE28:BG28) -> 0 | BL28: =SUM(BI28:BK28) -> 0 | BP28: =SUM(BM28:BO28) -> 0 | BT28: =SUM(BQ28:BS28) -> 0 | BX28: =SUM(BU28:BW28) -> 0 | CB28: =SUM(BY28:CA28) -> 0 | CF28: =SUM(CC28:CE28) -> 0 | CJ28: =SUM(CG28:CI28) -> 0 | CK28: =(AW28*$F28+BA28*$G28+BE28*$H28+BI28*$I28+BM28*$J28+BQ28*$K28)/$Q28 -> #DIV/0! | CL28: =(AX28*$F28+BB28*$G28+BF28*$H28+BJ28*$I28+BN28*$J28+BR28*$K28)/$Q28 -> #DIV/0! | CM28: =(AY28*$F28+BC28*$G28+BG28*$H28+BK28*$I28+BO28*$J28+BS28*$K28)/$Q28 -> #DIV/0! | CN28: =SUM(CK28:CM28) -> #DIV/0! | CO28: =(AW28*$F28+BA28*$G28+BE28*$H28+BI28*$I28+BM28*$J28+BQ28*$K28+$L28*CG28+$M28*BU28+$N28*BY28+$O28*CC28)/SUM(Q28:S28) -> #DIV/0! | CP28: =(AX28*$F28+BB28*$G28+BF28*$H28+BJ28*$I28+BN28*$J28+BR28*$K28+$L28*CH28+$M28*BV28+$N28*BZ28+$O28*CD28)/SUM(Q28:S28) -> #DIV/0! | CQ28: =(AY28*$F28+BC28*$G28+BG28*$H28+BK28*$I28+BO28*$J28+BS28*$K28+$L28*CI28+$M28*BW28+$N28*CA28+$O28*CE28)/SUM(Q28:S28) -> #DIV/0! | CR28: =SUM(CO28:CQ28) -> #DIV/0!
B29: Total Tunisia | C29: =SUM(C5:C28) -> 0 | D29: =SUM(D5:D28) -> 0 | E29: =SUM(E5:E28) -> 0 | F29: =SUM(F5:F28) -> 0 | G29: =SUM(G5:G28) -> 0 | H29: =SUM(H5:H28) -> 0 | I29: =SUM(I5:I28) -> 0 | J29: =SUM(J5:J28) -> 0 | ... Q29: =SUM(Q5:Q28) -> 0 | R29: =SUM(L29:N29) -> 0 | S29: =O29 -> 0 | T29: =SUM(Q29:S29) -> 0 | U29: =P29 -> 0 | V29: =SUM(V5:V28) -> 0 | W29: =SUM(W5:W28) -> 0 | X29: =SUM(X5:X28) -> 0 | Y29: =SUM(Y5:Y28) -> 0 | Z29: =SUM(Z5:Z28) -> 0 | AA29: =SUM(AA5:AA28) -> 0 | AB29: =SUM(AB5:AB28) -> 0 | AC29: =SUM(AC5:AC28) -> 0 | ... AG29: =SUM(AG5:AG28) -> 0 | AH29: =SUM(AC29:AE29) -> 0 | AI29: =AF29 -> 0 | AJ29: =SUM(AJ5:AJ28) -> 0 | AK29: =SUMPRODUCT(AK5:AK28,F5:F28)/F29 -> #DIV/0! | AL29: =SUMPRODUCT(AL5:AL28,G5:G28)/G29 -> #DIV/0! | AM29: =SUMPRODUCT(AM5:AM28,H5:H28)/H29 -> #DIV/0! | AN29: =SUMPRODUCT(AN5:AN28,I5:I28)/I29 -> #DIV/0! | AO29: =SUMPRODUCT(AO5:AO28,J5:J28)/J29 -> #DIV/0! | AP29: =SUMPRODUCT(AP5:AP28,K5:K28)/K29 -> #DIV/0! | AQ29: =SUMPRODUCT(AQ5:AQ28,L5:L28)/L29 -> #DIV/0! | AR29: =SUMPRODUCT(AR5:AR28,M5:M28)/M29 -> #DIV/0! | ... AT29: =SUMPRODUCT(AT5:AT28,O5:O28)/O29 -> #DIV/0! | AU29: =SUMPRODUCT(AU5:AU28,Q5:Q28)/Q29 -> #DIV/0! | AV29: =SUMPRODUCT(AV5:AV28,V5:V28)/V29 -> #DIV/0! | AW29: =SUMPRODUCT($F$5:$F$28,AW5:AW28)/$F$29 -> #DIV/0! | AX29: =SUMPRODUCT($F$5:$F$28,AX5:AX28)/$F$29 -> #DIV/0! | AY29: =SUMPRODUCT($F$5:$F$28,AY5:AY28)/$F$29 -> #DIV/0! | AZ29: =SUMPRODUCT($F$5:$F$28,AZ5:AZ28)/$F$29 -> #DIV/0! | BA29: =SUMPRODUCT($G$5:$G$28,BA5:BA28)/$G$29 -> #DIV/0! | BB29: =SUMPRODUCT($G$5:$G$28,BB5:BB28)/$G$29 -> #DIV/0! | BC29: =SUMPRODUCT($G$5:$G$28,BC5:BC28)/$G$29 -> #DIV/0! | BD29: =SUMPRODUCT($G$5:$G$28,BD5:BD28)/$G$29 -> #DIV/0! | BE29: =SUMPRODUCT($H$5:$H$28,BE5:BE28)/$H$29 -> #DIV/0! | BF29: =SUMPRODUCT($H$5:$H$28,BF5:BF28)/$H$29 -> #DIV/0! | BG29: =SUMPRODUCT($H$5:$H$28,BG5:BG28)/$H$29 -> #DIV/0! | BH29: =SUMPRODUCT($H$5:$H$28,BH5:BH28)/$H$29 -> #DIV/0! | BI29: =SUMPRODUCT($I$5:$I$28,BI5:BI28)/$I$29 -> #DIV/0! | BJ29: =SUMPRODUCT($I$5:$I$28,BJ5:BJ28)/$I$29 -> #DIV/0! | BK29: =SUMPRODUCT($I$5:$I$28,BK5:BK28)/$I$29 -> #DIV/0! | BL29: =SUMPRODUCT($I$5:$I$28,BL5:BL28)/$I$29 -> #DIV/0! | BM29: =SUMPRODUCT($J$5:$J$28,BI5:BI28)/$J$29 -> #DIV/0! | BN29: =SUMPRODUCT($J$5:$J$28,BJ5:BJ28)/$J$29 -> #DIV/0! | BO29: =SUMPRODUCT($J$5:$J$28,BK5:BK28)/$J$29 -> #DIV/0! | BP29: =SUMPRODUCT($J$5:$J$28,BL5:BL28)/$J$29 -> #DIV/0! | BQ29: =SUMPRODUCT($K$5:$K$28,BQ5:BQ28)/$K$29 -> #DIV/0! | BR29: =SUMPRODUCT($K$5:$K$28,BR5:BR28)/$K$29 -> #DIV/0! | BS29: =SUMPRODUCT($K$5:$K$28,BS5:BS28)/$K$29 -> #DIV/0! | BT29: =SUMPRODUCT($K$5:$K$28,BT5:BT28)/$K$29 -> #DIV/0! | BU29: =SUMPRODUCT($L$5:$L$28,BU5:BU28)/$L$29 -> #DIV/0! | BV29: =SUMPRODUCT($L$5:$L$28,BV5:BV28)/$L$29 -> #DIV/0! | BW29: =SUMPRODUCT($L$5:$L$28,BW5:BW28)/$L$29 -> #DIV/0! | BX29: =SUMPRODUCT($L$5:$L$28,BX5:BX28)/$L$29 -> #DIV/0! | BY29: =SUMPRODUCT($L$5:$L$28,BY5:BY28)/$L$29 -> #DIV/0! | BZ29: =SUMPRODUCT($L$5:$L$28,BZ5:BZ28)/$L$29 -> #DIV/0! | CA29: =SUMPRODUCT($L$5:$L$28,CA5:CA28)/$L$29 -> #DIV/0! | CB29: =SUMPRODUCT($L$5:$L$28,CB5:CB28)/$L$29 -> #DIV/0! | ... CF29: =SUMPRODUCT($L$5:$L$28,CF5:CF28)/$L$29 -> #DIV/0! | CG29: =SUMPRODUCT($O$5:$O$28,CG5:CG28)/$O$29 -> #DIV/0! | CH29: =SUMPRODUCT($O$5:$O$28,CH5:CH28)/$O$29 -> #DIV/0! | CI29: =SUMPRODUCT($O$5:$O$28,CI5:CI28)/$O$29 -> #DIV/0! | CJ29: =SUMPRODUCT($O$5:$O$28,CJ5:CJ28)/$O$29 -> #DIV/0! | CK29: =SUMPRODUCT($Q$5:$Q$28,CK5:CK28)/$Q$29 -> #DIV/0! | CL29: =SUMPRODUCT($Q$5:$Q$28,CL5:CL28)/$Q$29 -> #DIV/0! | CM29: =SUMPRODUCT($Q$5:$Q$28,CM5:CM28)/$Q$29 -> #DIV/0! | CN29: =SUMPRODUCT($Q$5:$Q$28,CN5:CN28)/$Q$29 -> #DIV/0! | CO29: =SUMPRODUCT($T$5:$T$28,CO5:CO28)/$T$29 -> #DIV/0! | CP29: =SUMPRODUCT($T$5:$T$28,CP5:CP28)/$T$29 -> #DIV/0! | CQ29: =SUMPRODUCT($T$5:$T$28,CQ5:CQ28)/$T$29 -> #DIV/0! | CR29: =SUMPRODUCT($T$5:$T$28,CR5:CR28)/$T$29 -> #DIV/0! | CS29: =SUM(CO29:CQ29)=CR29 -> #DIV/0!
B30: % of total | C30: =C29/$E$29 -> #DIV/0! | D30: =D29/$E$29 -> #DIV/0! | E30: =E29/$E$29 -> #DIV/0! | F30: =F29/$Q$29 -> #DIV/0! | G30: =G29/$Q$29 -> #DIV/0! | H30: =H29/$Q$29 -> #DIV/0! | I30: =I29/$Q$29 -> #DIV/0! | K30: =K29/$Q$29 -> #DIV/0! | L30: =L29/$V$29 -> #DIV/0! | M30: =M29/$V$29 -> #DIV/0! | N30: =N29/$V$29 -> #DIV/0! | O30: =O29/$V$29 -> #DIV/0! | P30: =P29/$V$29 -> #DIV/0! | Q30: =Q29/$V$29 -> #DIV/0! | R30: =R29/$V$29 -> #DIV/0! | S30: =S29/$V$29 -> #DIV/0! | U30: =U29/$V$29 -> #DIV/0! | V30: =V29/$V$29 -> #DIV/0! | W30: =W29/$AG$29 -> #DIV/0! | X30: =X29/$AG$29 -> #DIV/0! | Y30: =Y29/$AG$29 -> #DIV/0! | Z30: =Z29/$AG$29 -> #DIV/0! | AB30: =AB29/$AG$29 -> #DIV/0! | AD30: Total forest stock (tons)= | AF30: =AE1*O29 -> 0 | AG30: Average yield (ton/ha) | CN30: =ABS(CN29-100%)<0.1% -> #DIV/0!
Q31: =Q29/SUM($Q$29:$S$29) -> #DIV/0! | R31: =R29/SUM($Q$29:$S$29) -> #DIV/0! | S31: =S29/SUM($Q$29:$S$29) -> #DIV/0! | V31: =SUM(T29:U29)=V29 -> TRUE | AA31: Total forest and shrub harvest in forest, prairies, and agrosylvopastoral (tons) | AF31: 1221131.7 | AG31: =AG29/Q29 -> #DIV/0! | AH31: =AH29/R29 -> #DIV/0! | AI31: =AI29/S29 -> #DIV/0! | AJ31: =AJ29/SUM(Q29:S29) -> #DIV/0! | AL31: =AJ29/'Yield-data'!O59 -> #DIV/0!
H32: Vegetable production | R32: Total area of Tunisia from official statistics = | V32: 16361000 | AD32: Annual harvest rate (%)= | AF32: =AF31/AF30 -> #DIV/0! | AJ32: =ABS(SUM(W29:AF29)-AJ29)<1 -> TRUE
H33: Early season | R33: Discripancy = | V33: =V29-V32 -> -16361000
H34: In season | M34: Share of the 5 Southern provinces in total rangeland area (%) = | R34: =SUM(R24:R28)/R29 -> #DIV/0!
H35: Late season
H36: Total | I36: =SUM(I33:I35) -> 0
H38: Double counted area= | J38: =I33+I35 -> 0

Sheet Yield-data
A3: No. | B3: Province | C3: Average yield (ton/ha)
C4: Cereals | D4: Legumes | E4: Vegetables | F4: Fruits | G4: Cultivated annual forages | H4: Alfalafa | I4: Pastoral areas | J4: Prairies | K4: Sylvo pastoral areas | L4: Forests and shrubs | M4: Average crop yield | N4: Average forage yield in rangelands | O4: Average yield (all lands)
A5: 1 | B5: Tunis | C5: =IFERROR('Area&production data'!W5/'Area&production data'!F5,0) -> 0 | D5: =IFERROR('Area&production data'!X5/'Area&production data'!G5,0) -> 0 | E5: =IFERROR('Area&production data'!Y5/'Area&production data'!H5,0) -> 0 | F5: =IFERROR('Area&production data'!Z5/'Area&production data'!I5,0) -> 0 | G5: =IFERROR('Area&production data'!AA5/'Area&production data'!J5,0) -> 0 | H5: =IFERROR('Area&production data'!AB5/'Area&production data'!K5,0) -> 0 | I5: =IFERROR('Area&production data'!AC5/'Area&production data'!L5,0) -> 0 | J5: =IFERROR('Area&production data'!AD5/'Area&production data'!M5,0) -> 0 | ... L5: =IFERROR('Area&production data'!AF5/'Area&production data'!O5,0) -> 0 | M5: =IFERROR('Area&production data'!AG5/'Area&production data'!Q5,"") | N5: =SUMPRODUCT(I5:K5,'Area&production data'!L5:N5)/SUM('Area&production data'!L5:N5) -> #DIV/0! | O5: =IFERROR('Area&production data'!AH5/'Area&production data'!R5,"")
A6: 2 | B6: Ariana | C6: =IFERROR('Area&production data'!W6/'Area&production data'!F6,0) -> 0 | D6: =IFERROR('Area&production data'!X6/'Area&production data'!G6,0) -> 0 | E6: =IFERROR('Area&production data'!Y6/'Area&production data'!H6,0) -> 0 | F6: =IFERROR('Area&production data'!Z6/'Area&production data'!I6,0) -> 0 | G6: =IFERROR('Area&production data'!AA6/'Area&production data'!J6,0) -> 0 | H6: =IFERROR('Area&production data'!AB6/'Area&production data'!K6,0) -> 0 | I6: =IFERROR('Area&production data'!AC6/'Area&production data'!L6,0) -> 0 | J6: =IFERROR('Area&production data'!AD6/'Area&production data'!M6,0) -> 0 | ... L6: =IFERROR('Area&production data'!AF6/'Area&production data'!O6,0) -> 0 | M6: =IFERROR('Area&production data'!AG6/'Area&production data'!Q6,"") | N6: =SUMPRODUCT(I6:K6,'Area&production data'!L6:N6)/SUM('Area&production data'!L6:N6) -> #DIV/0! | O6: =IFERROR('Area&production data'!AH6/'Area&production data'!R6,"")
A7: 3 | B7: La Manouba | C7: =IFERROR('Area&production data'!W7/'Area&production data'!F7,0) -> 0 | D7: =IFERROR('Area&production data'!X7/'Area&production data'!G7,0) -> 0 | E7: =IFERROR('Area&production data'!Y7/'Area&production data'!H7,0) -> 0 | F7: =IFERROR('Area&production data'!Z7/'Area&production data'!I7,0) -> 0 | G7: =IFERROR('Area&production data'!AA7/'Area&production data'!J7,0) -> 0 | H7: =IFERROR('Area&production data'!AB7/'Area&production data'!K7,0) -> 0 | I7: =IFERROR('Area&production data'!AC7/'Area&production data'!L7,0) -> 0 | J7: =IFERROR('Area&production data'!AD7/'Area&production data'!M7,0) -> 0 | ... L7: =IFERROR('Area&production data'!AF7/'Area&production data'!O7,0) -> 0 | M7: =IFERROR('Area&production data'!AG7/'Area&production data'!Q7,"") | N7: =SUMPRODUCT(I7:K7,'Area&production data'!L7:N7)/SUM('Area&production data'!L7:N7) -> #DIV/0! | O7: =IFERROR('Area&production data'!AH7/'Area&production data'!R7,"")
A8: 4 | B8: Ben Arous | C8: =IFERROR('Area&production data'!W8/'Area&production data'!F8,0) -> 0 | D8: =IFERROR('Area&production data'!X8/'Area&production data'!G8,0) -> 0 | E8: =IFERROR('Area&production data'!Y8/'Area&production data'!H8,0) -> 0 | F8: =IFERROR('Area&production data'!Z8/'Area&production data'!I8,0) -> 0 | G8: =IFERROR('Area&production data'!AA8/'Area&production data'!J8,0) -> 0 | H8: =IFERROR('Area&production data'!AB8/'Area&production data'!K8,0) -> 0 | I8: =IFERROR('Area&production data'!AC8/'Area&production data'!L8,0) -> 0 | J8: =IFERROR('Area&production data'!AD8/'Area&production data'!M8,0) -> 0 | ... L8: =IFERROR('Area&production data'!AF8/'Area&production data'!O8,0) -> 0 | M8: =IFERROR('Area&production data'!AG8/'Area&production data'!Q8,"") | N8: =SUMPRODUCT(I8:K8,'Area&production data'!L8:N8)/SUM('Area&production data'!L8:N8) -> #DIV/0! | O8: =IFERROR('Area&production data'!AH8/'Area&production data'!R8,"")
A9: 5 | B9: Nabeul | C9: =IFERROR('Area&production data'!W9/'Area&production data'!F9,0) -> 0 | D9: =IFERROR('Area&production data'!X9/'Area&production data'!G9,0) -> 0 | E9: =IFERROR('Area&production data'!Y9/'Area&production data'!H9,0) -> 0 | F9: =IFERROR('Area&production data'!Z9/'Area&production data'!I9,0) -> 0 | G9: =IFERROR('Area&production data'!AA9/'Area&production data'!J9,0) -> 0 | H9: =IFERROR('Area&production data'!AB9/'Area&production data'!K9,0) -> 0 | I9: =IFERROR('Area&production data'!AC9/'Area&production data'!L9,0) -> 0 | J9: =IFERROR('Area&production data'!AD9/'Area&production data'!M9,0) -> 0 | ... L9: =IFERROR('Area&production data'!AF9/'Area&production data'!O9,0) -> 0 | M9: =IFERROR('Area&production data'!AG9/'Area&production data'!Q9,"") | N9: =SUMPRODUCT(I9:K9,'Area&production data'!L9:N9)/SUM('Area&production data'!L9:N9) -> #DIV/0! | O9: =IFERROR('Area&production data'!AH9/'Area&production data'!R9,"")
A10: 6 | B10: Bizerte | C10: =IFERROR('Area&production data'!W10/'Area&production data'!F10,0) -> 0 | D10: =IFERROR('Area&production data'!X10/'Area&production data'!G10,0) -> 0 | E10: =IFERROR('Area&production data'!Y10/'Area&production data'!H10,0) -> 0 | F10: =IFERROR('Area&production data'!Z10/'Area&production data'!I10,0) -> 0 | G10: =IFERROR('Area&production data'!AA10/'Area&production data'!J10,0) -> 0 | H10: =IFERROR('Area&production data'!AB10/'Area&production data'!K10,0) -> 0 | I10: =IFERROR('Area&production data'!AC10/'Area&production data'!L10,0) -> 0 | J10: =IFERROR('Area&production data'!AD10/'Area&production data'!M10,0) -> 0 | ... L10: =IFERROR('Area&production data'!AF10/'Area&production data'!O10,0) -> 0 | M10: =IFERROR('Area&production data'!AG10/'Area&production data'!Q10,"") | N10: =SUMPRODUCT(I10:K10,'Area&production data'!L10:N10)/SUM('Area&production data'!L10:N10) -> #DIV/0! | O10: =IFERROR('Area&production data'!AH10/'Area&production data'!R10,"")
A11: 7 | B11: Zaghouan | C11: =IFERROR('Area&production data'!W11/'Area&production data'!F11,0) -> 0 | D11: =IFERROR('Area&production data'!X11/'Area&production data'!G11,0) -> 0 | E11: =IFERROR('Area&production data'!Y11/'Area&production data'!H11,0) -> 0 | F11: =IFERROR('Area&production data'!Z11/'Area&production data'!I11,0) -> 0 | G11: =IFERROR('Area&production data'!AA11/'Area&production data'!J11,0) -> 0 | H11: =IFERROR('Area&production data'!AB11/'Area&production data'!K11,0) -> 0 | I11: =IFERROR('Area&production data'!AC11/'Area&production data'!L11,0) -> 0 | J11: =IFERROR('Area&production data'!AD11/'Area&production data'!M11,0) -> 0 | ... L11: =IFERROR('Area&production data'!AF11/'Area&production data'!O11,0) -> 0 | M11: =IFERROR('Area&production data'!AG11/'Area&production data'!Q11,"") | N11: =SUMPRODUCT(I11:K11,'Area&production data'!L11:N11)/SUM('Area&production data'!L11:N11) -> #DIV/0! | O11: =IFERROR('Area&production data'!AH11/'Area&production data'!R11,"")
A12: 8 | B12: Béja | C12: =IFERROR('Area&production data'!W12/'Area&production data'!F12,0) -> 0 | D12: =IFERROR('Area&production data'!X12/'Area&production data'!G12,0) -> 0 | E12: =IFERROR('Area&production data'!Y12/'Area&production data'!H12,0) -> 0 | F12: =IFERROR('Area&production data'!Z12/'Area&production data'!I12,0) -> 0 | G12: =IFERROR('Area&production data'!AA12/'Area&production data'!J12,0) -> 0 | H12: =IFERROR('Area&production data'!AB12/'Area&production data'!K12,0) -> 0 | I12: =IFERROR('Area&production data'!AC12/'Area&production data'!L12,0) -> 0 | J12: =IFERROR('Area&production data'!AD12/'Area&production data'!M12,0) -> 0 | ... L12: =IFERROR('Area&production data'!AF12/'Area&production data'!O12,0) -> 0 | M12: =IFERROR('Area&production data'!AG12/'Area&production data'!Q12,"") | N12: =SUMPRODUCT(I12:K12,'Area&production data'!L12:N12)/SUM('Area&production data'!L12:N12) -> #DIV/0! | O12: =IFERROR('Area&production data'!AH12/'Area&production data'!R12,"")
